BEGIN:VCALENDAR
VERSION:2.0
PRODID:-// Steunpunt Zelfregie &amp; Herstel - ECPv6.15.20//NONSGML v1.0//EN
CALSCALE:GREGORIAN
METHOD:PUBLISH
X-ORIGINAL-URL:https://zelfregie-herstel.nl
X-WR-CALDESC:Evenementen voor  Steunpunt Zelfregie &amp; Herstel
REFRESH-INTERVAL;VALUE=DURATION:PT1H
X-Robots-Tag:noindex
X-PUBLISHED-TTL:PT1H
BEGIN:VTIMEZONE
TZID:Europe/Amsterdam
BEGIN:DAYLIGHT
TZOFFSETFROM:+0100
TZOFFSETTO:+0200
TZNAME:CEST
DTSTART:20230326T010000
END:DAYLIGHT
BEGIN:STANDARD
TZOFFSETFROM:+0200
TZOFFSETTO:+0100
TZNAME:CET
DTSTART:20231029T010000
END:STANDARD
BEGIN:DAYLIGHT
TZOFFSETFROM:+0100
TZOFFSETTO:+0200
TZNAME:CEST
DTSTART:20240331T010000
END:DAYLIGHT
BEGIN:STANDARD
TZOFFSETFROM:+0200
TZOFFSETTO:+0100
TZNAME:CET
DTSTART:20241027T010000
END:STANDARD
BEGIN:DAYLIGHT
TZOFFSETFROM:+0100
TZOFFSETTO:+0200
TZNAME:CEST
DTSTART:20250330T010000
END:DAYLIGHT
BEGIN:STANDARD
TZOFFSETFROM:+0200
TZOFFSETTO:+0100
TZNAME:CET
DTSTART:20251026T010000
END:STANDARD
END:VTIMEZONE
BEGIN:VEVENT
DTSTART;TZID=Europe/Amsterdam:20241121T100000
DTEND;TZID=Europe/Amsterdam:20241121T120000
DTSTAMP:20260425T170147
CREATED:20240402T193248Z
LAST-MODIFIED:20240402T193248Z
UID:10001143-1732183200-1732190400@zelfregie-herstel.nl
SUMMARY:Ervaringsdeskundigheid Training
DESCRIPTION:Je leert hoe jij jouw persoonlijke ervaringen met (mentale) uitdagingen\, in kan zetten voor anderen. \nIedereen met ervaringen met psycho-sociale problemen en nu stabiel functioneert \nTaal: Nederlands\nAanmelden via: m.jezequel@zelfregie-herstel.nl
URL:https://zelfregie-herstel.nl/agenda/ervaringsdeskundigheid-training/2024-11-21/
CATEGORIES:Groepsbijeenkomst,Training
ATTACH;FMTTYPE=image/jpeg:https://zelfregie-herstel.nl/wp-content/uploads/Ervaringsdeskundige_002-scaled-e1764936604423.jpg
ORGANIZER;CN="Maiwenn":MAILTO:m.jezequel@zelfregie-herstel.nl
END:VEVENT
BEGIN:VEVENT
DTSTART;TZID=Europe/Amsterdam:20241121T100000
DTEND;TZID=Europe/Amsterdam:20241121T120000
DTSTAMP:20260425T170147
CREATED:20240924T115857Z
LAST-MODIFIED:20241113T182621Z
UID:10001420-1732183200-1732190400@zelfregie-herstel.nl
SUMMARY:Mijn Herstel Moodboard
DESCRIPTION:Inhoud\n\nDoor te werken aan een eigen persoonlijke moodboard\, kan je op een prachtige en inspirerende manier je eigen gevoelens en persoonlijke verhalen delen! Creativiteit kan echt een krachtig hulpmiddel zijn voor zelfexpressie en herstel. Een collage maken is een geweldige manier om visueel te verkennen wat jou inspireert\, blij maakt en hoop geeft. Vervolgens ben je welkom om je eigen moodboard te delen met anderen in de groep. Daarnaast bestaat de mogelijkheid om met elkaar in gesprek te gaan.\n  \n\n\nDoelgroep\nVoor iedereen!\n\n  \nPraktisch\nDonderdagochtend 21 november van 10:00 tot 12:00 uur \n\n\n\nLocatie\nDeze workshop zal plaatvinden bij Steunpunt Zelfregie & Herstel in Utrecht. \n\n\n\nAdres\nKaatstraat 18\, 3513 BJ Utrecht \n\n\n\nVind je deze workshop interessant? Kom dan ook!\nAan deelname zijn geen kosten verbonden.\nMocht je onverwachts verhinderd zijn\, horen wij dat graag 48 uur voor de start van de workshop. \n\n\n\nTrainer\nDeze workshop wordt verzorgd door Margarita\, ervaringsdeskundige bij Steunpunt Zelfregie & Herstel.
URL:https://zelfregie-herstel.nl/agenda/mijn-gereedschapskist-collage-2/2024-11-21/
LOCATION:Locatie Utrecht\, Kaatstraat 18\, Utrecht\, Utrecht\, 3513 BK\, Nederland
CATEGORIES:Groepsbijeenkomst,Workshop
ATTACH;FMTTYPE=image/jpeg:https://zelfregie-herstel.nl/wp-content/uploads/1000056412-e1764937116445.jpg
ORGANIZER;CN="Margarita":MAILTO:steunpunt@zelfregie-herstel.nl
END:VEVENT
BEGIN:VEVENT
DTSTART;TZID=Europe/Amsterdam:20241121T100000
DTEND;TZID=Europe/Amsterdam:20241121T123000
DTSTAMP:20260425T170147
CREATED:20240731T084039Z
LAST-MODIFIED:20240806T133904Z
UID:10001354-1732183200-1732192200@zelfregie-herstel.nl
SUMMARY:Training ervaringsdeskundigheid
DESCRIPTION:Over de training\n\n\nWil je leren hoe je jouw eigen ervaringen kunt inzetten om anderen te helpen met hun herstel? \nTijdens de training ervaringsdeskundigheid ontdek je de verschillende waarden die ervaringsdeskundigheid vormen en wat ervaringsdeskundigheid precies inhoudt. Je leert hoe je jouw eigen ervaringen met psychische ontwrichting kunt inzetten om anderen te helpen en hoe je jouw herstelverhaal en ervaringsdeskundigheid kunt vormgeven. Samen met je groepsleden deel je vervolgens je unieke herstelverhalen\, waarin jullie ongetwijfeld herkenning zullen vinden. \n  \nDe training bestaat uit 10 bijeenkomsten die wekelijks op donderdag plaatsvinden. \n\n  \nGoed om te weten!\n\nAdres: Kaatstraat 18\, 3513 BK Utrecht\nGratis toegang\n10 minuten van tevoren aanwezig zijn\nMinimaal aantal deelnemers: 4\nMaximaal aantal deelnemers: 8\nAanmelding via steunpunt@zelfregie-herstel.nl\n\n\n 
URL:https://zelfregie-herstel.nl/agenda/training-ervaringsdeskundigheid/2024-11-21/
CATEGORIES:Training
ATTACH;FMTTYPE=image/png:https://zelfregie-herstel.nl/wp-content/uploads/Scherm­afbeelding-2024-05-01-om-17.35.22-e1764943111321.png
ORGANIZER;CN="Maiwenn":MAILTO:m.jezequel@zelfregie-herstel.nl
END:VEVENT
BEGIN:VEVENT
DTSTART;TZID=Europe/Amsterdam:20241121T133000
DTEND;TZID=Europe/Amsterdam:20241121T153000
DTSTAMP:20260425T170147
CREATED:20240801T122656Z
LAST-MODIFIED:20241217T140739Z
UID:10001360-1732195800-1732203000@zelfregie-herstel.nl
SUMMARY:Samen in verbinding
DESCRIPTION:Inhoud\nDeze bijeenkomsten zijn bedoeld om op een rustige en laagdrempelige manier in verbinding te komen met jezelf en met anderen. We beginnen de bijeenkomst met eenvoudige meditatieve oefeningen. Dit helpt je om even tot rust te komen\, ruimte in je hoofd te maken en je open te stellen voor alles wat er komt. Daarna doen we een korte voorstelronde\, waarin je kunt delen hoe het met je gaat en wat er op dit moment bij je speelt. Vervolgens delen we om de beurt iets over een gekozen thema. Iedereen kan dit delen op een manier die goed voelt voor hem of haar. Na ongeveer 45-60 minuten ronden we de bijeenkomst af met weer enkele rustige meditatieve oefeningen. Dit helpt je om alles wat we besproken hebben zachtjes in je lichaam en geest te laten zakken. Als je wilt\, kun je na afloop met de andere deelnemers nog even (na)praten. Deze bijeenkomsten bieden een veilige en rustige ruimte om jezelf te zijn en verbinding te maken met anderen. \n  \nDoelgroep\nVoor iedereen! \n  \nPraktisch\nDe workshop zal plaatsvinden bij Steunpunt Zelfregie & Herstel\nop de volgende data:\n21 november – onzekerheid\n5 december – eenzaamheid \n  \nAdres\nKaatstraat 18\, 3513 BK Utrecht\nWij zijn het best bereikbaar per fiets\, scooter of OV. Parkeren in de buurt is mogelijk\, maar wel betaald. \n  \nVind je deze workshop interessant? Kom dan ook!\nAan deelname zijn geen kosten verbonden.\nMocht je onverwachts verhinderd zijn\, horen wij dat graag 48 uur voor de start van de workshop. \n  \nTrainer\nDeze workshop wordt verzorgd door Doreen en Vincent\, ervaringsdeskundigen bij Steunpunt Zelfregie & Herstel.
URL:https://zelfregie-herstel.nl/agenda/samen-in-verbinding/2024-11-21/
CATEGORIES:Groepsbijeenkomst,Workshop
ATTACH;FMTTYPE=image/jpeg:https://zelfregie-herstel.nl/wp-content/uploads/team-4529717_1280.jpg
ORGANIZER;CN="Vincent":MAILTO:v.greeven@zelfregie-herstel.nl
END:VEVENT
END:VCALENDAR