BEGIN:VCALENDAR
VERSION:2.0
PRODID:-// Steunpunt Zelfregie &amp; Herstel - ECPv6.15.20//NONSGML v1.0//EN
CALSCALE:GREGORIAN
METHOD:PUBLISH
X-WR-CALNAME: Steunpunt Zelfregie &amp; Herstel
X-ORIGINAL-URL:https://zelfregie-herstel.nl
X-WR-CALDESC:Evenementen voor  Steunpunt Zelfregie &amp; Herstel
REFRESH-INTERVAL;VALUE=DURATION:PT1H
X-Robots-Tag:noindex
X-PUBLISHED-TTL:PT1H
BEGIN:VTIMEZONE
TZID:Europe/Amsterdam
BEGIN:DAYLIGHT
TZOFFSETFROM:+0100
TZOFFSETTO:+0200
TZNAME:CEST
DTSTART:20230326T010000
END:DAYLIGHT
BEGIN:STANDARD
TZOFFSETFROM:+0200
TZOFFSETTO:+0100
TZNAME:CET
DTSTART:20231029T010000
END:STANDARD
BEGIN:DAYLIGHT
TZOFFSETFROM:+0100
TZOFFSETTO:+0200
TZNAME:CEST
DTSTART:20240331T010000
END:DAYLIGHT
BEGIN:STANDARD
TZOFFSETFROM:+0200
TZOFFSETTO:+0100
TZNAME:CET
DTSTART:20241027T010000
END:STANDARD
BEGIN:DAYLIGHT
TZOFFSETFROM:+0100
TZOFFSETTO:+0200
TZNAME:CEST
DTSTART:20250330T010000
END:DAYLIGHT
BEGIN:STANDARD
TZOFFSETFROM:+0200
TZOFFSETTO:+0100
TZNAME:CET
DTSTART:20251026T010000
END:STANDARD
END:VTIMEZONE
BEGIN:VEVENT
DTSTART;TZID=Europe/Amsterdam:20241203T160000
DTEND;TZID=Europe/Amsterdam:20241203T180000
DTSTAMP:20260425T135516
CREATED:20241128T102619Z
LAST-MODIFIED:20241128T102809Z
UID:10000753-1733241600-1733248800@zelfregie-herstel.nl
SUMMARY:Dag van de Vrijwilliger 2024
DESCRIPTION:Deze dag is voor jou! \nOp 7 december 2024 is het Dag van de Vrijwilliger 2024 en wordt er extra aandacht gegeven aan het werk van vrijwilligers. Lokale organisaties\, gemeenten en landelijke organisaties laten zien hoe belangrijk vrijwilligers zijn. \n  \nOmdat wij zaterdag gesloten zijn\, gaan wij dinsdag 3 december alle vrijwilligers van Steunpunt Zelfregie & Herstel in het zonnetje zetten. Vrijwilligerswerk is belangrijk. Jullie maken het verschil\, en daar zijn we trots op. Of je nu al lang vrijwilliger bent of net bent begonnen: deze dag is voor jullie! Zonder jullie inzet zou er zoveel minder mogelijk zijn. Daar staan we graag bij stil!  \n  \nWe hebben een leuke middag georganiseerd met warm welkom met koffie\, thee en lekkere hapjes. Mooie verhalen van vrijwilligers en  een speciaal moment om jullie te bedanken. \n  \nTijd\n16.00 – 18.00 uur\n \n  \nAdres\nSteunpunt Zelfregie & Herstel \nKaatstraat 18\, 3513 BK Utrecht \n  \nWe hopen je te zien op deze gezellige en feestelijke dag!
URL:https://zelfregie-herstel.nl/agenda/dag-van-de-vrijwilliger-2024/
LOCATION:Locatie Utrecht\, Kaatstraat 18\, Utrecht\, Utrecht\, 3513 BK\, Nederland
CATEGORIES:Groepsbijeenkomst
ATTACH;FMTTYPE=image/jpeg:https://zelfregie-herstel.nl/wp-content/uploads/This-is-your-day-scaled-e1732789562803.jpg
END:VEVENT
END:VCALENDAR