BEGIN:VCALENDAR
VERSION:2.0
PRODID:-// Steunpunt Zelfregie &amp; Herstel - ECPv6.15.20//NONSGML v1.0//EN
CALSCALE:GREGORIAN
METHOD:PUBLISH
X-WR-CALNAME: Steunpunt Zelfregie &amp; Herstel
X-ORIGINAL-URL:https://zelfregie-herstel.nl
X-WR-CALDESC:Evenementen voor  Steunpunt Zelfregie &amp; Herstel
REFRESH-INTERVAL;VALUE=DURATION:PT1H
X-Robots-Tag:noindex
X-PUBLISHED-TTL:PT1H
BEGIN:VTIMEZONE
TZID:Europe/Amsterdam
BEGIN:DAYLIGHT
TZOFFSETFROM:+0100
TZOFFSETTO:+0200
TZNAME:CEST
DTSTART:20230326T010000
END:DAYLIGHT
BEGIN:STANDARD
TZOFFSETFROM:+0200
TZOFFSETTO:+0100
TZNAME:CET
DTSTART:20231029T010000
END:STANDARD
BEGIN:DAYLIGHT
TZOFFSETFROM:+0100
TZOFFSETTO:+0200
TZNAME:CEST
DTSTART:20240331T010000
END:DAYLIGHT
BEGIN:STANDARD
TZOFFSETFROM:+0200
TZOFFSETTO:+0100
TZNAME:CET
DTSTART:20241027T010000
END:STANDARD
BEGIN:DAYLIGHT
TZOFFSETFROM:+0100
TZOFFSETTO:+0200
TZNAME:CEST
DTSTART:20250330T010000
END:DAYLIGHT
BEGIN:STANDARD
TZOFFSETFROM:+0200
TZOFFSETTO:+0100
TZNAME:CET
DTSTART:20251026T010000
END:STANDARD
END:VTIMEZONE
BEGIN:VEVENT
DTSTART;TZID=Europe/Amsterdam:20241206T130000
DTEND;TZID=Europe/Amsterdam:20241206T160000
DTSTAMP:20260425T135357
CREATED:20241113T111533Z
LAST-MODIFIED:20241127T155119Z
UID:10001425-1733490000-1733500800@zelfregie-herstel.nl
SUMMARY:Intentional Peer Support (overview sessie)
DESCRIPTION:Inhoud\nIPS (Intentional Peer Support) is anders dan traditionele hulpverlening. Bij IPS zien we de relatie niet als één persoon die de ander helpt\, maar als een samenwerking. Beide partijen leren en groeien samen. \nIPS gaat niet uit van een probleem. In plaats daarvan kijken we naar hoe we onze ervaringen betekenis hebben gegeven. Deze samenwerking helpt om nieuwe manieren van denken\, kijken en doen te ontdekken. IPS gebruikt een aanpak die gevoelig is voor trauma. We stellen niet de vraag: “Wat is er mis met je?” maar vragen: “Wat is er gebeurd?” \nIPS kijkt naar ons leven in de context van relaties en gemeenschappen. Het gaat niet alleen om individuele verantwoordelijkheid\, maar ook om hoe we elkaar kunnen steunen. Het helpt ons te richten op wat we willen bereiken\, in plaats van wat we willen vermijden. \nIPS draait om gesprekken. Het gaat over hoe we kennis delen en samen nieuwe ideeën creëren. Het gaat ook over verbinding – met onszelf\, de mensen om ons heen\, en de wereld. \nBen je nieuwsgierig naar IPS (Intentional Peer Support)\, dan ben je van harte welkom!  \n\nDoelgroep\nVoor iedereen! \n  \n  \nPraktisch\nVrijdagmiddag 6 december 13:00 tot 16:00 \n\n\nLocatie\nDeze workshop wordt gegeven bij Steunpunt Zelfregie & Herstel in Utrecht. \n\n\nAdres\nKaatstraat 18\, 3513BJ Utrecht \nWij zijn het best bereikbaar per fiets\, scooter of OV. Parkeren in de buurt is mogelijk\, maar wel betaald. \n  \nVind je deze workshop interessant? Kom dan ook! \nAan deelname zijn geen kosten verbonden. \nAanmelden is wenselijk via steunpunt@zelfregie-herstel.nl (t.a.v. Britt) \nMocht je onverwachts verhinderd zijn\, horen wij dat graag 48 uur voor de start van de workshop. \n\n\nTrainer\nDe Intentional Peer Support overview sessie wordt verzorgd door Cassandra\, ervaringsdeskundige bij Steunpunt Zelfregie & Herstel en ambassadeur Social Change.
URL:https://zelfregie-herstel.nl/agenda/intentional-peer-support-overview-sessie/
LOCATION:Locatie Utrecht\, Kaatstraat 18\, Utrecht\, Utrecht\, 3513 BK\, Nederland
CATEGORIES:Groepsbijeenkomst,Training
ATTACH;FMTTYPE=image/jpeg:https://zelfregie-herstel.nl/wp-content/uploads/ips_training-1.jpeg
END:VEVENT
END:VCALENDAR