BEGIN:VCALENDAR
VERSION:2.0
PRODID:-// Steunpunt Zelfregie &amp; Herstel - ECPv6.15.20//NONSGML v1.0//EN
CALSCALE:GREGORIAN
METHOD:PUBLISH
X-ORIGINAL-URL:https://zelfregie-herstel.nl
X-WR-CALDESC:Evenementen voor  Steunpunt Zelfregie &amp; Herstel
REFRESH-INTERVAL;VALUE=DURATION:PT1H
X-Robots-Tag:noindex
X-PUBLISHED-TTL:PT1H
BEGIN:VTIMEZONE
TZID:Europe/Amsterdam
BEGIN:DAYLIGHT
TZOFFSETFROM:+0100
TZOFFSETTO:+0200
TZNAME:CEST
DTSTART:20240331T010000
END:DAYLIGHT
BEGIN:STANDARD
TZOFFSETFROM:+0200
TZOFFSETTO:+0100
TZNAME:CET
DTSTART:20241027T010000
END:STANDARD
BEGIN:DAYLIGHT
TZOFFSETFROM:+0100
TZOFFSETTO:+0200
TZNAME:CEST
DTSTART:20250330T010000
END:DAYLIGHT
BEGIN:STANDARD
TZOFFSETFROM:+0200
TZOFFSETTO:+0100
TZNAME:CET
DTSTART:20251026T010000
END:STANDARD
BEGIN:DAYLIGHT
TZOFFSETFROM:+0100
TZOFFSETTO:+0200
TZNAME:CEST
DTSTART:20260329T010000
END:DAYLIGHT
BEGIN:STANDARD
TZOFFSETFROM:+0200
TZOFFSETTO:+0100
TZNAME:CET
DTSTART:20261025T010000
END:STANDARD
END:VTIMEZONE
BEGIN:VEVENT
DTSTART;TZID=Europe/Amsterdam:20250102T100000
DTEND;TZID=Europe/Amsterdam:20250102T120000
DTSTAMP:20260425T122320
CREATED:20240402T193248Z
LAST-MODIFIED:20240402T193248Z
UID:10001149-1735812000-1735819200@zelfregie-herstel.nl
SUMMARY:Ervaringsdeskundigheid Training
DESCRIPTION:Je leert hoe jij jouw persoonlijke ervaringen met (mentale) uitdagingen\, in kan zetten voor anderen. \nIedereen met ervaringen met psycho-sociale problemen en nu stabiel functioneert \nTaal: Nederlands\nAanmelden via: m.jezequel@zelfregie-herstel.nl
URL:https://zelfregie-herstel.nl/agenda/ervaringsdeskundigheid-training/2025-01-02/
CATEGORIES:Groepsbijeenkomst,Training
ATTACH;FMTTYPE=image/jpeg:https://zelfregie-herstel.nl/wp-content/uploads/Ervaringsdeskundige_002-scaled-e1764936604423.jpg
ORGANIZER;CN="Maiwenn":MAILTO:m.jezequel@zelfregie-herstel.nl
END:VEVENT
BEGIN:VEVENT
DTSTART;TZID=Europe/Amsterdam:20250102T100000
DTEND;TZID=Europe/Amsterdam:20250102T120000
DTSTAMP:20260425T122320
CREATED:20241126T144933Z
LAST-MODIFIED:20241126T150231Z
UID:10001439-1735812000-1735819200@zelfregie-herstel.nl
SUMMARY:Vrouwen & Verbinding - Nieuwjaarsontbijt in Zeist
DESCRIPTION:Inhoud\nHet oude jaar is voorbij en het nieuwe jaar begint. Dit is een mooi moment om samen het begin van het nieuwe jaar te vieren\, elkaar te inspireren en verbinding te maken. Op donderdag 2 januari 2025 organiseren wij een gezellig nieuwjaarsontbijt. Hier kunnen we samen beginnen met een positieve energie en frisse ideeën. \nHet ontbijt is een goede kans om elkaar te ontmoeten\, gezellig te praten en elkaar te steunen in alles wat het nieuwe jaar ons brengt. Of je nu op zoek bent naar inspiratie\, ontspanning of gewoon een fijne sfeer\, er is ruimte voor iedereen. \n  \nLaten we samen het nieuwe jaar starten met lekker eten\, veel nieuwe energie en een goed gesprek. Wij kijken ernaar uit om dit mooie jaar samen met jullie te beginnen! \n\n  \nDoelgroep\nVoor alle vrouwen in Zeist! \n\n  \n\nPraktisch\nJe bent van harte welkom op donderdag 2 januari van 10:00 tot 12:00 uur\nAan deelname zijn geen kosten verbonden.\nMocht je onverwachts verhinderd zijn\, horen wij dat graag 48 uur voor aanvang. \n\n\n  \nAdres\nSteunpunt Zelfregie & Herstel in Zeist\nLaan van Vollenhove\, ingang portiek 8 (L-Flat) Zeist.  \n\n  \n  \nOrganisator\nDeze ochtend wordt verzorgd door Asmae\, vrijwilliger bij Steunpunt Zelfregie & Herstel.
URL:https://zelfregie-herstel.nl/agenda/vrouwen-nieuwjaarsontbijt-zeist/
LOCATION:Locatie Zeist: Laan van Vollenhove – Portiek 8\, Laan van Vollenhove\, Zeist\, 3706 ER\, Nederland
CATEGORIES:Groepsbijeenkomst
ATTACH;FMTTYPE=image/jpeg:https://zelfregie-herstel.nl/wp-content/uploads/christmas-table-decoration-with-tortillas-croissa-2024-11-25-12-31-28-utc-scaled-e1732632549892.jpg
END:VEVENT
BEGIN:VEVENT
DTSTART;TZID=Europe/Amsterdam:20250102T133000
DTEND;TZID=Europe/Amsterdam:20250102T153000
DTSTAMP:20260425T122320
CREATED:20241126T150142Z
LAST-MODIFIED:20241127T121718Z
UID:10000751-1735824600-1735831800@zelfregie-herstel.nl
SUMMARY:Samen in verbinding - Voornemens en Obstakels
DESCRIPTION:Inhoud\nDeze bijeenkomsten zijn bedoeld om op een rustige en makkelijke manier in contact te komen met jezelf en anderen. We beginnen met eenvoudige meditatieve oefeningen. Dit helpt je om rustig te worden\, ruimte te maken in je hoofd en je open te stellen voor alles wat komt. Daarna doen we een korte voorstelronde\, waarin je kunt delen hoe het met je gaat en wat er op dit moment speelt. Vervolgens praten we om de beurt over een gekozen thema. Dit keer staat Samen in verbinding in het teken van het thema Voornemens en Obstakels.  Iedereen kan dit op zijn of haar eigen manier delen.  \nNa ongeveer 45-60 minuten sluiten we de bijeenkomst af met een paar rustige meditatieve oefeningen. Dit helpt je om alles wat we besproken hebben rustig in je lichaam en geest te laten zakken. Als je wilt\, kun je na afloop met de andere deelnemers nog even praten. \nDe bijeenkomsten bieden een veilige en rustige ruimte om jezelf te zijn en in contact te komen met anderen. \n\n\nDoelgroep\nVoor iedereen! \n\n\nPraktisch\nDe workshop zal plaatsvinden bij Steunpunt Zelfregie & Herstel in Utrecht. \n\n\nAdres\nKaatstraat 18\, 3513 BK Utrecht \nWij zijn het best bereikbaar per fiets\, scooter of OV. Parkeren in de buurt is mogelijk\, maar wel betaald. \n  \nVind je deze workshop interessant? Kom dan ook!\nAan deelname zijn geen kosten verbonden.\nMocht je onverwachts verhinderd zijn\, horen wij dat graag 48 uur voor de start van de workshop. \n\n\nTrainer\nDeze workshop wordt verzorgd door Doreen en Vincent\, ervaringsdeskundigen bij Steunpunt Zelfregie & Herstel. \n 
URL:https://zelfregie-herstel.nl/agenda/samen-in-verbinding-2/
LOCATION:Locatie Utrecht\, Kaatstraat 18\, Utrecht\, Utrecht\, 3513 BK\, Nederland
CATEGORIES:Groepsbijeenkomst
ATTACH;FMTTYPE=image/jpeg:https://zelfregie-herstel.nl/wp-content/uploads/team-4529717_1280.jpg
ORGANIZER;CN="Doreen":MAILTO:d.kapaan@zelfregie-herstel.nl
END:VEVENT
BEGIN:VEVENT
DTSTART;TZID=Europe/Amsterdam:20250102T190000
DTEND;TZID=Europe/Amsterdam:20250102T213000
DTSTAMP:20260425T122320
CREATED:20240402T185232Z
LAST-MODIFIED:20240402T185232Z
UID:10001100-1735844400-1735853400@zelfregie-herstel.nl
SUMMARY:Borderline Groep
DESCRIPTION:De peer supportgroep biedt mensen bekend met borderline problematiek steun en handvatten om met je uitdagingen om te gaan. \nGeorganiseerd extern door: Stichting Borderline\nDoelgroep:Volwassenen met borderline problematiek\nTaal: Nederlands\nAanmelden via: lotgenotencontact@stichtingborderline.nl \n\n\nMensen met Borderline persoonlijkheidsstoornis (kortweg BPS of Borderline) hebben last van sterke wisselingen in hun stemming\, gedachten en gedrag. Hierdoor lopen ze vaak vast in het dagelijks leven. Ze zeggen bijvoorbeeld plotseling hun baan op\, slagen er maar niet in om een opleiding af te maken of om vriendschappen en relaties te behouden. \n\n\n\n\nIemand met BPS heeft moeite om zijn emoties te beheersen en heeft vaak het gevoel dat die hem overspoelen. Een kleine tegenslag kan al leiden tot een intense woedeaanval of depressie. Deze onvoorspelbare stemmingswisselingen duren vaak een paar uur en bijna nooit langer dan een paar dagen. Iemand met Borderline reageert vaak impulsief en dat kan leiden tot negatieve gevolgen zoals geldverspilling\, alcohol- en drugsmisbruik\, instabiele (seksuele) contacten of eetbuien. Ook kan het zijn dat iemand met BPS zichzelf snijdt of op een andere manier beschadigt. \nMensen met Borderline zijn vaak bang om in de steek gelaten te worden en voelen zich snel afgewezen. Zij voelen zich eenzaam en hebben een wisselend beeld van zichzelf. Iemand met BPS weet soms niet meer wie hij nou eigenlijk is\, of wat hij voelt. BPS is erg pijnlijk voor degenen die het hebben\, maar ook voor de mensen die van hen houden.
URL:https://zelfregie-herstel.nl/agenda/borderline-groep/2025-01-02/
CATEGORIES:Groepsbijeenkomst,Lotgenotengroep
ATTACH;FMTTYPE=image/png:https://zelfregie-herstel.nl/wp-content/uploads/PersonalityDisorder-01-e1712083944746.png
END:VEVENT
END:VCALENDAR