BEGIN:VCALENDAR
VERSION:2.0
PRODID:-// Steunpunt Zelfregie &amp; Herstel - ECPv6.15.20//NONSGML v1.0//EN
CALSCALE:GREGORIAN
METHOD:PUBLISH
X-ORIGINAL-URL:https://zelfregie-herstel.nl
X-WR-CALDESC:Evenementen voor  Steunpunt Zelfregie &amp; Herstel
REFRESH-INTERVAL;VALUE=DURATION:PT1H
X-Robots-Tag:noindex
X-PUBLISHED-TTL:PT1H
BEGIN:VTIMEZONE
TZID:Europe/Amsterdam
BEGIN:DAYLIGHT
TZOFFSETFROM:+0100
TZOFFSETTO:+0200
TZNAME:CEST
DTSTART:20240331T010000
END:DAYLIGHT
BEGIN:STANDARD
TZOFFSETFROM:+0200
TZOFFSETTO:+0100
TZNAME:CET
DTSTART:20241027T010000
END:STANDARD
BEGIN:DAYLIGHT
TZOFFSETFROM:+0100
TZOFFSETTO:+0200
TZNAME:CEST
DTSTART:20250330T010000
END:DAYLIGHT
BEGIN:STANDARD
TZOFFSETFROM:+0200
TZOFFSETTO:+0100
TZNAME:CET
DTSTART:20251026T010000
END:STANDARD
BEGIN:DAYLIGHT
TZOFFSETFROM:+0100
TZOFFSETTO:+0200
TZNAME:CEST
DTSTART:20260329T010000
END:DAYLIGHT
BEGIN:STANDARD
TZOFFSETFROM:+0200
TZOFFSETTO:+0100
TZNAME:CET
DTSTART:20261025T010000
END:STANDARD
END:VTIMEZONE
BEGIN:VEVENT
DTSTART;TZID=Europe/Amsterdam:20250407T093000
DTEND;TZID=Europe/Amsterdam:20250407T120000
DTSTAMP:20260425T061308
CREATED:20240402T173328Z
LAST-MODIFIED:20250728T140407Z
UID:10000968-1744018200-1744027200@zelfregie-herstel.nl
SUMMARY:Vrouwen & Verbinding - Arabisch / Berbers (Utrecht\, Pratumplaats)
DESCRIPTION:Over Arabische Vrouwengroep\nElke maandag en woensdag\, onder het genot van een kopje thee/koffie is er een Arabische Vrouwengroep.\nArabisch sprekende vrouwen komen bij elkaar om verschillende onderwerpen te bespreken die hun dagelijks\nbezighouden. Deze onderwerpen kunnen zijn: \n  \n– Stress\n– Depressie\n– Trauma\n– Rouw\n– Eenzaamheid\n– Huizelijk Geweld\n– Identiteit\n– Het veranderen van identiteit\n– Cultuur- en cultuurverschillen\n– Zorgsysteem in Nederland \n  \nHet is een veilige plek waar jij als vrouw\, in eigen taal en uitdrukkingen\, jouw gevoel en ervaringen kan verwoorden.\nWaar gezelligheid gecombineerd wordt met serieuze onderwerpen.\n \nJe krijgt advies over hoe je een eigen weg kan vinden in onze samenleving. Je krijgt tips over hoe je makkelijker de goede zorg kan krijgen.\nJe mag zelf aangeven waar je meer over wil weten\, over jouw rechten en het stellen van eigen grenzen.   \n  \n“De vrouwengroep versterkt de verbinding tussen vrouwen en ze leren om in hun eigen kracht te geloven\, dat kan door herkenning en erkenning.\nVanuit het Steunpunt Zelfregie & Herstel worden trainingen voor vrouwen zoals EHBO geregeld en taalessen Nederlands aangeboden.\nDe vrouwengroep is een eye-opener als het gaat om belangrijke begrippen die door de sociale normen in andere culturen niet bespreekbaar zijn.”  \n  \nBen jij geinteressed? Kom ook! \nDeze groep is bedoeld voor vrouwen met een migratieachtergrond.\nDe groep wordt gehouden op maandag en woensdag. \n\n  \nGoed om te weten!\n\nAan deelname zijn géén kosten verbonden\nAanmelden via: steunpunt@zelfregie-herstel.nl\nTaal: Arabisch\, Nederlands\nAdres: Pratumplaats 3\, 3454 NA Utrecht\nTel: 030 – 236 93 20\n\n 
URL:https://zelfregie-herstel.nl/agenda/vrouwengroep-zelfregie-en-herstel-arabisch-berbers-leidsche-rijn/2025-04-07/
LOCATION:Locatie Utrecht: Leidsche Rijn\, Pratumplaats 3\, Utrecht\, 3454 NA\, Nederland
CATEGORIES:Groepsbijeenkomst,Lotgenotengroep
ATTACH;FMTTYPE=image/png:https://zelfregie-herstel.nl/wp-content/uploads/VrouwenenVerbindingWH-e1764776267336.png
ORGANIZER;CN="Malika":MAILTO:steunpunt@zelfregie-herstel.nl
END:VEVENT
BEGIN:VEVENT
DTSTART;TZID=Europe/Amsterdam:20250407T100000
DTEND;TZID=Europe/Amsterdam:20250407T123000
DTSTAMP:20260425T061308
CREATED:20240402T173715Z
LAST-MODIFIED:20250410T125740Z
UID:10001058-1744020000-1744029000@zelfregie-herstel.nl
SUMMARY:Vrouwen & Verbinding - Turks (Utrecht\, Kaatstraat)
DESCRIPTION:Inhoud\nElke maandag is er een Turkssprekende vrouwengroep.\nSamen drinken we een kopje thee of koffie en praten we over verschillende onderwerpen die belangrijk voor ons zijn. We praten over dingen zoals:\n  \n\nStress\nDepressie\nTrauma\nRouw\nEenzaamheid\nHuiselijk geweld\nIdentiteit\nCultuur en cultuurverschillen\nHet zorgsysteem in Nederland\n\n  \nHet is een plek waar jij je veilig voelt. Je kunt in je eigen taal praten over je gevoelens en ervaringen. Het is een groep waar we zowel gezellig praten als serieuze onderwerpen bespreken. We geven advies over hoe je je weg kunt vinden in de samenleving. Je krijgt tips over hoe je de zorg beter kunt krijgen en wat jouw rechten zijn. Ook leer je hoe je grenzen kunt stellen. In de groep versterk je jezelf en voel jij je sterker. Je merkt dat je niet alleen bent. Samen leren we van elkaar en helpen we elkaar om in onze eigen kracht te geloven. Vanuit het Steunpunt Zelfregie & Herstel worden er ook trainingen georganiseerd\, zoals EHBO\, en taallessen Nederlands. Dit helpt je om meer te leren en je goed te voelen in Nederland. De vrouwengroep helpt je om belangrijke onderwerpen bespreekbaar te maken\, ook als dat in je cultuur niet altijd makkelijk is. Kom gerust langs! Je bent altijd welkom. \n  \n  \nDoelgroep\nVrouwen van Turkse afkomst \n  \n  \nPraktisch\nIedere maandag van 10:00 tot 12:30 komt de groep bij elkaar. Tijdens de groep\, wordt er Turks gesproken. \n  \n  \nLocatie\nDe groep komt elke week bij elkaar bij Steunpunt Zelfregie & Herstel in Utrecht \n  \n  \nAdres\nKaatstraat 18\, 3513 BK Utrecht \n  \n  \nVind je deze workshop interessant? Kom dan ook!\nAan deelname zijn geen kosten verbonden.\nAanmelden via steunpunt@zelfregie-herstel.nl (T.A.V. Britt)\nMocht je onverwachts verhinderd zijn\, horen wij dat graag 48 uur voor de start van de workshop. \n  \n  \nTrainer\nDeze workshop wordt verzorgd door Hulya\, een ervaringsdeskundige van Turkse afkomst bij Steunpunt Zelfregie & Herstel.
URL:https://zelfregie-herstel.nl/agenda/vrouwengroep-turks/2025-04-07/
LOCATION:Locatie Utrecht\, Kaatstraat 18\, Utrecht\, Utrecht\, 3513 BK\, Nederland
CATEGORIES:Groepsbijeenkomst,Lotgenotengroep
ATTACH;FMTTYPE=image/webp:https://zelfregie-herstel.nl/wp-content/uploads/DALL·E-2025-04-10-14.55.09-A-thoughtful-and-expressive-illustration-of-a-group-of-older-Turkish-women-sharing-a-serious-story-at-a-cultural-event.-One-woman-is-speaking-with-emo-e1744289838916.webp
ORGANIZER;CN="Hulya":MAILTO:steunpunt@zelfregie-herstel.nl
END:VEVENT
END:VCALENDAR