BEGIN:VCALENDAR
VERSION:2.0
PRODID:-// Steunpunt Zelfregie &amp; Herstel - ECPv6.15.20//NONSGML v1.0//EN
CALSCALE:GREGORIAN
METHOD:PUBLISH
X-WR-CALNAME: Steunpunt Zelfregie &amp; Herstel
X-ORIGINAL-URL:https://zelfregie-herstel.nl
X-WR-CALDESC:Evenementen voor  Steunpunt Zelfregie &amp; Herstel
REFRESH-INTERVAL;VALUE=DURATION:PT1H
X-Robots-Tag:noindex
X-PUBLISHED-TTL:PT1H
BEGIN:VTIMEZONE
TZID:Europe/Amsterdam
BEGIN:DAYLIGHT
TZOFFSETFROM:+0100
TZOFFSETTO:+0200
TZNAME:CEST
DTSTART:20240331T010000
END:DAYLIGHT
BEGIN:STANDARD
TZOFFSETFROM:+0200
TZOFFSETTO:+0100
TZNAME:CET
DTSTART:20241027T010000
END:STANDARD
BEGIN:DAYLIGHT
TZOFFSETFROM:+0100
TZOFFSETTO:+0200
TZNAME:CEST
DTSTART:20250330T010000
END:DAYLIGHT
BEGIN:STANDARD
TZOFFSETFROM:+0200
TZOFFSETTO:+0100
TZNAME:CET
DTSTART:20251026T010000
END:STANDARD
BEGIN:DAYLIGHT
TZOFFSETFROM:+0100
TZOFFSETTO:+0200
TZNAME:CEST
DTSTART:20260329T010000
END:DAYLIGHT
BEGIN:STANDARD
TZOFFSETFROM:+0200
TZOFFSETTO:+0100
TZNAME:CET
DTSTART:20261025T010000
END:STANDARD
END:VTIMEZONE
BEGIN:VEVENT
DTSTART;TZID=Europe/Amsterdam:20250606T150000
DTEND;TZID=Europe/Amsterdam:20250606T170000
DTSTAMP:20260424T204936
CREATED:20250515T124346Z
LAST-MODIFIED:20250515T124346Z
UID:10001467-1749222000-1749229200@zelfregie-herstel.nl
SUMMARY:Filmvertoning – Documentaire "Something Unknown Is Doing We Don't Know What"
DESCRIPTION:Op donderdagmiddag 6 juni nodigen we je van harte uit voor de vertoning van de intrigerende documentaire Something Unknown Is Doing We Don’t Know What. Deze film neemt je mee op een ontdekkingsreis langs de grenzen van wetenschap en bewustzijn\, en onderzoekt bijzondere fenomenen zoals telepathie\, helderziendheid en genezing op afstand. Wat zegt de wetenschap hierover\, en wat kunnen we zelf ervaren?\n\nProgramma\nDe film begint om 15:00 uur – zorg dat je op tijd bent! \nJe bent vanaf 14:45 uur welkom voor een kopje koffie of thee en een moment om met elkaar kennis te maken. \nNa afloop is er ruimte om met elkaar in gesprek te gaan over wat we gezien en gevoeld hebben\, en om ervaringen en vragen te delen. \n\nDoelgroep\nIedereen is welkom – nieuwsgierigen\, sceptici\, dromers en denkers! \n\nPraktische informatie\nDatum: Donderdag 6 juni \nTijd: 15:00 – 17:00 uur \nLocatie: Steunpunt Zelfregie & Herstel \nAdres: Kaatstraat 18\, 3513 BK Utrecht \n\nToegang is gratis\nMocht je onverwacht verhinderd zijn\, laat het ons dan uiterlijk 48 uur van tevoren weten.
URL:https://zelfregie-herstel.nl/agenda/filmvertoning-documentaire-something-unknown-is-doing-we-dont-know-what/
LOCATION:Locatie Utrecht: Grote ruimte\, Kaatstraat 18\, Utrecht\, 3513 BK\, Nederland
ATTACH;FMTTYPE=image/jpeg:https://zelfregie-herstel.nl/wp-content/uploads/da348f5345019060d076a229f4a0d2530ae62c7d73a225403aa28dc821c70cd4._SX1080_FMjpg_.jpg
END:VEVENT
END:VCALENDAR