BEGIN:VCALENDAR
VERSION:2.0
PRODID:-// Steunpunt Zelfregie &amp; Herstel - ECPv6.15.20//NONSGML v1.0//EN
CALSCALE:GREGORIAN
METHOD:PUBLISH
X-WR-CALNAME: Steunpunt Zelfregie &amp; Herstel
X-ORIGINAL-URL:https://zelfregie-herstel.nl
X-WR-CALDESC:Evenementen voor  Steunpunt Zelfregie &amp; Herstel
REFRESH-INTERVAL;VALUE=DURATION:PT1H
X-Robots-Tag:noindex
X-PUBLISHED-TTL:PT1H
BEGIN:VTIMEZONE
TZID:Europe/Amsterdam
BEGIN:DAYLIGHT
TZOFFSETFROM:+0100
TZOFFSETTO:+0200
TZNAME:CEST
DTSTART:20240331T010000
END:DAYLIGHT
BEGIN:STANDARD
TZOFFSETFROM:+0200
TZOFFSETTO:+0100
TZNAME:CET
DTSTART:20241027T010000
END:STANDARD
BEGIN:DAYLIGHT
TZOFFSETFROM:+0100
TZOFFSETTO:+0200
TZNAME:CEST
DTSTART:20250330T010000
END:DAYLIGHT
BEGIN:STANDARD
TZOFFSETFROM:+0200
TZOFFSETTO:+0100
TZNAME:CET
DTSTART:20251026T010000
END:STANDARD
BEGIN:DAYLIGHT
TZOFFSETFROM:+0100
TZOFFSETTO:+0200
TZNAME:CEST
DTSTART:20260329T010000
END:DAYLIGHT
BEGIN:STANDARD
TZOFFSETFROM:+0200
TZOFFSETTO:+0100
TZNAME:CET
DTSTART:20261025T010000
END:STANDARD
END:VTIMEZONE
BEGIN:VEVENT
DTSTART;TZID=Europe/Amsterdam:20250625T093000
DTEND;TZID=Europe/Amsterdam:20250625T120000
DTSTAMP:20260424T191310
CREATED:20240402T173328Z
LAST-MODIFIED:20250728T140407Z
UID:10000991-1750843800-1750852800@zelfregie-herstel.nl
SUMMARY:Vrouwen & Verbinding - Arabisch / Berbers (Utrecht\, Pratumplaats)
DESCRIPTION:Over Arabische Vrouwengroep\nElke maandag en woensdag\, onder het genot van een kopje thee/koffie is er een Arabische Vrouwengroep.\nArabisch sprekende vrouwen komen bij elkaar om verschillende onderwerpen te bespreken die hun dagelijks\nbezighouden. Deze onderwerpen kunnen zijn: \n  \n– Stress\n– Depressie\n– Trauma\n– Rouw\n– Eenzaamheid\n– Huizelijk Geweld\n– Identiteit\n– Het veranderen van identiteit\n– Cultuur- en cultuurverschillen\n– Zorgsysteem in Nederland \n  \nHet is een veilige plek waar jij als vrouw\, in eigen taal en uitdrukkingen\, jouw gevoel en ervaringen kan verwoorden.\nWaar gezelligheid gecombineerd wordt met serieuze onderwerpen.\n \nJe krijgt advies over hoe je een eigen weg kan vinden in onze samenleving. Je krijgt tips over hoe je makkelijker de goede zorg kan krijgen.\nJe mag zelf aangeven waar je meer over wil weten\, over jouw rechten en het stellen van eigen grenzen.   \n  \n“De vrouwengroep versterkt de verbinding tussen vrouwen en ze leren om in hun eigen kracht te geloven\, dat kan door herkenning en erkenning.\nVanuit het Steunpunt Zelfregie & Herstel worden trainingen voor vrouwen zoals EHBO geregeld en taalessen Nederlands aangeboden.\nDe vrouwengroep is een eye-opener als het gaat om belangrijke begrippen die door de sociale normen in andere culturen niet bespreekbaar zijn.”  \n  \nBen jij geinteressed? Kom ook! \nDeze groep is bedoeld voor vrouwen met een migratieachtergrond.\nDe groep wordt gehouden op maandag en woensdag. \n\n  \nGoed om te weten!\n\nAan deelname zijn géén kosten verbonden\nAanmelden via: steunpunt@zelfregie-herstel.nl\nTaal: Arabisch\, Nederlands\nAdres: Pratumplaats 3\, 3454 NA Utrecht\nTel: 030 – 236 93 20\n\n 
URL:https://zelfregie-herstel.nl/agenda/vrouwengroep-zelfregie-en-herstel-arabisch-berbers-leidsche-rijn/2025-06-25/
LOCATION:Locatie Utrecht: Leidsche Rijn\, Pratumplaats 3\, Utrecht\, 3454 NA\, Nederland
CATEGORIES:Groepsbijeenkomst,Lotgenotengroep
ATTACH;FMTTYPE=image/png:https://zelfregie-herstel.nl/wp-content/uploads/VrouwenenVerbindingWH-e1764776267336.png
ORGANIZER;CN="Malika":MAILTO:steunpunt@zelfregie-herstel.nl
END:VEVENT
BEGIN:VEVENT
DTSTART;TZID=Europe/Amsterdam:20250625T100000
DTEND;TZID=Europe/Amsterdam:20250625T120000
DTSTAMP:20260424T191310
CREATED:20250417T095852Z
LAST-MODIFIED:20250513T121359Z
UID:10000836-1750845600-1750852800@zelfregie-herstel.nl
SUMMARY:Training Veerkracht
DESCRIPTION:Soms zit het leven even tegen. Je krijgt slecht nieuws\, maakt iets verdrietigs mee\, of je voelt je gewoon niet zo lekker. Dat is heel normaal. Maar het is fijn als je dan weet hoe je daarmee om kunt gaan. Daar helpt deze training je bij.\nIn de training leer je:\n\nHoe je beter met tegenslagen om kunt gaan.\nHoe je weer opstaat na een moeilijke periode.\nHoe je positiever kunt denken.\nHoe je beter voor jezelf zorgt.\nHoe je steun vraagt en geeft aan anderen.\n\n  \nHoe werkt de training?\nDe training bestaat uit online lessen in de omgeving van Gezondeboel\, een online platform voor mentale veerkracht. Deze lessen volg je in je eigen tijd\, wanneer het jou uitkomt. Eén keer per week komen we samen in een kleine groep op onze locatie in Bilthoven. We praten dan over de thema’s uit de online les\, delen ervaringen en doen oefeningen. \n  \nDoelgroep\nVoor (jong)volwassenen die sterker in het leven willen staan. Je hoeft niks te kunnen of te weten van tevoren. Iedereen is welkom! \n  \nPraktische informatie \nDeze training is op woensdagochtend:\n11\, 18\, 25 juni en 2\, 9\, 16 juli\nTijd: 10:00 – 12:00 uur \nVoor deze training is het belangrijk dat je in het bezit bent van een laptop en online de lessen kan maken.  \n  \nLocatie en adres\nSteunpunt Zelfregie & Herstel \nKaatstraat 18\, 3513BK Utrecht \nVind je deze training interessant? Kom dan ook! \nAan deelname zijn geen kosten verbonden. \nMocht je onverwachts verhinderd zijn\, horen wij dat graag 48 uur vóór de start van de workshop. \n  \nTrainer\nDeze workshop wordt verzorgd door Shivanni
URL:https://zelfregie-herstel.nl/agenda/training-veerkgracht/2025-06-25/
LOCATION:Locatie Utrecht: Grote ruimte\, Kaatstraat 18\, Utrecht\, 3513 BK\, Nederland
CATEGORIES:Training
ATTACH;FMTTYPE=image/jpeg:https://zelfregie-herstel.nl/wp-content/uploads/Training_Veerkracht_01-scaled.jpg
ORGANIZER;CN="Shivanni":MAILTO:s.jharap@zelfregie-herstel.nl
END:VEVENT
END:VCALENDAR