BEGIN:VCALENDAR
VERSION:2.0
PRODID:-// Steunpunt Zelfregie &amp; Herstel - ECPv6.15.20//NONSGML v1.0//EN
CALSCALE:GREGORIAN
METHOD:PUBLISH
X-WR-CALNAME: Steunpunt Zelfregie &amp; Herstel
X-ORIGINAL-URL:https://zelfregie-herstel.nl
X-WR-CALDESC:Evenementen voor  Steunpunt Zelfregie &amp; Herstel
REFRESH-INTERVAL;VALUE=DURATION:PT1H
X-Robots-Tag:noindex
X-PUBLISHED-TTL:PT1H
BEGIN:VTIMEZONE
TZID:Europe/Amsterdam
BEGIN:DAYLIGHT
TZOFFSETFROM:+0100
TZOFFSETTO:+0200
TZNAME:CEST
DTSTART:20240331T010000
END:DAYLIGHT
BEGIN:STANDARD
TZOFFSETFROM:+0200
TZOFFSETTO:+0100
TZNAME:CET
DTSTART:20241027T010000
END:STANDARD
BEGIN:DAYLIGHT
TZOFFSETFROM:+0100
TZOFFSETTO:+0200
TZNAME:CEST
DTSTART:20250330T010000
END:DAYLIGHT
BEGIN:STANDARD
TZOFFSETFROM:+0200
TZOFFSETTO:+0100
TZNAME:CET
DTSTART:20251026T010000
END:STANDARD
BEGIN:DAYLIGHT
TZOFFSETFROM:+0100
TZOFFSETTO:+0200
TZNAME:CEST
DTSTART:20260329T010000
END:DAYLIGHT
BEGIN:STANDARD
TZOFFSETFROM:+0200
TZOFFSETTO:+0100
TZNAME:CET
DTSTART:20261025T010000
END:STANDARD
END:VTIMEZONE
BEGIN:VEVENT
DTSTART;TZID=Europe/Amsterdam:20250626T090000
DTEND;TZID=Europe/Amsterdam:20250626T110000
DTSTAMP:20260424T205100
CREATED:20240807T124435Z
LAST-MODIFIED:20251104T152607Z
UID:10001388-1750928400-1750935600@zelfregie-herstel.nl
SUMMARY:Vrouwen & Verbinding
DESCRIPTION:Inhoud\nSamen met andere vrouwen de dag starten met een ontbijtje!  \nKan jij in je drukke werk en–of gezinsleven wel even een momentje voor jezelf gebruiken? Of kom je graag in contact met andere vrouwen in Zeist? Tijdens de groep vrouwen & verbinding ontbijten en kletsen we samen over verschillende onderwerpen\, zoals gezondheid\, welzijn\, het gezinsleven en nog veel meer. Wij zorgen voor het ontbijt\, de vrouwen voor de onderwerpen.   \n  \nDoelgroep: \nVoor alle vrouwen in Zeist!   \n  \nPraktisch\nIedere vrijdag van 09:00 tot 11:00 uur.   \nOntbijt is inbegrepen  \n  \nLocatie\nDeze workshop vind plaats bij Steunpunt Zelfregie & Herstel Zeist   \n  \nAdres\nLaan van Vollenhove\, ingang portiek 8 van de L-Flat.   \nNavigeren naar: Laan van Vollenhove 1275\, Zeist (NIET aanbellen\, wij zitten links van de ingang)   \n  \nVind je deze workshop interessant? Kom dan ook! \nAan deelname zijn geen kosten verbonden.  \n  \nMocht je onverwachts verhinderd zijn\, horen wij dat graag 48 uur voor de start van de workshop  \n  \nTrainer\nDeze workshop wordt verzorgd door Asmae\, Vrijwilliger bij Steunpunt Zelfregie & Herstel. In samenwerking met Souad Belouchi van Meander Omnium
URL:https://zelfregie-herstel.nl/agenda/vrouwen-en-verbinding/2025-06-26/
LOCATION:Locatie Zeist: Laan van Vollenhove – Portiek 8\, Laan van Vollenhove\, Zeist\, 3706 ER\, Nederland
CATEGORIES:Groepsbijeenkomst,Lotgenotengroep
ATTACH;FMTTYPE=image/jpeg:https://zelfregie-herstel.nl/wp-content/uploads/Vrouwen-verbinding_02-e1730384613934.jpg
END:VEVENT
BEGIN:VEVENT
DTSTART;TZID=Europe/Amsterdam:20250626T100000
DTEND;TZID=Europe/Amsterdam:20250626T120000
DTSTAMP:20260424T205100
CREATED:20240402T193248Z
LAST-MODIFIED:20240402T193248Z
UID:10001174-1750932000-1750939200@zelfregie-herstel.nl
SUMMARY:Ervaringsdeskundigheid Training
DESCRIPTION:Je leert hoe jij jouw persoonlijke ervaringen met (mentale) uitdagingen\, in kan zetten voor anderen. \nIedereen met ervaringen met psycho-sociale problemen en nu stabiel functioneert \nTaal: Nederlands\nAanmelden via: m.jezequel@zelfregie-herstel.nl
URL:https://zelfregie-herstel.nl/agenda/ervaringsdeskundigheid-training/2025-06-26/
CATEGORIES:Groepsbijeenkomst,Training
ATTACH;FMTTYPE=image/jpeg:https://zelfregie-herstel.nl/wp-content/uploads/Ervaringsdeskundige_002-scaled-e1764936604423.jpg
ORGANIZER;CN="Maiwenn":MAILTO:m.jezequel@zelfregie-herstel.nl
END:VEVENT
BEGIN:VEVENT
DTSTART;TZID=Europe/Amsterdam:20250626T193000
DTEND;TZID=Europe/Amsterdam:20250626T203000
DTSTAMP:20260424T205100
CREATED:20250303T114515Z
LAST-MODIFIED:20250410T125526Z
UID:10001461-1750966200-1750969800@zelfregie-herstel.nl
SUMMARY:Kennismaken met Ervaringsdeskundigheid
DESCRIPTION:Inhoud\nBen jij benieuwd naar wat het vak van ervaringsdeskundigheid inhoudt? Wil je ontdekken hoe jij je eigen ervaringen kunt inzetten om anderen te ondersteunen\, of misschien zelfs als ervaringsdeskundige aan de slag gaan? Dan is deze workshop iets voor jou! \n  \nTijdens deze interactieve en informele online workshop nemen we je mee in de wereld van ervaringsdeskundigheid. We delen wat het precies betekent om je eigen verhaal te gebruiken in je werk\, hoe je hiermee anderen kunt ondersteunen en hoe het voelt om je persoonlijke ervaringen te delen. Of je nu zelf overweegt ervaringsdeskundige te worden\, of gewoon meer wilt leren over dit vak\, je bent van harte welkom! \n\nWat kun je verwachten?\n\nEen introductie in ervaringsdeskundigheid: Wat houdt het in en welke mogelijkheden biedt het?\nInzichten in het proces van het delen van je eigen ervaringen en wat dit voor jou kan betekenen.\nTips en handvatten voor wie misschien zelf ervaringsdeskundige wil worden of in contact wil komen met ervaringsdeskundigen.\nRuimte voor jouw vragen en ervaringen.\n\n  \nDoelgroep\nDeze workshop is voor (jong)volwassenen\, in de leeftijd van 18 t/m 32 jaar die nieuwsgierig zijn naar de kracht van ervaringsdeskundigheid. \n  \nPraktische informatie\nDeze workshop is online\, na aanmelding ontvang je van ons een link naar Microsoft Teams. Voor deze online workshop is het belangrijk dat je in het bezit bent van een laptop en een Microsoft teams account.  \nAanmelden: steunpunt@zelfregie-herstel.nl \nDeze workshop vindt plaats op de volgende dagen: \n\nDonderdagavond 1 mei van 19:30 tot 20:30 \nDonderdagavond 26 juni van 19:30 tot 20:30\n\n\nAan deelname zijn geen kosten verbonden\nMocht je onverwachts verhinderd zijn\, horen wij dat graag 48 uur voor de start van de workshop.\n\n  \nTrainer\nDeze workshop wordt verzorgd door Demi\, ervaringsdeskundige bij Steunpunt Zelfregie & Herstel. \n  \nVind je deze workshop interessant? Meld je aan!
URL:https://zelfregie-herstel.nl/agenda/kennismaken-met-ervaringsdeskundigheid/2025-06-26/
ATTACH;FMTTYPE=image/jpeg:https://zelfregie-herstel.nl/wp-content/uploads/IMG_20240917_120834_kopie.jpg
LOCATION:https://zelfregie-herstel.nl/agenda/kennismaken-met-ervaringsdeskundigheid/2025-06-26/
END:VEVENT
END:VCALENDAR