BEGIN:VCALENDAR
VERSION:2.0
PRODID:-// Steunpunt Zelfregie &amp; Herstel - ECPv6.15.20//NONSGML v1.0//EN
CALSCALE:GREGORIAN
METHOD:PUBLISH
X-WR-CALNAME: Steunpunt Zelfregie &amp; Herstel
X-ORIGINAL-URL:https://zelfregie-herstel.nl
X-WR-CALDESC:Evenementen voor  Steunpunt Zelfregie &amp; Herstel
REFRESH-INTERVAL;VALUE=DURATION:PT1H
X-Robots-Tag:noindex
X-PUBLISHED-TTL:PT1H
BEGIN:VTIMEZONE
TZID:Europe/Amsterdam
BEGIN:DAYLIGHT
TZOFFSETFROM:+0100
TZOFFSETTO:+0200
TZNAME:CEST
DTSTART:20240331T010000
END:DAYLIGHT
BEGIN:STANDARD
TZOFFSETFROM:+0200
TZOFFSETTO:+0100
TZNAME:CET
DTSTART:20241027T010000
END:STANDARD
BEGIN:DAYLIGHT
TZOFFSETFROM:+0100
TZOFFSETTO:+0200
TZNAME:CEST
DTSTART:20250330T010000
END:DAYLIGHT
BEGIN:STANDARD
TZOFFSETFROM:+0200
TZOFFSETTO:+0100
TZNAME:CET
DTSTART:20251026T010000
END:STANDARD
BEGIN:DAYLIGHT
TZOFFSETFROM:+0100
TZOFFSETTO:+0200
TZNAME:CEST
DTSTART:20260329T010000
END:DAYLIGHT
BEGIN:STANDARD
TZOFFSETFROM:+0200
TZOFFSETTO:+0100
TZNAME:CET
DTSTART:20261025T010000
END:STANDARD
END:VTIMEZONE
BEGIN:VEVENT
DTSTART;TZID=Europe/Amsterdam:20250708T140000
DTEND;TZID=Europe/Amsterdam:20250708T160000
DTSTAMP:20260425T032026
CREATED:20250313T114319Z
LAST-MODIFIED:20250410T124126Z
UID:10000816-1751983200-1751990400@zelfregie-herstel.nl
SUMMARY:Training: Positief Bekeken 
DESCRIPTION:Inhoud \nBen jij klaar om je sterke kanten en verborgen talenten te ontdekken en verder te ontwikkelen? Doe mee aan de 6-weekse training “Positief Bekeken”\, waar we samen werken aan jouw persoonlijke groei\, veerkracht en welbevinden.  \n  \nVanaf dinsdag 3 juni starten we met een inspirerende training\, waarin we focussen op wat er wél goed gaat in je leven. Deze training is gebaseerd op de positieve psychologie en helpt je om je talenten te (her)ontdekken en in te zetten in je dagelijks leven. Het is een geweldige kans om meer inzicht te krijgen in jouw persoonlijke kracht en om te leren hoe je met vertrouwen uitdagingen aan kunt gaan.  \nDe training Positief bekeken! is in 2020 genomineerd voor de Nationale Zorginnovatieprijs en heeft in datzelfde jaar de Planetree Project Award gewonnen.  \n\nWat kun je verwachten? \n\nKennismaken met jezelf en anderen in een veilige en vertrouwde omgeving. \nOntdek je sterke kanten en leer hoe je deze kunt gebruiken om je doelen te bereiken. \nVerken je kernkwaliteiten en hoe ze bijdragen aan jouw welzijn en succes. \nVersterk je veerkracht en leer omgaan met tegenslagen op een positieve manier. \nBouw verder aan een gezond en gelukkig leven door positieve psychologie toe te passen in je dagelijks leven. \n\nDeze training is ontwikkeld door ervaringsdeskundigen die samen met jou werken aan jouw persoonlijke ontwikkeling. We gaan in een kleine groep aan de slag\, zodat er ruimte is voor persoonlijke aandacht en groei.  \n\nDoelgroep \nDeze training is voor (jong)volwassenen tussen de 18 & 32 jaar.   \n\nPraktische informatie\nDe training bestaat uit 6 bijeenkomsten op de dinsdagmiddag van 14:00 tot 16:00.\nDe 8 bijeenkomsten zijn op de volgende data:    \n\nDinsdag 3 juni  \nDinsdag 10 juni \nDinsdag 17 juni  \nDinsdag 24 juni \nDinsdag 1 juli  \nDinsdag 8 juli \n\nBen jij klaar om met een frisse blik naar jezelf en je talenten te kijken? Meld je dan vandaag nog aan via steunpunt@zelfregie-herstel.nl!   \nAan deelname zijn geen kosten verbonden.\nMocht je onverwachts verhinderd zijn\, horen wij dat graag 48 uur voor de start van de training.  \n\nLocatie en adres\nDeze training wordt gegeven op de locatie van Steunpunt Zelfregie & Herstel in Utrecht  \n\nKaatstraat 18\, 3513 BK Utrecht  \n\nTrainer \nDeze training wordt verzorgd door Demi\, ervaringsdeskundige bij Steunpunt Zelfregie & Herstel  \n\nVind je deze training interessant? Kom dan ook!\n\nWe kijken er naar uit je te verwelkomen en samen een inspirerende tijd te beleven. Tot dan! 🌟  \n 
URL:https://zelfregie-herstel.nl/agenda/training-positief-bekeken/2025-07-08/
LOCATION:Locatie Utrecht: Grote ruimte\, Kaatstraat 18\, Utrecht\, 3513 BK\, Nederland
CATEGORIES:Training,Workshop
ATTACH;FMTTYPE=image/png:https://zelfregie-herstel.nl/wp-content/uploads/Positief-bekeken.png
ORGANIZER;CN="Demi":MAILTO:d.vanveen@zelfregie-herstel.nl
END:VEVENT
END:VCALENDAR