BEGIN:VCALENDAR
VERSION:2.0
PRODID:-// Steunpunt Zelfregie &amp; Herstel - ECPv6.15.20//NONSGML v1.0//EN
CALSCALE:GREGORIAN
METHOD:PUBLISH
X-WR-CALNAME: Steunpunt Zelfregie &amp; Herstel
X-ORIGINAL-URL:https://zelfregie-herstel.nl
X-WR-CALDESC:Evenementen voor  Steunpunt Zelfregie &amp; Herstel
REFRESH-INTERVAL;VALUE=DURATION:PT1H
X-Robots-Tag:noindex
X-PUBLISHED-TTL:PT1H
BEGIN:VTIMEZONE
TZID:Europe/Amsterdam
BEGIN:DAYLIGHT
TZOFFSETFROM:+0100
TZOFFSETTO:+0200
TZNAME:CEST
DTSTART:20240331T010000
END:DAYLIGHT
BEGIN:STANDARD
TZOFFSETFROM:+0200
TZOFFSETTO:+0100
TZNAME:CET
DTSTART:20241027T010000
END:STANDARD
BEGIN:DAYLIGHT
TZOFFSETFROM:+0100
TZOFFSETTO:+0200
TZNAME:CEST
DTSTART:20250330T010000
END:DAYLIGHT
BEGIN:STANDARD
TZOFFSETFROM:+0200
TZOFFSETTO:+0100
TZNAME:CET
DTSTART:20251026T010000
END:STANDARD
BEGIN:DAYLIGHT
TZOFFSETFROM:+0100
TZOFFSETTO:+0200
TZNAME:CEST
DTSTART:20260329T010000
END:DAYLIGHT
BEGIN:STANDARD
TZOFFSETFROM:+0200
TZOFFSETTO:+0100
TZNAME:CET
DTSTART:20261025T010000
END:STANDARD
END:VTIMEZONE
BEGIN:VEVENT
DTSTART;TZID=Europe/Amsterdam:20251210T093000
DTEND;TZID=Europe/Amsterdam:20251210T120000
DTSTAMP:20260424T145801
CREATED:20240402T173328Z
LAST-MODIFIED:20250728T140407Z
UID:10001039-1765359000-1765368000@zelfregie-herstel.nl
SUMMARY:Vrouwen & Verbinding - Arabisch / Berbers (Utrecht\, Pratumplaats)
DESCRIPTION:Over Arabische Vrouwengroep\nElke maandag en woensdag\, onder het genot van een kopje thee/koffie is er een Arabische Vrouwengroep.\nArabisch sprekende vrouwen komen bij elkaar om verschillende onderwerpen te bespreken die hun dagelijks\nbezighouden. Deze onderwerpen kunnen zijn: \n  \n– Stress\n– Depressie\n– Trauma\n– Rouw\n– Eenzaamheid\n– Huizelijk Geweld\n– Identiteit\n– Het veranderen van identiteit\n– Cultuur- en cultuurverschillen\n– Zorgsysteem in Nederland \n  \nHet is een veilige plek waar jij als vrouw\, in eigen taal en uitdrukkingen\, jouw gevoel en ervaringen kan verwoorden.\nWaar gezelligheid gecombineerd wordt met serieuze onderwerpen.\n \nJe krijgt advies over hoe je een eigen weg kan vinden in onze samenleving. Je krijgt tips over hoe je makkelijker de goede zorg kan krijgen.\nJe mag zelf aangeven waar je meer over wil weten\, over jouw rechten en het stellen van eigen grenzen.   \n  \n“De vrouwengroep versterkt de verbinding tussen vrouwen en ze leren om in hun eigen kracht te geloven\, dat kan door herkenning en erkenning.\nVanuit het Steunpunt Zelfregie & Herstel worden trainingen voor vrouwen zoals EHBO geregeld en taalessen Nederlands aangeboden.\nDe vrouwengroep is een eye-opener als het gaat om belangrijke begrippen die door de sociale normen in andere culturen niet bespreekbaar zijn.”  \n  \nBen jij geinteressed? Kom ook! \nDeze groep is bedoeld voor vrouwen met een migratieachtergrond.\nDe groep wordt gehouden op maandag en woensdag. \n\n  \nGoed om te weten!\n\nAan deelname zijn géén kosten verbonden\nAanmelden via: steunpunt@zelfregie-herstel.nl\nTaal: Arabisch\, Nederlands\nAdres: Pratumplaats 3\, 3454 NA Utrecht\nTel: 030 – 236 93 20\n\n 
URL:https://zelfregie-herstel.nl/agenda/vrouwengroep-zelfregie-en-herstel-arabisch-berbers-leidsche-rijn/2025-12-10/
LOCATION:Locatie Utrecht: Leidsche Rijn\, Pratumplaats 3\, Utrecht\, 3454 NA\, Nederland
CATEGORIES:Groepsbijeenkomst,Lotgenotengroep
ATTACH;FMTTYPE=image/png:https://zelfregie-herstel.nl/wp-content/uploads/VrouwenenVerbindingWH-e1764776267336.png
ORGANIZER;CN="Malika":MAILTO:steunpunt@zelfregie-herstel.nl
END:VEVENT
BEGIN:VEVENT
DTSTART;TZID=Europe/Amsterdam:20251210T120000
DTEND;TZID=Europe/Amsterdam:20251210T160000
DTSTAMP:20260424T145801
CREATED:20240806T122023Z
LAST-MODIFIED:20260401T101719Z
UID:10000807-1765368000-1765382400@zelfregie-herstel.nl
SUMMARY:Gouden Mannen
DESCRIPTION:Inhoud\nBij Gouden Mannen organiseren leuke activiteiten voor mannen van 40+ die goed voor zichzelf willen zorgen en positief naar de toekomst willen kijken. We leren met en van elkaar over verschillende culturen\, communicatie en digitale vaardigheden. \nHet programma van Gouden Mannen duurt 60 weken en geeft deelnemers genoeg tijd om elkaar te leren kennen\, nieuwe vaardigheden te verkrijgen en te groeien als persoon. Het programma bestaat uit 3 verschillende fases: \n\nFase 1: Verbinding met jezelf\nFase 2: Verbinding met je omgeving\nFase 3: Verbinding met de wereld\n\n\nIedere woensdag starten we om 12.00 uur met een gezamenlijke lunch om daarna in drie verschillende groepen aan de slag te gaan. \n  \nDoelgroep\nAlle mannen van 40+ die opzoek zijn naar meer contact\, sociale en digitale vaardigheden willen ontwikkelen. \n  \n  \nVind je deze training interessant? Kom dan ook! \nAan deelname zijn geen kosten verbonden.  \n\n  \nLocatie\nDeze training bieden we aan bij het Steunpunt Zelfregie en Herstel in Utrecht.  \n\n  \nPraktische informatie\n\nIedere woensdagmiddag \nTijd: 12:00 – 16:00 uur\, inclusief lekkere lunch\nAdres: Kaatstraat 18\, 3513BK te Utrecht  \n\n  \n2 september 2026 begint een nieuwe groep Gouden Mannen. Interesse? Meld je daarvoor aan bij Hasan Kaplan. \n  \n\nProgramma duurt 60 weken\nAan deelname zijn géén kosten verbonden\nTussendoor instromen is mogelijk\nAanmelding via de mail: steunpunt@zelfregie-herstel.nl t.a.v. coördinator Hasan Kaplan \nLiever telefonisch contact? Tel. 06-48 11 47 23\n\nMocht je onverwachts toch verhinderd zijn\, horen wij dat graag 48 uur voor de start van de training. 
URL:https://zelfregie-herstel.nl/agenda/gouden-mannen/2025-12-10/
LOCATION:Locatie Utrecht\, Kaatstraat 18\, Utrecht\, Utrecht\, 3513 BK\, Nederland
CATEGORIES:Groepsbijeenkomst
ATTACH;FMTTYPE=image/jpeg:https://zelfregie-herstel.nl/wp-content/uploads/Gouden-Mannen-e1764941892504.jpg
ORGANIZER;CN="Hasan":MAILTO:h.kaplan@zelfregie-herstel.nl
END:VEVENT
BEGIN:VEVENT
DTSTART;TZID=Europe/Amsterdam:20251210T140000
DTEND;TZID=Europe/Amsterdam:20251210T150000
DTSTAMP:20260424T145801
CREATED:20251104T194153Z
LAST-MODIFIED:20251104T194153Z
UID:10001493-1765375200-1765378800@zelfregie-herstel.nl
SUMMARY:Keuzes maken
DESCRIPTION:In het leven maken we dagelijks keuzes\, klein en groot\, bewust en onbewust\, traag of snel. Hoe en/of we keuzes maken is van grote invloed op ons leven en geluk. Voor veel mensen is het lastig om keuzes te maken\, daarom bespreken we wat tips die het maken van keuzes misschien wat makkelijker maken.   \n\nLet op je gevoel als een keuze zich aandient\, je eerste gevoel zit vaak goed\, uiteindelijk ben jij degene die weet wat je zelf wilt!  \nSchrijf de voor en tegens op en geef elk argument een cijfer\, belangrijkst een hoog cijfer dan een minder belangrijk argument.  \nZorg dat je keuzes maakt als je niet te veel onder stress staat (repareer het dak als het niet regent). \nSchaam je niet om advies te vragen aan anderen\, veel mensen worstelen met vragen\, je bent niet de enige!  \nDurf fouten te maken\, wij leren van fouten. Leer te vertrouwen in de uitkomst van je beslissing. Het wordt een succes of je leert ervan. Vraag jezelf dan af: Wat is het ergste dat er kan gebeuren? Dan zal je zien\, dat je je ineens realiseert dat het allemaal best meevalt!  \n\n  \nHet is een mythe om te denken dat er “goede” en “foute” keuzes zijn. Net alsof je een fout maakt als je ergens voor kiest waar je later spijt van krijgt. Natuurlijk is dat niet de bedoeling en kan dat heel moeilijk zijn\, maar het is geen ramp. Waarschijnlijk heb je ervan geleerd en helpt dat je weer een volgende keus te maken. Een keuze is niet goed of fout. Als je zorgvuldig een keus maakt\, is dat altijd goed. Het maken van een keus en leren daarvan zijn tekenen van dapperheid!!   \n\nNoem een voorbeeld van een moeilijke keuze of beslissing die je ooit hebt moeten maken en beschrijf hoe je uiteindelijk tot een keuze bent gekomen.  \nHeb je nog andere tips of overwegingen voor het nemen van een keuze?  \n\n \n\nPraktische informatie\nHet themagesprek over keuzes maken zal plaatsvinden bij Steunpunt Zelfregie & Herstel in de Bilt. \nWoensdag 10 december 2025 \n14:00 – 15:00 \nLocatie en adres \nLaan van Vollenhove\, ingang portiek 8 van de L-Flat.   \nNavigeren naar: Laan van Vollenhove 1275\, Zeist (NIET aanbellen\, wij zitten links van de ingang)   \n  \nVind je deze workshop interessant? Kom dan ook!\nAan deelname zijn geen kosten verbonden. \nMeld je aan door een mail te sturen naar steunpunt@zelfregie-herstel.nl \nMocht je onverwachts verhinderd zijn\, horen wij dat graag 48 uur vóór de start van de workshop.
URL:https://zelfregie-herstel.nl/agenda/keuzes-maken-2/
LOCATION:Locatie Zeist: Laan van Vollenhove – Portiek 8\, Laan van Vollenhove\, Zeist\, 3706 ER\, Nederland
ATTACH;FMTTYPE=image/jpeg:https://zelfregie-herstel.nl/wp-content/uploads/decision-making-3566980_1280-e1764769063455.jpg
END:VEVENT
BEGIN:VEVENT
DTSTART;TZID=Europe/Amsterdam:20251210T190000
DTEND;TZID=Europe/Amsterdam:20251210T203000
DTSTAMP:20260424T145801
CREATED:20250407T115503Z
LAST-MODIFIED:20251111T084327Z
UID:10000833-1765393200-1765398600@zelfregie-herstel.nl
SUMMARY:Informatiebijeenkomst over ziekte van Parkinson
DESCRIPTION:De ziekte van Parkinson is de snelst groeiende hersenziekte. Weet u wat de ziekte van Parkinson is? En waar u terecht kan als u meer wilt weten over de ziekte van Parkinson? \n\nTijdens deze informatiebijeenkomst helpen we u op weg om meer te weten te komen over Parkinson en de activiteiten van de Parkinson Vereniging.\n\nWij vertellen u in begrijpelijke taal wat de ziekte van Parkinson is en informeren u over de plek waar u terecht kunt met vragen. Waar u andere mensen kunt ontmoeten die deze ziekte hebben of waar u geholpen kunt worden om de regie te houden op uw dagelijkse leven.\n  \n  \nDoelgroep\nVoor iedereen die meer te weten wil komen over de ziekte van Parkinson \n  \n  \nPraktische informatie\nDeze bijeenkomst is op woensdagavond 10 december van 19:00 – 20:30 uur.  \nAan deelname zijn geen kosten verbonden. \nMocht je onverwachts verhinderd zijn\, horen wij dat graag 48 uur vóór de start van de bijeenkomst. \n  \n  \nAdres en locatie\nSteunpunt Zelfregie & Herstel \nKaatstraat 18\, 3513 BK Utrecht \nWij zijn het best bereikbaar per fiets\, scooter of OV. Parkeren in de buurt is mogelijk\, maar wel betaald. \n  \n\nVind je deze bijeenkomst interessant? Kom dan ook!\n  \n\nSprekers\nDeze bijeenkomst wordt verzorgd door Gerda en Miriam van de Parkinson Vereniging.  \n 
URL:https://zelfregie-herstel.nl/agenda/informatiebijeenkomst-over-ziekte-van-parkinson/
LOCATION:Locatie Utrecht: Grote ruimte\, Kaatstraat 18\, Utrecht\, 3513 BK\, Nederland
ATTACH;FMTTYPE=image/jpeg:https://zelfregie-herstel.nl/wp-content/uploads/parkinson-e1764775481864.jpg
END:VEVENT
END:VCALENDAR