BEGIN:VCALENDAR
VERSION:2.0
PRODID:-// Steunpunt Zelfregie &amp; Herstel - ECPv6.15.20//NONSGML v1.0//EN
CALSCALE:GREGORIAN
METHOD:PUBLISH
X-ORIGINAL-URL:https://zelfregie-herstel.nl
X-WR-CALDESC:Evenementen voor  Steunpunt Zelfregie &amp; Herstel
REFRESH-INTERVAL;VALUE=DURATION:PT1H
X-Robots-Tag:noindex
X-PUBLISHED-TTL:PT1H
BEGIN:VTIMEZONE
TZID:Europe/Amsterdam
BEGIN:DAYLIGHT
TZOFFSETFROM:+0100
TZOFFSETTO:+0200
TZNAME:CEST
DTSTART:20240331T010000
END:DAYLIGHT
BEGIN:STANDARD
TZOFFSETFROM:+0200
TZOFFSETTO:+0100
TZNAME:CET
DTSTART:20241027T010000
END:STANDARD
BEGIN:DAYLIGHT
TZOFFSETFROM:+0100
TZOFFSETTO:+0200
TZNAME:CEST
DTSTART:20250330T010000
END:DAYLIGHT
BEGIN:STANDARD
TZOFFSETFROM:+0200
TZOFFSETTO:+0100
TZNAME:CET
DTSTART:20251026T010000
END:STANDARD
BEGIN:DAYLIGHT
TZOFFSETFROM:+0100
TZOFFSETTO:+0200
TZNAME:CEST
DTSTART:20260329T010000
END:DAYLIGHT
BEGIN:STANDARD
TZOFFSETFROM:+0200
TZOFFSETTO:+0100
TZNAME:CET
DTSTART:20261025T010000
END:STANDARD
END:VTIMEZONE
BEGIN:VEVENT
DTSTART;TZID=Europe/Amsterdam:20251223T100000
DTEND;TZID=Europe/Amsterdam:20251223T120000
DTSTAMP:20260424T145026
CREATED:20251126T093640Z
LAST-MODIFIED:20260407T100212Z
UID:10001590-1766484000-1766491200@zelfregie-herstel.nl
SUMMARY:Koffie en Kletsen
DESCRIPTION:Inloopmomenten\n\n\n\n\n\nLoop eens binnen bij een van onze locaties! \nWil je praten over onderwerpen zoals stress\, burn-out\, schulden of eenzaamheid? Of wil je gewoon je verhaal kwijt? Je bent bij ons van harte welkom. Kom langs voor een kopje koffie of thee\, maak een praatje en ontdek onze activiteiten. \n  \n\nLocaties Utrecht\n \nT.+31 6 10 42 34 35 \nLocatie Utrecht stad \nKaatstraat 18\n3513 BK Utrecht \nMa t/m woe: 9.30 – 12.30 uur \nLocatie Kanaleneiland\nBernadottelaan 6\,\n3527 GB\, Utrecht \nMa: 14:00-16:00 uur\nWo: 10:30-12:30 uur \n  \n\n\nLocatie Zeist \nLaan van Vollenhove \n3706 ER Zeist\, L-Flat / Portiek 8 \nWoe: 10.00 – 12.00 uur \nM. +31 6 13 61 67 91 \n  \n  \nLocatie de Bilt \nInloopspreekuur MENS \nHessenweg 121\, 3731 JM De Bilt \nElke donderdagmiddag \n13:00 – 15:00 uur \nT. +31 6 10 42 34 35
URL:https://zelfregie-herstel.nl/agenda/koffie-en-kletsen-kerstvakantie-special/2025-12-23/
LOCATION:Locatie Utrecht\, Kaatstraat 18\, Utrecht\, Utrecht\, 3513 BK\, Nederland
CATEGORIES:Inloopdag
ATTACH;FMTTYPE=image/png:https://zelfregie-herstel.nl/wp-content/uploads/instabericht-45-Facebook-bericht-12-e1764768505893.png
END:VEVENT
BEGIN:VEVENT
DTSTART;TZID=Europe/Amsterdam:20251223T100000
DTEND;TZID=Europe/Amsterdam:20251223T133000
DTSTAMP:20260424T145026
CREATED:20250114T154405Z
LAST-MODIFIED:20250728T140351Z
UID:10000782-1766484000-1766496600@zelfregie-herstel.nl
SUMMARY:Vrouwen & Verbinding - Arabisch (Utrecht\, Kaatstraat)
DESCRIPTION:Over Arabische Vrouwengroep\nElke dinsdag\, onder het genot van een kopje thee/koffie is er een Arabische Vrouwengroep.\nArabisch sprekende vrouwen komen bij elkaar om verschillende onderwerpen te bespreken die hun dagelijks\nbezighouden. Deze onderwerpen kunnen zijn: \n  \n– Stress\n– Depressie\n– Trauma\n– Rouw\n– Eenzaamheid\n– Huizelijk Geweld\n– Identiteit\n– Het veranderen van identiteit\n– Cultuur- en cultuurverschillen\n– Zorgsysteem in Nederland \n  \nHet is een veilige plek waar jij als vrouw\, in eigen taal en uitdrukkingen\, jouw gevoel en ervaringen kan verwoorden.\nWaar gezelligheid gecombineerd wordt met serieuze onderwerpen.\n \nJe krijgt advies over hoe je een eigen weg kan vinden in onze samenleving. Je krijgt tips over hoe je makkelijker de goede zorg kan krijgen.\nJe mag zelf aangeven waar je meer over wil weten\, over jouw rechten en het stellen van eigen grenzen.   \n  \n“De vrouwengroep versterkt de verbinding tussen vrouwen en ze leren om in hun eigen kracht te geloven\, dat kan door herkenning en erkenning.\nVanuit het Steunpunt Zelfregie & Herstel worden trainingen voor vrouwen zoals EHBO geregeld en taalessen Nederlands aangeboden.\nDe vrouwengroep is een eye-opener als het gaat om belangrijke begrippen die door de sociale normen in andere culturen niet bespreekbaar zijn.”  \n  \nBen jij geinteressed? Kom ook! \nDeze groep is bedoeld voor vrouwen met een migratieachtergrond.\n \n  \nGoed om te weten!\n\nAan deelname zijn géén kosten verbonden\nAanmelden via: steunpunt@zelfregie-herstel.nl\nTaal: Arabisch\, Nederlands\nAdres: Kaatstraat 18\, 3513 BK\,  Utrecht\nTel: 030 – 236 93 20\n\n  \n 
URL:https://zelfregie-herstel.nl/agenda/vrouwengroep-zelfregie-en-herstel-arabisch/2025-12-23/
LOCATION:Locatie Utrecht\, Kaatstraat 18\, Utrecht\, Utrecht\, 3513 BK\, Nederland
CATEGORIES:Groepsbijeenkomst,Lotgenotengroep
ATTACH;FMTTYPE=image/png:https://zelfregie-herstel.nl/wp-content/uploads/VrouwenenVerbindingWH-e1764776267336.png
ORGANIZER;CN="Selma":MAILTO:s.khaled@zelfregie-herstel.nl
END:VEVENT
BEGIN:VEVENT
DTSTART;TZID=Europe/Amsterdam:20251223T130000
DTEND;TZID=Europe/Amsterdam:20251223T143000
DTSTAMP:20260424T145026
CREATED:20251014T093144Z
LAST-MODIFIED:20251209T094232Z
UID:10000906-1766494800-1766500200@zelfregie-herstel.nl
SUMMARY:Workshop: Ontspanning en inspiratie door visualisatie
DESCRIPTION:Gun jezelf een moment van rust én creativiteit\nBen je toe aan een moment voor jezelf? Even weg uit de drukte van de dag? Doe dan mee aan onze workshop “Ontspanning en inspiratie door visualisatie. Tijdens deze bijeenkomst leer je hoe je met eenvoudige visualisatie-oefeningen meer rust in je hoofd brengt én je creativiteit aanwakkert. We nemen je stap voor stap mee in het verbeelden van kalme\, prettige omgevingen én krachtige doelen of ideeën. Zo ontdek je hoe je deze techniek zelf kunt gebruiken in je dagelijks leven — voor ontspanning\, focus of nieuwe inspiratie.  \n  \nGeen ervaring nodig\, alleen een open houding en zin in een ontspannen uurtje voor jezelf. \n  \nDoelgroep\nVoor iedereen die een beetje ontspanning kan gebruiken. \nPraktische informatie  \nDatum: dinsdag 23 december \nTijd: 13:00 tot 14:30 \nLocatie: Kaatstraat 18\, 3513BK Utrecht \nAanmelden? Stuur een mailtje naar steunpunt@zelfregie-herstel.nl 📩 \n  \nLijkt het jou wat? Kom dan ook!\nAan deelname zijn géén kosten verbonden. \nMocht je onverwachts verhinderd zijn\, horen wij dat graag 48 uur voor de start van de workshop. \n  \nTrainer:\nDe workshop wordt verzorgd door Jamila\, trainer bij Steunpunt Zelfregie & Herstel.
URL:https://zelfregie-herstel.nl/agenda/workshop-ontspanning-en-inspiratie-door-visualisatie/
LOCATION:Locatie Utrecht\, Kaatstraat 18\, Utrecht\, Utrecht\, 3513 BK\, Nederland
CATEGORIES:Workshop
ATTACH;FMTTYPE=image/jpeg:https://zelfregie-herstel.nl/wp-content/uploads/catching-a-nap-outdoors-cropped-shot-of-a-handsom-2025-04-05-20-25-20-utc-scaled-e1764772468847.jpg
END:VEVENT
END:VCALENDAR