BEGIN:VCALENDAR
VERSION:2.0
PRODID:-// Steunpunt Zelfregie &amp; Herstel - ECPv6.15.20//NONSGML v1.0//EN
CALSCALE:GREGORIAN
METHOD:PUBLISH
X-WR-CALNAME: Steunpunt Zelfregie &amp; Herstel
X-ORIGINAL-URL:https://zelfregie-herstel.nl
X-WR-CALDESC:Evenementen voor  Steunpunt Zelfregie &amp; Herstel
REFRESH-INTERVAL;VALUE=DURATION:PT1H
X-Robots-Tag:noindex
X-PUBLISHED-TTL:PT1H
BEGIN:VTIMEZONE
TZID:Europe/Amsterdam
BEGIN:DAYLIGHT
TZOFFSETFROM:+0100
TZOFFSETTO:+0200
TZNAME:CEST
DTSTART:20240331T010000
END:DAYLIGHT
BEGIN:STANDARD
TZOFFSETFROM:+0200
TZOFFSETTO:+0100
TZNAME:CET
DTSTART:20241027T010000
END:STANDARD
BEGIN:DAYLIGHT
TZOFFSETFROM:+0100
TZOFFSETTO:+0200
TZNAME:CEST
DTSTART:20250330T010000
END:DAYLIGHT
BEGIN:STANDARD
TZOFFSETFROM:+0200
TZOFFSETTO:+0100
TZNAME:CET
DTSTART:20251026T010000
END:STANDARD
BEGIN:DAYLIGHT
TZOFFSETFROM:+0100
TZOFFSETTO:+0200
TZNAME:CEST
DTSTART:20260329T010000
END:DAYLIGHT
BEGIN:STANDARD
TZOFFSETFROM:+0200
TZOFFSETTO:+0100
TZNAME:CET
DTSTART:20261025T010000
END:STANDARD
END:VTIMEZONE
BEGIN:VEVENT
DTSTART;TZID=Europe/Amsterdam:20251229T100000
DTEND;TZID=Europe/Amsterdam:20251229T120000
DTSTAMP:20260424T144723
CREATED:20251126T093640Z
LAST-MODIFIED:20260407T100212Z
UID:10001592-1767002400-1767009600@zelfregie-herstel.nl
SUMMARY:Koffie en Kletsen
DESCRIPTION:Inloopmomenten\n\n\n\n\n\nLoop eens binnen bij een van onze locaties! \nWil je praten over onderwerpen zoals stress\, burn-out\, schulden of eenzaamheid? Of wil je gewoon je verhaal kwijt? Je bent bij ons van harte welkom. Kom langs voor een kopje koffie of thee\, maak een praatje en ontdek onze activiteiten. \n  \n\nLocaties Utrecht\n \nT.+31 6 10 42 34 35 \nLocatie Utrecht stad \nKaatstraat 18\n3513 BK Utrecht \nMa t/m woe: 9.30 – 12.30 uur \nLocatie Kanaleneiland\nBernadottelaan 6\,\n3527 GB\, Utrecht \nMa: 14:00-16:00 uur\nWo: 10:30-12:30 uur \n  \n\n\nLocatie Zeist \nLaan van Vollenhove \n3706 ER Zeist\, L-Flat / Portiek 8 \nWoe: 10.00 – 12.00 uur \nM. +31 6 13 61 67 91 \n  \n  \nLocatie de Bilt \nInloopspreekuur MENS \nHessenweg 121\, 3731 JM De Bilt \nElke donderdagmiddag \n13:00 – 15:00 uur \nT. +31 6 10 42 34 35
URL:https://zelfregie-herstel.nl/agenda/koffie-en-kletsen-kerstvakantie-special/2025-12-29/
LOCATION:Locatie Utrecht\, Kaatstraat 18\, Utrecht\, Utrecht\, 3513 BK\, Nederland
CATEGORIES:Inloopdag
ATTACH;FMTTYPE=image/png:https://zelfregie-herstel.nl/wp-content/uploads/instabericht-45-Facebook-bericht-12-e1764768505893.png
END:VEVENT
END:VCALENDAR