BEGIN:VCALENDAR
VERSION:2.0
PRODID:-// Steunpunt Zelfregie &amp; Herstel - ECPv6.15.20//NONSGML v1.0//EN
CALSCALE:GREGORIAN
METHOD:PUBLISH
X-WR-CALNAME: Steunpunt Zelfregie &amp; Herstel
X-ORIGINAL-URL:https://zelfregie-herstel.nl
X-WR-CALDESC:Evenementen voor  Steunpunt Zelfregie &amp; Herstel
REFRESH-INTERVAL;VALUE=DURATION:PT1H
X-Robots-Tag:noindex
X-PUBLISHED-TTL:PT1H
BEGIN:VTIMEZONE
TZID:Europe/Amsterdam
BEGIN:DAYLIGHT
TZOFFSETFROM:+0100
TZOFFSETTO:+0200
TZNAME:CEST
DTSTART:20250330T010000
END:DAYLIGHT
BEGIN:STANDARD
TZOFFSETFROM:+0200
TZOFFSETTO:+0100
TZNAME:CET
DTSTART:20251026T010000
END:STANDARD
BEGIN:DAYLIGHT
TZOFFSETFROM:+0100
TZOFFSETTO:+0200
TZNAME:CEST
DTSTART:20260329T010000
END:DAYLIGHT
BEGIN:STANDARD
TZOFFSETFROM:+0200
TZOFFSETTO:+0100
TZNAME:CET
DTSTART:20261025T010000
END:STANDARD
BEGIN:DAYLIGHT
TZOFFSETFROM:+0100
TZOFFSETTO:+0200
TZNAME:CEST
DTSTART:20270328T010000
END:DAYLIGHT
BEGIN:STANDARD
TZOFFSETFROM:+0200
TZOFFSETTO:+0100
TZNAME:CET
DTSTART:20271031T010000
END:STANDARD
BEGIN:DAYLIGHT
TZOFFSETFROM:+0100
TZOFFSETTO:+0200
TZNAME:CEST
DTSTART:20280326T010000
END:DAYLIGHT
BEGIN:STANDARD
TZOFFSETFROM:+0200
TZOFFSETTO:+0100
TZNAME:CET
DTSTART:20281029T010000
END:STANDARD
END:VTIMEZONE
BEGIN:VEVENT
DTSTART;VALUE=DATE:20260101
DTEND;VALUE=DATE:20270102
DTSTAMP:20260420T110634
CREATED:20240619T110251Z
LAST-MODIFIED:20260203T090649Z
UID:10001317-1767225600-1798847999@zelfregie-herstel.nl
SUMMARY:Schrijf jouw herstelverhaal
DESCRIPTION:Inhoud\nGa met een open hart op ontdekkingsreis door je eigen ervaringen en ontdek welke kracht er schuilt in jouw verhaal. In de cursus “Schrijf jouw herstelverhaal” gebruik je tegenslagen uit het verleden juist als springplank naar persoonlijke groei. Om je te helpen met het schrijven kun je kiezen uit verschillende bouwstenen (thema’s) zoals: Mijn kwetsbaarheid\, Rollen\, Hulpverlening\, Bronnen van steun\, Eigen oplossingen\, Valkuilen\, Stigma en Toekomst. Jij bepaalt de volgorde van de bouwstenen waarmee je jouw verhaal gaat vormgeven. Zo ontstaat een herstelverhaal dat écht van jou is.  \n  \nMet behulp van een online coach schrijf je in je eigen tempo en op jouw manier. Je ontdekt verborgen krachten en zet ze in om met meer vertrouwen en veerkracht naar de toekomst te kijken. Heb je vragen of loop je vast? Je coach staat klaar om je te helpen.  \n  \nVoel je uitgenodigd om mee op avontuur te gaan en je eigen pad te creëren. Je hebt alle tijd om je verhaal te voltooien\, en samen zorgen we ervoor dat je alle ruimte krijgt om jouw herstelverhaal vorm te geven. Sluit je aan en laat je inspireren door de ontdekkingsreis naar de beste versie van jezelf! \n  \nKenmerken van Herstelverhaal\n\nPersoonlijk en Uniek: Elk herstelverhaal is uniek en persoonlijk\, wat betekent dat het diep ingaat op de individuele ervaringen en gevoelens van de verteller.\nErvaringen en Inzichten: Het beschrijft ervaringen die iemand heeft doorgemaakt en de inzichten die zijn verkregen in het omgaan met deze moeilijkheden.\nSteun en Hulpmiddelen: Het benadrukt welke mensen\, middelen steun hebben geboden tijdens het herstelproces.\nKracht en Hoop: Het verhaal straalt kracht en hoop uit\, en laat zien hoe iemand zijn of haar leven weer op de rails heeft gekregen na tegenslagen.\n\n  \nDoelen van Herstelverhaal\n\nInspiratie en Hoop\nErkenning en Begrip\nOndersteuning en Verbinding\nPersoonlijke Groei\n\n  \n“Mijn Herstelverhaal maakt me trots op wat ik ondanks mijn worsteling heb bereikt in mijn leven.’’\n– Marloes (Deelnemer) \n  \nPraktische informatie\nHet schrijven van jouw herstelverhaal verloopt in het tempo dat voor jou prettig is en zal zoveel mogelijk digitaal plaatsvinden. Wanneer je dingen op papier wilt uitwerken adviseren wij om je verhaal uiteindelijk te digitaliseren door deze bijvoorbeeld in te scannen. \n\nOnze E-coach helpt jou met het schrijven van het herstelverhaal gedurende een periode van 18 weken \nHet herstelverhaal wordt in het Nederlands geschreven\nAan deelname zijn géén kosten verbonden voor mensen in de regio Utrecht\nLet op: we werken met een wachtlijst\nAanmelding via e-coaching@zelfregie-herstel.nl \nWil je iemand spreken dan kan je ons bereiken op het telefoonnummer: 06 10 42 34 35\n\n 
URL:https://zelfregie-herstel.nl/agenda/herstelverhaal/
LOCATION:Digitaal\, Kaatstraat 18\, Utrecht\, Utrecht\, 3513BK\, Netherlands
CATEGORIES:Cursussen,Individueel
ATTACH;FMTTYPE=image/png:https://zelfregie-herstel.nl/wp-content/uploads/Herstelverhaal_001-01-e1764774278407.png
END:VEVENT
BEGIN:VEVENT
DTSTART;VALUE=DATE:20260101
DTEND;VALUE=DATE:20270102
DTSTAMP:20260420T110634
CREATED:20251125T125059Z
LAST-MODIFIED:20260414T075618Z
UID:10001586-1767225600-1798847999@zelfregie-herstel.nl
SUMMARY:Koffie en Kletsen
DESCRIPTION:Inhoud\nLoop eens binnen bij een van onze locaties! \nWil je praten over onderwerpen zoals stress\, burn-out\, schulden of eenzaamheid? Of wil je gewoon je verhaal kwijt? Je bent bij ons van harte welkom. Kom langs voor een kopje koffie of thee\, maak een praatje en ontdek onze activiteiten. \n  \nPraktische informatie\n  \n\n\n\n\nLocaties Utrecht\nT. +31 6 10 42 34 35\n \nKaatstraat 18\n3513 BK Utrecht\nMa t/m woe: 9.30 – 12.30 uur \nLocatie Kanaleneiland\nBernadottelaan 6\,\n3527 GB\, Utrecht\nMa: 14:00-16:00 uur\nWo: 10:30-12:30 uur \n  \n\n\n\n\n\n\n\n\nLocatie Zeist\nLaan van Vollenhove\n3706 ER Zeist\, L-Flat / Portiek 8\nDi t/m do: 10.00 – 12.00 uur\nM. 06 – 13 61 67 91 \n  \n\n\n\n\n\n\n\n\nLocatie de Bilt\n \nInloopspreekuur MENS\nHessenweg 121\, 3731 JM De Bilt\nElke donderdagmiddag\n13:00 – 15:00 uur\nT. +31 6 10 42 34 35 \n\n 
URL:https://zelfregie-herstel.nl/agenda/koffie-en-kletsen/
LOCATION:Locatie Utrecht\, Kaatstraat 18\, Utrecht\, Utrecht\, 3513 BK\, Nederland
CATEGORIES:Inloopdag
ATTACH;FMTTYPE=image/jpeg:https://zelfregie-herstel.nl/wp-content/uploads/koffie_02-scaled-e1764926862136.jpg
END:VEVENT
BEGIN:VEVENT
DTSTART;TZID=Europe/Amsterdam:20260416T110000
DTEND;TZID=Europe/Amsterdam:20260416T140000
DTSTAMP:20260420T110634
CREATED:20260408T153451Z
LAST-MODIFIED:20260408T153757Z
UID:10002624-1776337200-1776348000@zelfregie-herstel.nl
SUMMARY:Vrouwen en Verbinding – Klassiek Arabisch | Zeist
DESCRIPTION:Elke donderdag\, onder het genot van een kopje thee/koffie is er een Arabische Vrouwengroep in Zeist.\nArabischsprekende vrouwen komen bij elkaar om verschillende onderwerpen te bespreken die hun dagelijks bezighouden. Deze onderwerpen kunnen zijn: \n  \n– Stress\n– Depressie\n– Trauma\n– Rouw\n– Eenzaamheid\n– Huiselijk Geweld\n– Identiteit\n– Het veranderen van identiteit\n– Cultuur- en cultuurverschillen\n– Zorgsysteem in Nederland \n  \nHet is een veilige plek waar jij als vrouw\, in eigen taal en uitdrukkingen\, jouw gevoel en ervaringen kan verwoorden. Waar gezelligheid gecombineerd wordt met serieuze onderwerpen. Je krijgt advies over hoe je een eigen weg kan vinden in onze samenleving. Je krijgt tips over hoe je makkelijker de goede zorg kan krijgen. Je mag zelf aangeven waar je meer over wil weten\, over jouw rechten en het stellen van eigen grenzen. \nDe groep wordt geleid door vrijwilliger Thanaa. \n  \n“De vrouwengroep versterkt de verbinding tussen vrouwen en ze leren om in hun eigen kracht te geloven\, dat kan door herkenning en erkenning. Vanuit het Steunpunt Zelfregie & Herstel worden trainingen voor vrouwen zoals EHBO geregeld en taalessen Nederlands aangeboden.\nDe vrouwengroep is een eye-opener als het gaat om belangrijke begrippen die door de sociale normen in andere culturen niet bespreekbaar zijn.”  \n  \nDoelgroep \nDeze groep is bedoeld voor vrouwen met een klassiek Arabische achtergrond. \n  \nPraktische informatie \nDe groep komt bij elkaar op de donderdag van 11:00 tot 14:00 uur. \nIn deze groep wordt klassiek Arabisch gesproken. \n  \nLocatie en Adres \nLocatie: Wijkinloophuis Zeist West\, De Klomp 3302 \n  \nBen jij geïnteresseerd? Kom ook! \nAan deelname zijn géén kosten verbonden \nAanmelden via: steunpunt@zelfregie-herstel.nl \n  \nTrainers: Selma (coördinatie) en Thanaa
URL:https://zelfregie-herstel.nl/agenda/vrouwen-en-verbinding-klassiek-arabisch-zeist/2026-04-16/
CATEGORIES:Groepsbijeenkomst,Themabijeenkomst
ATTACH;FMTTYPE=image/png:https://zelfregie-herstel.nl/wp-content/uploads/Herstelverhaal-1.png
END:VEVENT
BEGIN:VEVENT
DTSTART;TZID=Europe/Amsterdam:20260416T133000
DTEND;TZID=Europe/Amsterdam:20260416T160000
DTSTAMP:20260420T110634
CREATED:20260217T151429Z
LAST-MODIFIED:20260303T130300Z
UID:10001659-1776346200-1776355200@zelfregie-herstel.nl
SUMMARY:Training Positieve Blik
DESCRIPTION:Inhoud \nTijdens deze bijeenkomsten train je jouw mentale focus om nieuwe woorden te vinden om naar de dagelijkse realiteit te kijken. In plaats van de focus op problemen\, oefenen we met het herkennen van lichtpunten en hulpbronnen die vaak onopgemerkt blijven. We verkennen praktische technieken om bewust ruimte te maken voor momenten van voldoening en innerlijke rust. Ook leer je wat er allemaal mogelijk is aan ondersteuning zonder verwijzing en/of wachtlijsten. \nDeze training is geen pleidooi voor alleen maar optimisme. Het is een eenvoudige manier om je jouw mentale weerbaarheid te versterken. Door anders naar uitdagingen te kijken\, leer je beter om te gaan met stress en meer aandacht te hebben voor wat goed gaat. Een Positieve Blik doet je goed! \n  \nDoelgroep \nVoor iedereen die behoefte heeft aan wat positiviteit. \n  \nPraktische informatie  \nDeze training bestaat uit 5 bijeenkomsten van elk 2\,5 uur van 13:30 – 16:00. \nDaarnaast zijn er ook opdrachten die je thuis kan doen. \nDe training is op de volgende data: \n\nDonderdag 2 april\nDonderdag 9 april\nDonderdag 16 april\nDonderdag 23 april\nDonderdag 30 april\n\n  \nLocatie en adres \nDeze training vind plaats bij Steunpunt Zelfregie & Herstel in Utrecht\, Kaatstraat 18 3513 BK Utrecht \n  \nAanmelden: \nOm je aan te melden kan je een mail sturen naar steunpunt@zelfregie-herstel.nl \nHeb je vragen over de training of wil je graag overleggen of de training bij je past?  Stuur dan een mailtje naar a.jacobs@zelfregie-herstel.nl \n  \nVind je deze Training interessant? Kom dan ook! \nAan deelname zijn geen kosten verbonden! \nMocht je onverwachts verhinderd zijn\, horen wij dat graag 48 uur vóór de start van de workshop. \n  \nDe training wordt verzorgd door Anne Lotte Jacobs\, Trainer-Psycholoog en Ervaringsdeskundige.
URL:https://zelfregie-herstel.nl/agenda/training-positieve-blik-3/2026-04-16/
LOCATION:Locatie Utrecht\, Kaatstraat 18\, Utrecht\, Utrecht\, 3513 BK\, Nederland
CATEGORIES:Cursussen,Training
ATTACH;FMTTYPE=image/jpeg:https://zelfregie-herstel.nl/wp-content/uploads/instabericht-45-Facebook-bericht-e1764768679780.jpg
END:VEVENT
BEGIN:VEVENT
DTSTART;TZID=Europe/Amsterdam:20260416T140000
DTEND;TZID=Europe/Amsterdam:20260416T160000
DTSTAMP:20260420T110634
CREATED:20260217T132142Z
LAST-MODIFIED:20260414T065649Z
UID:10001502-1776348000-1776355200@zelfregie-herstel.nl
SUMMARY:Schrijven naar Herstel: een schrijfatelier over kracht\, kwetsbaarheid en verbinding
DESCRIPTION:Let op: Deze activiteit zit vol \nSchrijven naar herstel \n  \nSchrijven kan helpen bij herstel. Het gaat niet om een mooi verhaal\, maar om ruimte maken voor wat je voelt en denkt. Door te schrijven neem je de tijd. Je luistert beter naar jezelf en geeft woorden aan ervaringen die soms moeilijk te zeggen zijn. Schrijven kan helpen om overzicht te krijgen\, betekenis te vinden en vriendelijker naar jezelf te kijken. \n  \nIn dit schrijfatelier doen we verschillende oefeningen. We gebruiken schrijven\, meditatie\, visualisatie en aandacht voor het lichaam. We schrijven niet alleen met ons hoofd\, maar ook vanuit gevoel\, zintuigen en lichamelijke signalen. Door even stil te staan\, rustig te ademen en te voelen\, ontstaat een andere manier van schrijven: eerlijk\, zacht en soms verrassend. \n  \nEen belangrijke inspiratie is het gedicht De Herberg van Rumi. In dit gedicht zijn alle emoties welkom\, zoals blijdschap\, verdriet\, boosheid en angst. Ze worden gezien als gasten die even langskomen. Schrijven vanuit de herberg betekent dat alles er mag zijn. Je hoeft niets op te lossen of weg te duwen. Door te accepteren wat er is\, kan er beweging en herstel ontstaan. \n  \nDit atelier is een veilige plek om te oefenen met openheid\, nieuwsgierigheid en zelfcompassie. Je hoeft geen ervaring met schrijven te hebben. Het gaat niet om goed of fout\, maar om aanwezig zijn. Schrijven als een manier om goed voor jezelf te zorgen. \n  \nPraktische informatie \nDeze training bevat 4 bijeenkomsten van ieder 2 uur. \nKan je een of meerdere keren niet? Geen probleem je kan ook losse bijeenkomsten volgen\, maar meld je wel even aan 😊 \nDe bijeenkomsten zijn op donderdag van 14:00 – 16:00 \n\nDonderdag 16 april\nDonderdag 23 april\nDonderdag 30 april\nDonderdag 7 mei\n\n  \nLocatie en adres \nHet schrijfatelier vind plaats bij Steunpunt Zelfregie en Herstel locatie Utrecht \nKaatstraat 18\, 3513BK Utrecht \nWij zijn het best bereikbaar per fiets\, scooter of OV. Parkeren in de buurt is mogelijk\, maar wel betaald.  \n  \nVind je deze workshop interessant? Kom dan ook! \nAan deelname zijn geen kosten verbonden. \nMeld je aan door een mail te sturen naar steunpunt@zelfregie-herstel.nl \nMocht je onverwachts verhinderd zijn\, horen wij dat graag 48 uur vóór de start van de workshop.
URL:https://zelfregie-herstel.nl/agenda/schrijven-naar-herstel-2/2026-04-16/
LOCATION:Locatie Utrecht\, Kaatstraat 18\, Utrecht\, Utrecht\, 3513 BK\, Nederland
CATEGORIES:Creatieve Activiteiten,Cursussen,Training
ATTACH;FMTTYPE=image/png:https://zelfregie-herstel.nl/wp-content/uploads/Schrijfatelier-e1764775845131.png
END:VEVENT
BEGIN:VEVENT
DTSTART;TZID=Europe/Amsterdam:20260416T150000
DTEND;TZID=Europe/Amsterdam:20260416T170000
DTSTAMP:20260420T110634
CREATED:20260217T140823Z
LAST-MODIFIED:20260217T142950Z
UID:10001636-1776351600-1776358800@zelfregie-herstel.nl
SUMMARY:Workshop Moodboard – Zelfliefde en Herstel
DESCRIPTION:Workshop Moodboard – Zelfliefde en Herstel \n  \nIn deze workshop ga je op een creatieve en laagdrempelige manier aan de slag met het thema zelfliefde. Aan de hand van beelden\, woorden en kleuren maak je een moodboard dat laat zien wie jij bent\, wat jou kracht geeft en wat jij nodig hebt om goed voor jezelf te zorgen. \nZelfliefde speelt een belangrijke rol in herstel. Het helpt je om milder naar jezelf te kijken\, grenzen te herkennen en ruimte te maken voor groei. Door stil te staan bij jouw kwaliteiten\, verlangens en behoeften\, versterk je het contact met jezelf en vergroot je je zelfvertrouwen. \n  \nOp je moodboard kun je bijvoorbeeld verwerken: \n\nWat jou energie geeft en blij maakt\nEigenschappen waar je trots op bent\nWat jij nodig hebt in moeilijke momenten\nDingen die ontspanning geven\nPlekken waar je je veilig voelt\n\nNa afloop is er ruimte om – als je dat wilt – je moodboard en ervaringen met elkaar te delen. Dit kan zorgen voor herkenning\, steun en nieuwe inzichten. \n  \nDoelgroep \nDeze workshop is geschikt voor iedereen die op een creatieve manier wil werken aan zelfzorg\, herstel en persoonlijke groei. Ervaring met creatieve werkvormen is niet nodig. \n  \nPraktische informatie \nDeze creatieve workshop is op donderdag 16 april \nTijd: 15:00 – 17:00 \n  \nLocatie en adres \nDeze training vindt plaats bij Steunpunt Zelfregie & Herstel in De Bilt \nInloopPunt MENS\, Hessenweg 121\, 3731 JG De Bilt \n  \nVind je deze Training interessant? Kom dan ook! \nAanmelden kan door te mailen naar steunpunt@zelfregie-herstel.nl \nAan deelname zijn geen kosten verbonden! \nMocht je onverwachts verhinderd zijn\, horen wij dat graag 48 uur vóór de start van de workshop.
URL:https://zelfregie-herstel.nl/agenda/workshop-moodboard-zelfliefde-en-herstel-3/
LOCATION:Inlooppunt De Bilt\, Hessenweg 121\, De Bilt\, 3731 JG
CATEGORIES:Creatieve Activiteiten
ATTACH;FMTTYPE=image/jpeg:https://zelfregie-herstel.nl/wp-content/uploads/Waar-word-ik-blij-van_collage-scaled-e1764775624214.jpg
ORGANIZER;CN="Shivanni":MAILTO:s.jharap@zelfregie-herstel.nl
END:VEVENT
BEGIN:VEVENT
DTSTART;TZID=Europe/Amsterdam:20260416T150000
DTEND;TZID=Europe/Amsterdam:20260416T170000
DTSTAMP:20260420T110634
CREATED:20260311T090509Z
LAST-MODIFIED:20260324T080946Z
UID:10001971-1776351600-1776358800@zelfregie-herstel.nl
SUMMARY:Migrantenouderen in Beeld
DESCRIPTION:Migrantenouderen in Beeld \nDe presentatie van de publicatie Migrantenouderen in Beeld vindt plaats bij Steunpunt Zelfregie & Herstel in Utrecht. Deze middag wordt gezamenlijk georganiseerd door Steunpunt Zelfregie & Herstel en Saluti. \nAfgelopen jaar heeft Saluti gewerkt aan het project Migrantenouderen in Beeld. In dit project zijn twaalf ouderen met een migratieachtergrond in Utrecht geportretteerd en is met hen gesproken over hun leven\, ervaringen en uitdagingen. \nVeel van wat we uit onderzoek en statistieken kennen\, zien we terug in hun verhalen – maar dan concreet en dichtbij. Armoede krijgt een gezicht en eenzaamheid krijgt een stem. De portretten zijn geen “bewijs” in statistische zin\, maar vormen wel een sterke lens op hoe het is om in Utrecht oud te worden met een migratieachtergrond. \nTijdens de presentatie is er ook ruimte om met elkaar en met de gemeente in gesprek te gaan over hoe hier in de toekomst samen verder aan gewerkt kan worden. \n  \nDoelgroep \nPartners en andere geïnteresseerden die betrokken zijn bij het thema migrantenouderen. \n  \nPraktisch \n\nDonderdag 16 april 2026\n15:00-17:00 uur\n\n  \nLocatie \nDe presentatie vindt plaats bij Steunpunt Zelfregie & Herstel in Utrecht. \nAdres \nKaatstraat 183513 BK Utrecht \n  \nProgramma: \n\nPresentatie publicatie\nOverhandiging + reactie wethouder Linda Voortman\nPanelgesprek\nAfsluiting\n\n  \nGeïnteresseerd? \nJe bent van harte welkom om de presentatie bij te wonen. \n  \nAanmelden: \nMeld je aan via info@salutieutrecht.org
URL:https://zelfregie-herstel.nl/agenda/migrantenouderen-in-beeld/
LOCATION:Locatie Utrecht\, Kaatstraat 18\, Utrecht\, Utrecht\, 3513 BK\, Nederland
CATEGORIES:Groepsbijeenkomst,Lotgenotengroep,Themabijeenkomst
ATTACH;FMTTYPE=image/jpeg:https://zelfregie-herstel.nl/wp-content/uploads/Header-voor-website-of-Informatiescherm-3.jpg
ORGANIZER;CN="Hasan":MAILTO:h.kaplan@zelfregie-herstel.nl
END:VEVENT
END:VCALENDAR