BEGIN:VCALENDAR
VERSION:2.0
PRODID:-// Steunpunt Zelfregie &amp; Herstel - ECPv6.15.20//NONSGML v1.0//EN
CALSCALE:GREGORIAN
METHOD:PUBLISH
X-ORIGINAL-URL:https://zelfregie-herstel.nl
X-WR-CALDESC:Evenementen voor  Steunpunt Zelfregie &amp; Herstel
REFRESH-INTERVAL;VALUE=DURATION:PT1H
X-Robots-Tag:noindex
X-PUBLISHED-TTL:PT1H
BEGIN:VTIMEZONE
TZID:Europe/Amsterdam
BEGIN:DAYLIGHT
TZOFFSETFROM:+0100
TZOFFSETTO:+0200
TZNAME:CEST
DTSTART:20250330T010000
END:DAYLIGHT
BEGIN:STANDARD
TZOFFSETFROM:+0200
TZOFFSETTO:+0100
TZNAME:CET
DTSTART:20251026T010000
END:STANDARD
BEGIN:DAYLIGHT
TZOFFSETFROM:+0100
TZOFFSETTO:+0200
TZNAME:CEST
DTSTART:20260329T010000
END:DAYLIGHT
BEGIN:STANDARD
TZOFFSETFROM:+0200
TZOFFSETTO:+0100
TZNAME:CET
DTSTART:20261025T010000
END:STANDARD
BEGIN:DAYLIGHT
TZOFFSETFROM:+0100
TZOFFSETTO:+0200
TZNAME:CEST
DTSTART:20270328T010000
END:DAYLIGHT
BEGIN:STANDARD
TZOFFSETFROM:+0200
TZOFFSETTO:+0100
TZNAME:CET
DTSTART:20271031T010000
END:STANDARD
BEGIN:DAYLIGHT
TZOFFSETFROM:+0100
TZOFFSETTO:+0200
TZNAME:CEST
DTSTART:20280326T010000
END:DAYLIGHT
BEGIN:STANDARD
TZOFFSETFROM:+0200
TZOFFSETTO:+0100
TZNAME:CET
DTSTART:20281029T010000
END:STANDARD
END:VTIMEZONE
BEGIN:VEVENT
DTSTART;VALUE=DATE:20260101
DTEND;VALUE=DATE:20270102
DTSTAMP:20260421T214010
CREATED:20240619T110251Z
LAST-MODIFIED:20260203T090649Z
UID:10001317-1767225600-1798847999@zelfregie-herstel.nl
SUMMARY:Schrijf jouw herstelverhaal
DESCRIPTION:Inhoud\nGa met een open hart op ontdekkingsreis door je eigen ervaringen en ontdek welke kracht er schuilt in jouw verhaal. In de cursus “Schrijf jouw herstelverhaal” gebruik je tegenslagen uit het verleden juist als springplank naar persoonlijke groei. Om je te helpen met het schrijven kun je kiezen uit verschillende bouwstenen (thema’s) zoals: Mijn kwetsbaarheid\, Rollen\, Hulpverlening\, Bronnen van steun\, Eigen oplossingen\, Valkuilen\, Stigma en Toekomst. Jij bepaalt de volgorde van de bouwstenen waarmee je jouw verhaal gaat vormgeven. Zo ontstaat een herstelverhaal dat écht van jou is.  \n  \nMet behulp van een online coach schrijf je in je eigen tempo en op jouw manier. Je ontdekt verborgen krachten en zet ze in om met meer vertrouwen en veerkracht naar de toekomst te kijken. Heb je vragen of loop je vast? Je coach staat klaar om je te helpen.  \n  \nVoel je uitgenodigd om mee op avontuur te gaan en je eigen pad te creëren. Je hebt alle tijd om je verhaal te voltooien\, en samen zorgen we ervoor dat je alle ruimte krijgt om jouw herstelverhaal vorm te geven. Sluit je aan en laat je inspireren door de ontdekkingsreis naar de beste versie van jezelf! \n  \nKenmerken van Herstelverhaal\n\nPersoonlijk en Uniek: Elk herstelverhaal is uniek en persoonlijk\, wat betekent dat het diep ingaat op de individuele ervaringen en gevoelens van de verteller.\nErvaringen en Inzichten: Het beschrijft ervaringen die iemand heeft doorgemaakt en de inzichten die zijn verkregen in het omgaan met deze moeilijkheden.\nSteun en Hulpmiddelen: Het benadrukt welke mensen\, middelen steun hebben geboden tijdens het herstelproces.\nKracht en Hoop: Het verhaal straalt kracht en hoop uit\, en laat zien hoe iemand zijn of haar leven weer op de rails heeft gekregen na tegenslagen.\n\n  \nDoelen van Herstelverhaal\n\nInspiratie en Hoop\nErkenning en Begrip\nOndersteuning en Verbinding\nPersoonlijke Groei\n\n  \n“Mijn Herstelverhaal maakt me trots op wat ik ondanks mijn worsteling heb bereikt in mijn leven.’’\n– Marloes (Deelnemer) \n  \nPraktische informatie\nHet schrijven van jouw herstelverhaal verloopt in het tempo dat voor jou prettig is en zal zoveel mogelijk digitaal plaatsvinden. Wanneer je dingen op papier wilt uitwerken adviseren wij om je verhaal uiteindelijk te digitaliseren door deze bijvoorbeeld in te scannen. \n\nOnze E-coach helpt jou met het schrijven van het herstelverhaal gedurende een periode van 18 weken \nHet herstelverhaal wordt in het Nederlands geschreven\nAan deelname zijn géén kosten verbonden voor mensen in de regio Utrecht\nLet op: we werken met een wachtlijst\nAanmelding via e-coaching@zelfregie-herstel.nl \nWil je iemand spreken dan kan je ons bereiken op het telefoonnummer: 06 10 42 34 35\n\n 
URL:https://zelfregie-herstel.nl/agenda/herstelverhaal/
LOCATION:Digitaal\, Kaatstraat 18\, Utrecht\, Utrecht\, 3513BK\, Netherlands
CATEGORIES:Cursussen,Individueel
ATTACH;FMTTYPE=image/png:https://zelfregie-herstel.nl/wp-content/uploads/Herstelverhaal_001-01-e1764774278407.png
END:VEVENT
BEGIN:VEVENT
DTSTART;VALUE=DATE:20260101
DTEND;VALUE=DATE:20270102
DTSTAMP:20260421T214010
CREATED:20251125T125059Z
LAST-MODIFIED:20260414T075618Z
UID:10001586-1767225600-1798847999@zelfregie-herstel.nl
SUMMARY:Koffie en Kletsen
DESCRIPTION:Inhoud\nLoop eens binnen bij een van onze locaties! \nWil je praten over onderwerpen zoals stress\, burn-out\, schulden of eenzaamheid? Of wil je gewoon je verhaal kwijt? Je bent bij ons van harte welkom. Kom langs voor een kopje koffie of thee\, maak een praatje en ontdek onze activiteiten. \n  \nPraktische informatie\n  \n\n\n\n\nLocaties Utrecht\nT. +31 6 10 42 34 35\n \nKaatstraat 18\n3513 BK Utrecht\nMa t/m woe: 9.30 – 12.30 uur \nLocatie Kanaleneiland\nBernadottelaan 6\,\n3527 GB\, Utrecht\nMa: 14:00-16:00 uur\nWo: 10:30-12:30 uur \n  \n\n\n\n\n\n\n\n\nLocatie Zeist\nLaan van Vollenhove\n3706 ER Zeist\, L-Flat / Portiek 8\nDi t/m do: 10.00 – 12.00 uur\nM. 06 – 13 61 67 91 \n  \n\n\n\n\n\n\n\n\nLocatie de Bilt\n \nInloopspreekuur MENS\nHessenweg 121\, 3731 JM De Bilt\nElke donderdagmiddag\n13:00 – 15:00 uur\nT. +31 6 10 42 34 35 \n\n 
URL:https://zelfregie-herstel.nl/agenda/koffie-en-kletsen/
LOCATION:Locatie Utrecht\, Kaatstraat 18\, Utrecht\, Utrecht\, 3513 BK\, Nederland
CATEGORIES:Inloopdag
ATTACH;FMTTYPE=image/jpeg:https://zelfregie-herstel.nl/wp-content/uploads/koffie_02-scaled-e1764926862136.jpg
END:VEVENT
BEGIN:VEVENT
DTSTART;TZID=Europe/Amsterdam:20260616T103000
DTEND;TZID=Europe/Amsterdam:20260616T123000
DTSTAMP:20260421T214010
CREATED:20260407T101956Z
LAST-MODIFIED:20260414T091903Z
UID:10002607-1781605800-1781613000@zelfregie-herstel.nl
SUMMARY:Peersupport groep – Moederschap in balans
DESCRIPTION:Peersupport groep – Moederschap in balans \nHet moederschap is een van de grootste transities in je leven. Soms raakt de balans echter volledig zoek. Voel je je somber\, overweldigd\, of herken je jezelf niet meer in de rol van moeder? Het kan voelen alsof je de grip kwijt bent\, maar je hoeft die balans niet alleen terug te vinden. \nMoederschap in Balans is een groep voor moeders die zich niet goed voelen tijdens de zwangerschap of na de geboorte van hun baby\, zoals somberheid\, angst\, veel stress of zich erg moe en overweldigd voelen. \nIn een veilige\, kleinschalige setting delen we ervaringen\, erkenning en handvatten om stap voor stap weer steviger in je schoenen te staan. \n  \nWat brengt deze groep jou? \n\nRuimte voor jouw verhaal: Zonder schaamte en zonder het gevoel dat je je groot moet houden.\nGedeelde ervaringen: Ontdek dat jouw gedachten en gevoelens vaker voorkomen dan je denkt.\nFocus op herstel: Samen kijken we naar wat jou helpt om de balans tussen zorg\, jezelf zijn en genieten terug te vinden.\nVerbinding: Contact met andere moeders die begrijpen dat de roze wolk soms grijs kan zijn.\n\n“Je bent meer dan je somberheid. Samen zoeken we naar de balans die bij jou past.” \n  \nDoelgroep \nMoeders of aanstaande moeders die peersupport kunnen gebruiken. \n  \nPraktische informatie \nDe peersupportgroep moederschap in balans komt vanaf dinsdag 16 juni\, iedere dinsdag\, gedurende 6 weken bij elkaar van 10:30 – 12:30. \n\nDinsdag 16 juni\nDinsdag 23 juni\nDinsdag 30 juni\nDinsdag 7 juli\nDinsdag 14 juli\nDinsdag 21 juli\n\nLocatie en adres \nDe peersupportgroep moederschap in balans zal plaatsvinden bij Steunpunt Zelfregie & Herstel in Utrecht. \nKaatstraat 18\, 3513 BJ Utrecht \nWij zijn het best bereikbaar per fiets\, scooter of OV. Parkeren in de buurt is mogelijk\, maar wel betaald. \n  \nVind je deze groep interessant? Kom dan ook! \nAan deelname zijn geen kosten verbonden. \nAanmelden kan door te mailen naar steunpunt@zelfregie-herstel.nl \nMocht je onverwachts verhinderd zijn\, horen wij dat graag 48 uur vóór de start van de workshop. \n  \nTrainer \nDeze training wordt verzorgd door Jamila\, ervaringsdeskundige en trainer bij Steunpunt Zelfregie & Herstel.
URL:https://zelfregie-herstel.nl/agenda/peersupport-groep-moederschap-in-balans/2026-06-16/
LOCATION:Locatie Utrecht\, Kaatstraat 18\, Utrecht\, Utrecht\, 3513 BK\, Nederland
CATEGORIES:Groepsbijeenkomst,Lotgenotengroep,Themabijeenkomst
ATTACH;FMTTYPE=image/jpeg:https://zelfregie-herstel.nl/wp-content/uploads/website-foto-5.jpg
ORGANIZER;CN="Jamila":MAILTO:j.bouhriss@zelfregie-herstel.nl
END:VEVENT
BEGIN:VEVENT
DTSTART;TZID=Europe/Amsterdam:20260616T150000
DTEND;TZID=Europe/Amsterdam:20260616T170000
DTSTAMP:20260421T214010
CREATED:20260217T143459Z
LAST-MODIFIED:20260421T065932Z
UID:10001650-1781622000-1781629200@zelfregie-herstel.nl
SUMMARY:Dans en Herstel: in beweging naar jezelf
DESCRIPTION:Herstellen doe je op je eigen manier\, in je eigen tempo. Dans en Herstel is een reeks van bijeenkomsten waarin we op een zachte\, lichaamsgerichte manier onderzoeken wat herstel voor jóu betekent. We maken ruimte voor jouw eigen ervaring. Niet met woorden\, maar met beweging. Geen danspasjes\, geen prestatiedruk. Wel luisteren naar je lichaam en ontdekken wat het je wil vertellen. Je hoeft geen ervaring te hebben met dans of beweging. Alles wat je doet\, is goed zoals het is. Elke bijeenkomst heeft een thema rondom herstel\, zoals: grenzen voelen\, ruimte innemen\, je veilig voelen in je lijf\, verbinding met jezelf en anderen\, of je eigen ritme (terug)vinden.\nDe oefeningen zijn eenvoudig en toegankelijk. Soms werk je alleen\, soms met een ander of in een kleine groep. Daarnaast gebruiken we tekenen of schrijven als extra vorm om je ervaring te verbeelden of even te laten landen. We sluiten elke bijeenkomst af met een moment van vrije dans\, waarin je op jouw manier in beweging kunt brengen wat er in jou leeft.\n  \nAlles is een uitnodiging\, niets is verplicht. Je mag altijd bewegen zoals jíj wilt bewegen. Jij bepaalt wat klopt voor jou. \n\nPraktische informatie\nDe reeks start met een introductiebijeenkomst op dinsdag 19 mei (15.00–17.00) \nDaarin kun je een persoonlijk thema inbrengen dat je in de reeks verder wilt onderzoeken.  \n  \nDaarna volgen vijf bijeenkomsten op: \n26 mei\, 2\, 9\, 16 en 30 juni (allemaal dinsdagen)\nTijd: 15:00-17:00 \n  \nAanmelden?\nStuur een mail naar: steunpunt@zelfregie-herstel.nl \nJe schrijft je in voor de volledige reeks. Later instromen kan in overleg\, afhankelijk van het aantal aanmeldingen. Is de groep vol? Dan plaatsen we je op de wachtlijst en nemen contact met je op zodra er plek is. \n  \nLocatie en adres\nDans en Herstel vind plaats bij Steunpunt Zelfregie en Herstel locatie Utrecht\nKaatstraat 18\, 3513BK Utrecht \nWij zijn het best bereikbaar per fiets\, scooter of OV. Parkeren in de buurt is mogelijk\, maar wel betaald.  \n  \nJe bent welkom\, precies zoals je nu bent.\nLaat je lichaam spreken en ontdek wat bewegen voor jouw herstel kan betekenen. \nAan deelname zijn géén kosten verbonden.\nMocht je onverwachts verhinderd zijn\, horen wij dat graag 48 uur voor de start van de bijeenkomst. \n  \nTrainer\nDe reeks wordt begeleid door Sering. Zij is afgestudeerd social worker en danscoach\, met een sterke affiniteit met ecstatic dance en lichaamsgericht werken. Ze voelt en belichaamt de kracht van dans als een holistische manier om herstel te ondersteunen vanuit zachtheid\, vrijheid en eigen regie.
URL:https://zelfregie-herstel.nl/agenda/dans-en-herstel-in-beweging-naar-jezelf-2/2026-06-16/
LOCATION:Locatie Utrecht\, Kaatstraat 18\, Utrecht\, Utrecht\, 3513 BK\, Nederland
CATEGORIES:Beweging
ATTACH;FMTTYPE=image/jpeg:https://zelfregie-herstel.nl/wp-content/uploads/Workshop_dans-en-herstel_1-e1764941632706.jpg
END:VEVENT
BEGIN:VEVENT
DTSTART;TZID=Europe/Amsterdam:20260616T150000
DTEND;TZID=Europe/Amsterdam:20260616T170000
DTSTAMP:20260421T214010
CREATED:20260324T103700Z
LAST-MODIFIED:20260324T103700Z
UID:10002006-1781622000-1781629200@zelfregie-herstel.nl
SUMMARY:Training: Maak jouw eigen herstelplan
DESCRIPTION:Inhoud \nSoms zit je hoofd vol en weet je even niet meer wat je wilt of kunt. In deze training ga je samen met anderen op ontdekking. Stap voor stap werk je aan jouw eigen Zelfregie en Herstel Plan. Je staat er niet alleen voor. \nIn een kleine\, veilige groep leer je elkaar kennen\, luister je naar elkaars verhalen en ontdek je wat voor jou belangrijk is. Met behulp van het Positieve Gezondheid-spinnenweb kijken we naar verschillende kanten van je leven: wat gaat al goed en wat wil je graag veranderen? \nDaarna maak je jouw eigen plan. Jij kiest welke stappen bij jou passen. Ook kijken we samen wie jou kan helpen: mensen uit je omgeving of andere steun. \nAan het einde ga je met vertrouwen aan de slag met jouw plan. De groep\, ervaringsdeskundigen en vrijwilligers lopen een stukje met je mee. \nSamen op weg naar meer regie\, herstel en nieuwe mogelijkheden. \n  \nDoelgroep \nVoor iedereen die door middel van Peer Support wil werken aan herstel. \n  \nPraktische informatie \nDeze training bestaat uit 5 bijeenkomsten op dinsdag van 15:00 – 17:00 uur. \nDinsdag 19 mei – Startbijeenkomst \nDinsdag 26 mei – Positieve Gezondheid \nDinsdag 2 juni – Dromen en Doelen \nDinsdag 9 juni – Van doel naar plan \nDinsdag 16 juni – Van plan naar doen \n  \nSchikt deze data je niet? Kijk naar onze andere mogelijkheden voor deze training. \n  \nAanmelden \nOm je aan te melden kan je een mail sturen naar steunpunt@zelfregie-herstel.nl of vul het contact formulier in op onze website. \n  \nLocatie en adres \nSteunpunt Zelfregie & Hersel\nKaatstraat 18\n3513 BK\, Utrecht \n  \nVind je deze training interessant? Kom dan ook! \nAan deelname zijn geen kosten verbonden.\nMocht je onverwachts verhinderd zijn\, horen wij dat graag 48 uur vóór de start van de training. \n  \nDeze training wordt gegeven door ervaringsdeskundige Doreen.
URL:https://zelfregie-herstel.nl/agenda/training-maak-jouw-eigen-herstelplan-3/2026-06-16/
LOCATION:Locatie Utrecht\, Kaatstraat 18\, Utrecht\, Utrecht\, 3513 BK\, Nederland
CATEGORIES:Training,Zelfregie & Herstel Plan
ATTACH;FMTTYPE=image/png:https://zelfregie-herstel.nl/wp-content/uploads/Tekengebied-29-e1774348481885.png
ORGANIZER;CN="Doreen":MAILTO:d.kapaan@zelfregie-herstel.nl
END:VEVENT
END:VCALENDAR