BEGIN:VCALENDAR
VERSION:2.0
PRODID:-// Steunpunt Zelfregie &amp; Herstel - ECPv6.15.20//NONSGML v1.0//EN
CALSCALE:GREGORIAN
METHOD:PUBLISH
X-ORIGINAL-URL:https://zelfregie-herstel.nl
X-WR-CALDESC:Evenementen voor  Steunpunt Zelfregie &amp; Herstel
REFRESH-INTERVAL;VALUE=DURATION:PT1H
X-Robots-Tag:noindex
X-PUBLISHED-TTL:PT1H
BEGIN:VTIMEZONE
TZID:Europe/Amsterdam
BEGIN:DAYLIGHT
TZOFFSETFROM:+0100
TZOFFSETTO:+0200
TZNAME:CEST
DTSTART:20250330T010000
END:DAYLIGHT
BEGIN:STANDARD
TZOFFSETFROM:+0200
TZOFFSETTO:+0100
TZNAME:CET
DTSTART:20251026T010000
END:STANDARD
BEGIN:DAYLIGHT
TZOFFSETFROM:+0100
TZOFFSETTO:+0200
TZNAME:CEST
DTSTART:20260329T010000
END:DAYLIGHT
BEGIN:STANDARD
TZOFFSETFROM:+0200
TZOFFSETTO:+0100
TZNAME:CET
DTSTART:20261025T010000
END:STANDARD
BEGIN:DAYLIGHT
TZOFFSETFROM:+0100
TZOFFSETTO:+0200
TZNAME:CEST
DTSTART:20270328T010000
END:DAYLIGHT
BEGIN:STANDARD
TZOFFSETFROM:+0200
TZOFFSETTO:+0100
TZNAME:CET
DTSTART:20271031T010000
END:STANDARD
END:VTIMEZONE
BEGIN:VEVENT
DTSTART;TZID=Europe/Amsterdam:20260123T190000
DTEND;TZID=Europe/Amsterdam:20260123T210000
DTSTAMP:20260421T235433
CREATED:20260113T133802Z
LAST-MODIFIED:20260113T133802Z
UID:10001568-1769194800-1769202000@zelfregie-herstel.nl
SUMMARY:Het Empowermentcafé – Vóór en dóór jongvolwassenen
DESCRIPTION:Empower jezelf\, en groei samen in een betrokken community!\nGa samen met ons mee op reis en herontdek jezelf door ervaringen uit te wisselen. Het Empowermentcafé is een inspirerende plek om je verhaal te delen\, nieuwe mensen te ontmoeten en jezelf te ontwikkelen en te versterken. Bij het Empowermentcafé komen we in een groep en duiken we samen in onderwerpen die er echt toe doen.  \n  \nDe thema’s worden mede door jullie bepaald\, jij bent dus mede-eigenaar van de inhoud! \n  \nThema’s die aan bod komen zijn onder andere: \n\nVerbinding\nZelfbeeld\nAcceptatie\nEenzaamheid\nVeerkracht\nZingeving\n\n  \nWe verkennen de thema’s op verschillende manieren: \n\nErvaringen uitwisselen en peer support\nCreatieve opdrachten\nMeditaties\nLeren door te doen door middel van speelse werkvormen\nInspirerende video’s en TED-talks\n\n  \nDoelgroep\nJongvolwassenen \n  \nPraktische informatie\nHet Empowerment café wordt iedere eerste en derde vrijdagavond gehouden. \nTijd: 19:00 tot 21:00 uur  \nAanmelden via: steunpunt@zelfregie-herstel.nl \nAan deelname zijn geen kosten verbonden. \nMocht je onverwachts verhinderd zijn\, horen wij dat graag 48 uur voor de start van de workshop.  \n  \nLocatie en adres\nDe fysieke bijeenkomsten van deze training vinden plaats bij Steunpunt Zelfregie & Herstel op onze locatie in Utrecht \nKaatstraat 18\, 3513 BK Utrecht \n  \nTrainer\nDeze workshop wordt verzorgd door Maiwenn\, ervaringsdeskundige bij Steunpunt Zelfregie & Herstel. \n\nVind je deze activiteit interessant? Kom dan ook!
URL:https://zelfregie-herstel.nl/agenda/empowerment-cafe-2/
LOCATION:Locatie Utrecht\, Kaatstraat 18\, Utrecht\, Utrecht\, 3513 BK\, Nederland
CATEGORIES:Jongeren
ATTACH;FMTTYPE=image/jpeg:https://zelfregie-herstel.nl/wp-content/uploads/Empowerment-Cafe_01-scaled-e1764772318994.jpg
END:VEVENT
BEGIN:VEVENT
DTSTART;TZID=Europe/Amsterdam:20260123T190000
DTEND;TZID=Europe/Amsterdam:20260123T210000
DTSTAMP:20260421T235433
CREATED:20250318T133501Z
LAST-MODIFIED:20260120T124348Z
UID:10001612-1769194800-1769202000@zelfregie-herstel.nl
SUMMARY:Het Empowermentcafé – Vóór en dóór jongvolwassenen
DESCRIPTION:Empower jezelf\, en groei samen in een betrokken community!\nGa samen met ons mee op reis en herontdek jezelf door ervaringen uit te wisselen. Het Empowermentcafé is een inspirerende plek om je verhaal te delen\, nieuwe mensen te ontmoeten en jezelf te ontwikkelen en te versterken. Bij het Empowermentcafé komen we in een groep en duiken we samen in onderwerpen die er echt toe doen.  \n  \nDe thema’s worden mede door jullie bepaald\, jij bent dus mede-eigenaar van de inhoud! \n  \nThema’s die aan bod komen zijn onder andere: \n\nVerbinding\nZelfbeeld\nAcceptatie\nEenzaamheid\nVeerkracht\nZingeving\n\n  \nWe verkennen de thema’s op verschillende manieren: \n\nErvaringen uitwisselen en peer support\nCreatieve opdrachten\nMeditaties\nLeren door te doen door middel van speelse werkvormen\nInspirerende video’s en TED-talks\n\n  \nDoelgroep\nJongvolwassenen \n  \nPraktische informatie\nHet Empowerment café wordt iedere eerste en derde vrijdagavond gehouden. \nTijd: 19:00 tot 21:00 uur  \nAanmelden via: steunpunt@zelfregie-herstel.nl \nAan deelname zijn geen kosten verbonden. \nMocht je onverwachts verhinderd zijn\, horen wij dat graag 48 uur voor de start van de workshop.  \n  \nLocatie en adres\nDe fysieke bijeenkomsten van deze training vinden plaats bij Steunpunt Zelfregie & Herstel op onze locatie in Utrecht \nKaatstraat 18\, 3513 BK Utrecht \n  \nTrainer\nDeze workshop wordt verzorgd door Maiwenn\, ervaringsdeskundige bij Steunpunt Zelfregie & Herstel. \n\nVind je deze activiteit interessant? Kom dan ook!
URL:https://zelfregie-herstel.nl/agenda/empowerment-cafe/
LOCATION:Locatie Utrecht\, Kaatstraat 18\, Utrecht\, Utrecht\, 3513 BK\, Nederland
CATEGORIES:Jongeren
ATTACH;FMTTYPE=image/jpeg:https://zelfregie-herstel.nl/wp-content/uploads/Empowerment-Cafe_01-scaled-e1764772318994.jpg
END:VEVENT
END:VCALENDAR