BEGIN:VCALENDAR
VERSION:2.0
PRODID:-// Steunpunt Zelfregie &amp; Herstel - ECPv6.15.20//NONSGML v1.0//EN
CALSCALE:GREGORIAN
METHOD:PUBLISH
X-WR-CALNAME: Steunpunt Zelfregie &amp; Herstel
X-ORIGINAL-URL:https://zelfregie-herstel.nl
X-WR-CALDESC:Evenementen voor  Steunpunt Zelfregie &amp; Herstel
REFRESH-INTERVAL;VALUE=DURATION:PT1H
X-Robots-Tag:noindex
X-PUBLISHED-TTL:PT1H
BEGIN:VTIMEZONE
TZID:Europe/Amsterdam
BEGIN:DAYLIGHT
TZOFFSETFROM:+0100
TZOFFSETTO:+0200
TZNAME:CEST
DTSTART:20250330T010000
END:DAYLIGHT
BEGIN:STANDARD
TZOFFSETFROM:+0200
TZOFFSETTO:+0100
TZNAME:CET
DTSTART:20251026T010000
END:STANDARD
BEGIN:DAYLIGHT
TZOFFSETFROM:+0100
TZOFFSETTO:+0200
TZNAME:CEST
DTSTART:20260329T010000
END:DAYLIGHT
BEGIN:STANDARD
TZOFFSETFROM:+0200
TZOFFSETTO:+0100
TZNAME:CET
DTSTART:20261025T010000
END:STANDARD
BEGIN:DAYLIGHT
TZOFFSETFROM:+0100
TZOFFSETTO:+0200
TZNAME:CEST
DTSTART:20270328T010000
END:DAYLIGHT
BEGIN:STANDARD
TZOFFSETFROM:+0200
TZOFFSETTO:+0100
TZNAME:CET
DTSTART:20271031T010000
END:STANDARD
END:VTIMEZONE
BEGIN:VEVENT
DTSTART;TZID=Europe/Amsterdam:20260602T150000
DTEND;TZID=Europe/Amsterdam:20260602T170000
DTSTAMP:20260422T003936
CREATED:20260324T103700Z
LAST-MODIFIED:20260324T103700Z
UID:10002004-1780412400-1780419600@zelfregie-herstel.nl
SUMMARY:Training: Maak jouw eigen herstelplan
DESCRIPTION:Inhoud \nSoms zit je hoofd vol en weet je even niet meer wat je wilt of kunt. In deze training ga je samen met anderen op ontdekking. Stap voor stap werk je aan jouw eigen Zelfregie en Herstel Plan. Je staat er niet alleen voor. \nIn een kleine\, veilige groep leer je elkaar kennen\, luister je naar elkaars verhalen en ontdek je wat voor jou belangrijk is. Met behulp van het Positieve Gezondheid-spinnenweb kijken we naar verschillende kanten van je leven: wat gaat al goed en wat wil je graag veranderen? \nDaarna maak je jouw eigen plan. Jij kiest welke stappen bij jou passen. Ook kijken we samen wie jou kan helpen: mensen uit je omgeving of andere steun. \nAan het einde ga je met vertrouwen aan de slag met jouw plan. De groep\, ervaringsdeskundigen en vrijwilligers lopen een stukje met je mee. \nSamen op weg naar meer regie\, herstel en nieuwe mogelijkheden. \n  \nDoelgroep \nVoor iedereen die door middel van Peer Support wil werken aan herstel. \n  \nPraktische informatie \nDeze training bestaat uit 5 bijeenkomsten op dinsdag van 15:00 – 17:00 uur. \nDinsdag 19 mei – Startbijeenkomst \nDinsdag 26 mei – Positieve Gezondheid \nDinsdag 2 juni – Dromen en Doelen \nDinsdag 9 juni – Van doel naar plan \nDinsdag 16 juni – Van plan naar doen \n  \nSchikt deze data je niet? Kijk naar onze andere mogelijkheden voor deze training. \n  \nAanmelden \nOm je aan te melden kan je een mail sturen naar steunpunt@zelfregie-herstel.nl of vul het contact formulier in op onze website. \n  \nLocatie en adres \nSteunpunt Zelfregie & Hersel\nKaatstraat 18\n3513 BK\, Utrecht \n  \nVind je deze training interessant? Kom dan ook! \nAan deelname zijn geen kosten verbonden.\nMocht je onverwachts verhinderd zijn\, horen wij dat graag 48 uur vóór de start van de training. \n  \nDeze training wordt gegeven door ervaringsdeskundige Doreen.
URL:https://zelfregie-herstel.nl/agenda/training-maak-jouw-eigen-herstelplan-3/2026-06-02/
LOCATION:Locatie Utrecht\, Kaatstraat 18\, Utrecht\, Utrecht\, 3513 BK\, Nederland
CATEGORIES:Training,Zelfregie & Herstel Plan
ATTACH;FMTTYPE=image/png:https://zelfregie-herstel.nl/wp-content/uploads/Tekengebied-29-e1774348481885.png
ORGANIZER;CN="Doreen":MAILTO:d.kapaan@zelfregie-herstel.nl
END:VEVENT
BEGIN:VEVENT
DTSTART;TZID=Europe/Amsterdam:20260603T140000
DTEND;TZID=Europe/Amsterdam:20260603T160000
DTSTAMP:20260422T003936
CREATED:20260324T102641Z
LAST-MODIFIED:20260324T103451Z
UID:10001995-1780495200-1780502400@zelfregie-herstel.nl
SUMMARY:Training: Maak jouw eigen herstelplan
DESCRIPTION:Inhoud \n  \nSoms zit je hoofd vol en weet je even niet meer wat je wilt of kunt. In deze training ga je samen met anderen op ontdekking. Stap voor stap werk je aan jouw eigen Zelfregie en Herstel Plan. Je staat er niet alleen voor. \n  \nIn een kleine\, veilige groep leer je elkaar kennen\, luister je naar elkaars verhalen en ontdek je wat voor jou belangrijk is. Met behulp van het Positieve Gezondheid-spinnenweb kijken we naar verschillende kanten van je leven: wat gaat al goed en wat wil je graag veranderen? \n  \nDaarna maak je jouw eigen plan. Jij kiest welke stappen bij jou passen. Ook kijken we samen wie jou kan helpen: mensen uit je omgeving of andere steun. \n  \nAan het einde ga je met vertrouwen aan de slag met jouw plan. De groep\, ervaringsdeskundigen en vrijwilligers lopen een stukje met je mee. \n  \nSamen op weg naar meer regie\, herstel en nieuwe mogelijkheden. \n  \nDoelgroep \nVoor iedereen die door middel van Peer Support wil werken aan herstel. \n  \nPraktische informatie \nDeze training bestaat uit 5 bijeenkomsten op woensdag van 14:00 – 16:00 uur. \nWoensdag 13 mei – Startbijeenkomst \nWoensdag 20 mei – Positieve Gezondheid \nWoensdag 27 mei – Dromen en Doelen \nWoensdag 3 juni – Van doel naar plan \nWoensdag 10 juni – Van plan naar doen \n  \nSchikt deze data je niet? Kijk naar onze andere mogelijkheden voor deze training. \n  \nAanmelden \nOm je aan te melden kan je een mail sturen naar steunpunt@zelfregie-herstel.nl of vul het contact formulier in op onze website. \n  \nLocatie en adres \nSteunpunt Zelfregie & Herstel Zeist \nLaan van Vollenhove \n3706 ER Zeist\, L-Flat / Portiek 8 \n  \n  \nVind je deze training interessant? Kom dan ook! \nAan deelname zijn geen kosten verbonden.\nMocht je onverwachts verhinderd zijn\, horen wij dat graag 48 uur vóór de start van de training. \n  \n  \nDeze training wordt gegeven door ervaringsdeskundige Shivanni.
URL:https://zelfregie-herstel.nl/agenda/training-maak-jouw-eigen-herstelplan-2/2026-06-03/
LOCATION:Locatie Zeist: Laan van Vollenhove – Portiek 8\, Laan van Vollenhove\, Zeist\, 3706 ER\, Nederland
CATEGORIES:Training,Zelfregie & Herstel Plan
ATTACH;FMTTYPE=image/png:https://zelfregie-herstel.nl/wp-content/uploads/Tekengebied-29-e1774348481885.png
ORGANIZER;CN="Shivanni":MAILTO:s.jharap@zelfregie-herstel.nl
END:VEVENT
END:VCALENDAR