BEGIN:VCALENDAR
VERSION:2.0
PRODID:-// Steunpunt Zelfregie &amp; Herstel - ECPv6.15.20//NONSGML v1.0//EN
CALSCALE:GREGORIAN
METHOD:PUBLISH
X-WR-CALNAME: Steunpunt Zelfregie &amp; Herstel
X-ORIGINAL-URL:https://zelfregie-herstel.nl
X-WR-CALDESC:Evenementen voor  Steunpunt Zelfregie &amp; Herstel
REFRESH-INTERVAL;VALUE=DURATION:PT1H
X-Robots-Tag:noindex
X-PUBLISHED-TTL:PT1H
BEGIN:VTIMEZONE
TZID:Europe/Amsterdam
BEGIN:DAYLIGHT
TZOFFSETFROM:+0100
TZOFFSETTO:+0200
TZNAME:CEST
DTSTART:20230326T010000
END:DAYLIGHT
BEGIN:STANDARD
TZOFFSETFROM:+0200
TZOFFSETTO:+0100
TZNAME:CET
DTSTART:20231029T010000
END:STANDARD
BEGIN:DAYLIGHT
TZOFFSETFROM:+0100
TZOFFSETTO:+0200
TZNAME:CEST
DTSTART:20240331T010000
END:DAYLIGHT
BEGIN:STANDARD
TZOFFSETFROM:+0200
TZOFFSETTO:+0100
TZNAME:CET
DTSTART:20241027T010000
END:STANDARD
BEGIN:DAYLIGHT
TZOFFSETFROM:+0100
TZOFFSETTO:+0200
TZNAME:CEST
DTSTART:20250330T010000
END:DAYLIGHT
BEGIN:STANDARD
TZOFFSETFROM:+0200
TZOFFSETTO:+0100
TZNAME:CET
DTSTART:20251026T010000
END:STANDARD
END:VTIMEZONE
BEGIN:VEVENT
DTSTART;TZID=Europe/Amsterdam:20241203T160000
DTEND;TZID=Europe/Amsterdam:20241203T180000
DTSTAMP:20260425T151825
CREATED:20241128T102619Z
LAST-MODIFIED:20241128T102809Z
UID:10000753-1733241600-1733248800@zelfregie-herstel.nl
SUMMARY:Dag van de Vrijwilliger 2024
DESCRIPTION:Deze dag is voor jou! \nOp 7 december 2024 is het Dag van de Vrijwilliger 2024 en wordt er extra aandacht gegeven aan het werk van vrijwilligers. Lokale organisaties\, gemeenten en landelijke organisaties laten zien hoe belangrijk vrijwilligers zijn. \n  \nOmdat wij zaterdag gesloten zijn\, gaan wij dinsdag 3 december alle vrijwilligers van Steunpunt Zelfregie & Herstel in het zonnetje zetten. Vrijwilligerswerk is belangrijk. Jullie maken het verschil\, en daar zijn we trots op. Of je nu al lang vrijwilliger bent of net bent begonnen: deze dag is voor jullie! Zonder jullie inzet zou er zoveel minder mogelijk zijn. Daar staan we graag bij stil!  \n  \nWe hebben een leuke middag georganiseerd met warm welkom met koffie\, thee en lekkere hapjes. Mooie verhalen van vrijwilligers en  een speciaal moment om jullie te bedanken. \n  \nTijd\n16.00 – 18.00 uur\n \n  \nAdres\nSteunpunt Zelfregie & Herstel \nKaatstraat 18\, 3513 BK Utrecht \n  \nWe hopen je te zien op deze gezellige en feestelijke dag!
URL:https://zelfregie-herstel.nl/agenda/dag-van-de-vrijwilliger-2024/
LOCATION:Locatie Utrecht\, Kaatstraat 18\, Utrecht\, Utrecht\, 3513 BK\, Nederland
CATEGORIES:Groepsbijeenkomst
ATTACH;FMTTYPE=image/jpeg:https://zelfregie-herstel.nl/wp-content/uploads/This-is-your-day-scaled-e1732789562803.jpg
END:VEVENT
BEGIN:VEVENT
DTSTART;TZID=Europe/Amsterdam:20241204T193000
DTEND;TZID=Europe/Amsterdam:20241204T213000
DTSTAMP:20260425T151825
CREATED:20240402T184156Z
LAST-MODIFIED:20240402T184459Z
UID:10001079-1733340600-1733347800@zelfregie-herstel.nl
SUMMARY:Depressiegroep
DESCRIPTION:De peer supportgroep biedt mensen met depressieve klachten steun en handvatten om met je uitdagingen om te gaan. \n\n\nDepressievereniging organiseert in heel Nederland supportgroepen. De fysieke supportgroepen komen ongeveer één keer per maand bij elkaar om ervaringen uit te wisselen en te bespreken hoe zij met hun depressie omgaan. Iedere groep heeft twee gespreksbegeleiders die zelf ook een depressie hebben meegemaakt. \n\n\n\n\n  \n\n\nDoelgroep: Volwassenen met depressieve klachten.\nGeorganiseerd extern door: MIND Naasten Centraal\nTaal: Nederlands\nAanmelden via: info@depressievereniging.nl \nJouw ervaringen zijn waardevol\n\n\nAls je een depressie hebt\, helpt het om te praten met lotgenoten. Dat heeft een simpele reden: écht begrip vind je vooral bij mensen die weten wat je meemaakt. \nDaarom organiseert de Depressie Vereniging meer dan 60 supportgroepen in heel Nederland. Niet alleen de deelnemers aan deze groepen\, maar ook alle gespreksbegeleiders weten wat het is om een depressie te hebben. Zij zetten hun eigen ervaringen in om anderen iets van onschatbare waarde te kunnen bieden: herkenning en begrip. \nOmdat er grote behoefte is aan meer supportgroepen\, zijn we hard op zoek naar extra gespreksbegeleiders. Heb jij ervaring met een depressie en wil je voor anderen van betekenis kunnen zijn? Meld je dan nu aan als gespreksbegeleider voor een supportgroep bij jou in de buurt. \nDit zijn de belangrijkste (gedrags)regels binnen de supportgroep: \n\nAlles dat binnen de groep gezegd wordt\, blijft ook binnen de groep.\nHeb respect voor elkaar en elkaars proces. Iedereen is uniek.\nLaat elkaar uitspreken.\nLaat het weten als iets je dwars zit\, dan kijken we samen naar een oplossing\nAls je één keer afwezig bent zonder je af te hebben gemeld\, nemen we telefonisch contact met je op. Ben je vervolgens weer afwezig zonder afmelding\, dan komt jouw plek vrij voor iemand op de wachtlijst.\nAlle deelnemers aan de supportgroepen zijn lid van de Depressie Vereniging.
URL:https://zelfregie-herstel.nl/agenda/depressiegroep/2024-12-04/
CATEGORIES:Groepsbijeenkomst
ATTACH;FMTTYPE=image/png:https://zelfregie-herstel.nl/wp-content/uploads/Depressie-header1.png
END:VEVENT
BEGIN:VEVENT
DTSTART;TZID=Europe/Amsterdam:20241205T100000
DTEND;TZID=Europe/Amsterdam:20241205T120000
DTSTAMP:20260425T151825
CREATED:20240402T193248Z
LAST-MODIFIED:20240402T193248Z
UID:10001145-1733392800-1733400000@zelfregie-herstel.nl
SUMMARY:Ervaringsdeskundigheid Training
DESCRIPTION:Je leert hoe jij jouw persoonlijke ervaringen met (mentale) uitdagingen\, in kan zetten voor anderen. \nIedereen met ervaringen met psycho-sociale problemen en nu stabiel functioneert \nTaal: Nederlands\nAanmelden via: m.jezequel@zelfregie-herstel.nl
URL:https://zelfregie-herstel.nl/agenda/ervaringsdeskundigheid-training/2024-12-05/
CATEGORIES:Groepsbijeenkomst,Training
ATTACH;FMTTYPE=image/jpeg:https://zelfregie-herstel.nl/wp-content/uploads/Ervaringsdeskundige_002-scaled-e1764936604423.jpg
ORGANIZER;CN="Maiwenn":MAILTO:m.jezequel@zelfregie-herstel.nl
END:VEVENT
BEGIN:VEVENT
DTSTART;TZID=Europe/Amsterdam:20241205T100000
DTEND;TZID=Europe/Amsterdam:20241205T123000
DTSTAMP:20260425T151825
CREATED:20240731T084039Z
LAST-MODIFIED:20240806T133904Z
UID:10001356-1733392800-1733401800@zelfregie-herstel.nl
SUMMARY:Training ervaringsdeskundigheid
DESCRIPTION:Over de training\n\n\nWil je leren hoe je jouw eigen ervaringen kunt inzetten om anderen te helpen met hun herstel? \nTijdens de training ervaringsdeskundigheid ontdek je de verschillende waarden die ervaringsdeskundigheid vormen en wat ervaringsdeskundigheid precies inhoudt. Je leert hoe je jouw eigen ervaringen met psychische ontwrichting kunt inzetten om anderen te helpen en hoe je jouw herstelverhaal en ervaringsdeskundigheid kunt vormgeven. Samen met je groepsleden deel je vervolgens je unieke herstelverhalen\, waarin jullie ongetwijfeld herkenning zullen vinden. \n  \nDe training bestaat uit 10 bijeenkomsten die wekelijks op donderdag plaatsvinden. \n\n  \nGoed om te weten!\n\nAdres: Kaatstraat 18\, 3513 BK Utrecht\nGratis toegang\n10 minuten van tevoren aanwezig zijn\nMinimaal aantal deelnemers: 4\nMaximaal aantal deelnemers: 8\nAanmelding via steunpunt@zelfregie-herstel.nl\n\n\n 
URL:https://zelfregie-herstel.nl/agenda/training-ervaringsdeskundigheid/2024-12-05/
CATEGORIES:Training
ATTACH;FMTTYPE=image/png:https://zelfregie-herstel.nl/wp-content/uploads/Scherm­afbeelding-2024-05-01-om-17.35.22-e1764943111321.png
ORGANIZER;CN="Maiwenn":MAILTO:m.jezequel@zelfregie-herstel.nl
END:VEVENT
BEGIN:VEVENT
DTSTART;TZID=Europe/Amsterdam:20241205T133000
DTEND;TZID=Europe/Amsterdam:20241205T153000
DTSTAMP:20260425T151825
CREATED:20240801T122656Z
LAST-MODIFIED:20241217T140739Z
UID:10001361-1733405400-1733412600@zelfregie-herstel.nl
SUMMARY:Samen in verbinding
DESCRIPTION:Inhoud\nDeze bijeenkomsten zijn bedoeld om op een rustige en laagdrempelige manier in verbinding te komen met jezelf en met anderen. We beginnen de bijeenkomst met eenvoudige meditatieve oefeningen. Dit helpt je om even tot rust te komen\, ruimte in je hoofd te maken en je open te stellen voor alles wat er komt. Daarna doen we een korte voorstelronde\, waarin je kunt delen hoe het met je gaat en wat er op dit moment bij je speelt. Vervolgens delen we om de beurt iets over een gekozen thema. Iedereen kan dit delen op een manier die goed voelt voor hem of haar. Na ongeveer 45-60 minuten ronden we de bijeenkomst af met weer enkele rustige meditatieve oefeningen. Dit helpt je om alles wat we besproken hebben zachtjes in je lichaam en geest te laten zakken. Als je wilt\, kun je na afloop met de andere deelnemers nog even (na)praten. Deze bijeenkomsten bieden een veilige en rustige ruimte om jezelf te zijn en verbinding te maken met anderen. \n  \nDoelgroep\nVoor iedereen! \n  \nPraktisch\nDe workshop zal plaatsvinden bij Steunpunt Zelfregie & Herstel\nop de volgende data:\n21 november – onzekerheid\n5 december – eenzaamheid \n  \nAdres\nKaatstraat 18\, 3513 BK Utrecht\nWij zijn het best bereikbaar per fiets\, scooter of OV. Parkeren in de buurt is mogelijk\, maar wel betaald. \n  \nVind je deze workshop interessant? Kom dan ook!\nAan deelname zijn geen kosten verbonden.\nMocht je onverwachts verhinderd zijn\, horen wij dat graag 48 uur voor de start van de workshop. \n  \nTrainer\nDeze workshop wordt verzorgd door Doreen en Vincent\, ervaringsdeskundigen bij Steunpunt Zelfregie & Herstel.
URL:https://zelfregie-herstel.nl/agenda/samen-in-verbinding/2024-12-05/
CATEGORIES:Groepsbijeenkomst,Workshop
ATTACH;FMTTYPE=image/jpeg:https://zelfregie-herstel.nl/wp-content/uploads/team-4529717_1280.jpg
ORGANIZER;CN="Vincent":MAILTO:v.greeven@zelfregie-herstel.nl
END:VEVENT
BEGIN:VEVENT
DTSTART;TZID=Europe/Amsterdam:20241205T190000
DTEND;TZID=Europe/Amsterdam:20241205T213000
DTSTAMP:20260425T151825
CREATED:20240402T185232Z
LAST-MODIFIED:20240402T185232Z
UID:10001099-1733425200-1733434200@zelfregie-herstel.nl
SUMMARY:Borderline Groep
DESCRIPTION:De peer supportgroep biedt mensen bekend met borderline problematiek steun en handvatten om met je uitdagingen om te gaan. \nGeorganiseerd extern door: Stichting Borderline\nDoelgroep:Volwassenen met borderline problematiek\nTaal: Nederlands\nAanmelden via: lotgenotencontact@stichtingborderline.nl \n\n\nMensen met Borderline persoonlijkheidsstoornis (kortweg BPS of Borderline) hebben last van sterke wisselingen in hun stemming\, gedachten en gedrag. Hierdoor lopen ze vaak vast in het dagelijks leven. Ze zeggen bijvoorbeeld plotseling hun baan op\, slagen er maar niet in om een opleiding af te maken of om vriendschappen en relaties te behouden. \n\n\n\n\nIemand met BPS heeft moeite om zijn emoties te beheersen en heeft vaak het gevoel dat die hem overspoelen. Een kleine tegenslag kan al leiden tot een intense woedeaanval of depressie. Deze onvoorspelbare stemmingswisselingen duren vaak een paar uur en bijna nooit langer dan een paar dagen. Iemand met Borderline reageert vaak impulsief en dat kan leiden tot negatieve gevolgen zoals geldverspilling\, alcohol- en drugsmisbruik\, instabiele (seksuele) contacten of eetbuien. Ook kan het zijn dat iemand met BPS zichzelf snijdt of op een andere manier beschadigt. \nMensen met Borderline zijn vaak bang om in de steek gelaten te worden en voelen zich snel afgewezen. Zij voelen zich eenzaam en hebben een wisselend beeld van zichzelf. Iemand met BPS weet soms niet meer wie hij nou eigenlijk is\, of wat hij voelt. BPS is erg pijnlijk voor degenen die het hebben\, maar ook voor de mensen die van hen houden.
URL:https://zelfregie-herstel.nl/agenda/borderline-groep/2024-12-05/
CATEGORIES:Groepsbijeenkomst,Lotgenotengroep
ATTACH;FMTTYPE=image/png:https://zelfregie-herstel.nl/wp-content/uploads/PersonalityDisorder-01-e1712083944746.png
END:VEVENT
BEGIN:VEVENT
DTSTART;TZID=Europe/Amsterdam:20241206T130000
DTEND;TZID=Europe/Amsterdam:20241206T160000
DTSTAMP:20260425T151825
CREATED:20241113T111533Z
LAST-MODIFIED:20241127T155119Z
UID:10001425-1733490000-1733500800@zelfregie-herstel.nl
SUMMARY:Intentional Peer Support (overview sessie)
DESCRIPTION:Inhoud\nIPS (Intentional Peer Support) is anders dan traditionele hulpverlening. Bij IPS zien we de relatie niet als één persoon die de ander helpt\, maar als een samenwerking. Beide partijen leren en groeien samen. \nIPS gaat niet uit van een probleem. In plaats daarvan kijken we naar hoe we onze ervaringen betekenis hebben gegeven. Deze samenwerking helpt om nieuwe manieren van denken\, kijken en doen te ontdekken. IPS gebruikt een aanpak die gevoelig is voor trauma. We stellen niet de vraag: “Wat is er mis met je?” maar vragen: “Wat is er gebeurd?” \nIPS kijkt naar ons leven in de context van relaties en gemeenschappen. Het gaat niet alleen om individuele verantwoordelijkheid\, maar ook om hoe we elkaar kunnen steunen. Het helpt ons te richten op wat we willen bereiken\, in plaats van wat we willen vermijden. \nIPS draait om gesprekken. Het gaat over hoe we kennis delen en samen nieuwe ideeën creëren. Het gaat ook over verbinding – met onszelf\, de mensen om ons heen\, en de wereld. \nBen je nieuwsgierig naar IPS (Intentional Peer Support)\, dan ben je van harte welkom!  \n\nDoelgroep\nVoor iedereen! \n  \n  \nPraktisch\nVrijdagmiddag 6 december 13:00 tot 16:00 \n\n\nLocatie\nDeze workshop wordt gegeven bij Steunpunt Zelfregie & Herstel in Utrecht. \n\n\nAdres\nKaatstraat 18\, 3513BJ Utrecht \nWij zijn het best bereikbaar per fiets\, scooter of OV. Parkeren in de buurt is mogelijk\, maar wel betaald. \n  \nVind je deze workshop interessant? Kom dan ook! \nAan deelname zijn geen kosten verbonden. \nAanmelden is wenselijk via steunpunt@zelfregie-herstel.nl (t.a.v. Britt) \nMocht je onverwachts verhinderd zijn\, horen wij dat graag 48 uur voor de start van de workshop. \n\n\nTrainer\nDe Intentional Peer Support overview sessie wordt verzorgd door Cassandra\, ervaringsdeskundige bij Steunpunt Zelfregie & Herstel en ambassadeur Social Change.
URL:https://zelfregie-herstel.nl/agenda/intentional-peer-support-overview-sessie/
LOCATION:Locatie Utrecht\, Kaatstraat 18\, Utrecht\, Utrecht\, 3513 BK\, Nederland
CATEGORIES:Groepsbijeenkomst,Training
ATTACH;FMTTYPE=image/jpeg:https://zelfregie-herstel.nl/wp-content/uploads/ips_training-1.jpeg
END:VEVENT
END:VCALENDAR