BEGIN:VCALENDAR
VERSION:2.0
PRODID:-// Steunpunt Zelfregie &amp; Herstel - ECPv6.15.20//NONSGML v1.0//EN
CALSCALE:GREGORIAN
METHOD:PUBLISH
X-ORIGINAL-URL:https://zelfregie-herstel.nl
X-WR-CALDESC:Evenementen voor  Steunpunt Zelfregie &amp; Herstel
REFRESH-INTERVAL;VALUE=DURATION:PT1H
X-Robots-Tag:noindex
X-PUBLISHED-TTL:PT1H
BEGIN:VTIMEZONE
TZID:Europe/Amsterdam
BEGIN:DAYLIGHT
TZOFFSETFROM:+0100
TZOFFSETTO:+0200
TZNAME:CEST
DTSTART:20230326T010000
END:DAYLIGHT
BEGIN:STANDARD
TZOFFSETFROM:+0200
TZOFFSETTO:+0100
TZNAME:CET
DTSTART:20231029T010000
END:STANDARD
BEGIN:DAYLIGHT
TZOFFSETFROM:+0100
TZOFFSETTO:+0200
TZNAME:CEST
DTSTART:20240331T010000
END:DAYLIGHT
BEGIN:STANDARD
TZOFFSETFROM:+0200
TZOFFSETTO:+0100
TZNAME:CET
DTSTART:20241027T010000
END:STANDARD
BEGIN:DAYLIGHT
TZOFFSETFROM:+0100
TZOFFSETTO:+0200
TZNAME:CEST
DTSTART:20250330T010000
END:DAYLIGHT
BEGIN:STANDARD
TZOFFSETFROM:+0200
TZOFFSETTO:+0100
TZNAME:CET
DTSTART:20251026T010000
END:STANDARD
END:VTIMEZONE
BEGIN:VEVENT
DTSTART;TZID=Europe/Amsterdam:20241212T100000
DTEND;TZID=Europe/Amsterdam:20241212T120000
DTSTAMP:20260425T170302
CREATED:20240402T193248Z
LAST-MODIFIED:20240402T193248Z
UID:10001146-1733997600-1734004800@zelfregie-herstel.nl
SUMMARY:Ervaringsdeskundigheid Training
DESCRIPTION:Je leert hoe jij jouw persoonlijke ervaringen met (mentale) uitdagingen\, in kan zetten voor anderen. \nIedereen met ervaringen met psycho-sociale problemen en nu stabiel functioneert \nTaal: Nederlands\nAanmelden via: m.jezequel@zelfregie-herstel.nl
URL:https://zelfregie-herstel.nl/agenda/ervaringsdeskundigheid-training/2024-12-12/
CATEGORIES:Groepsbijeenkomst,Training
ATTACH;FMTTYPE=image/jpeg:https://zelfregie-herstel.nl/wp-content/uploads/Ervaringsdeskundige_002-scaled-e1764936604423.jpg
ORGANIZER;CN="Maiwenn":MAILTO:m.jezequel@zelfregie-herstel.nl
END:VEVENT
BEGIN:VEVENT
DTSTART;TZID=Europe/Amsterdam:20241213T103000
DTEND;TZID=Europe/Amsterdam:20241213T120000
DTSTAMP:20260425T170302
CREATED:20240402T194700Z
LAST-MODIFIED:20240402T194710Z
UID:10001222-1734085800-1734091200@zelfregie-herstel.nl
SUMMARY:NOT MY CUP OF TEA
DESCRIPTION:Wat past wel bij jou\, en wat niet. Waar verbaas je je over\, wat ontdek jij over jezelf of de wereld. Ook al zijn we allemaal mens\, we zitten toch anders in elkaar. \nOntmoeting en uitwisseling met elkaar op het gebied van geluiden\, frequenties\, stemmen of iets anders. Het zien van kleuren\, beelden bewegingen of andere “bijzondere ervaringen \nVoor wie: Deze groep voor vrouwen die zich niet perse als gender vrouw typeren om elkaar te ontmoeten. Start met een quote en verschillende soorten thee. \nGroep start vanaf: 8 deelnemers \nTaal: Nederlands \nAanmelden via whatsapp: 0624510365 – Cassandra
URL:https://zelfregie-herstel.nl/agenda/not-my-cup-of-tea/2024-12-13/
CATEGORIES:Groepsbijeenkomst
ATTACH;FMTTYPE=image/jpeg:https://zelfregie-herstel.nl/wp-content/uploads/NOT-MY-CUP-OF-TEA-SMALL-e1764937099512.jpg
END:VEVENT
END:VCALENDAR