BEGIN:VCALENDAR
VERSION:2.0
PRODID:-// Steunpunt Zelfregie &amp; Herstel - ECPv6.15.20//NONSGML v1.0//EN
CALSCALE:GREGORIAN
METHOD:PUBLISH
X-WR-CALNAME: Steunpunt Zelfregie &amp; Herstel
X-ORIGINAL-URL:https://zelfregie-herstel.nl
X-WR-CALDESC:Evenementen voor  Steunpunt Zelfregie &amp; Herstel
REFRESH-INTERVAL;VALUE=DURATION:PT1H
X-Robots-Tag:noindex
X-PUBLISHED-TTL:PT1H
BEGIN:VTIMEZONE
TZID:Europe/Amsterdam
BEGIN:DAYLIGHT
TZOFFSETFROM:+0100
TZOFFSETTO:+0200
TZNAME:CEST
DTSTART:20230326T010000
END:DAYLIGHT
BEGIN:STANDARD
TZOFFSETFROM:+0200
TZOFFSETTO:+0100
TZNAME:CET
DTSTART:20231029T010000
END:STANDARD
BEGIN:DAYLIGHT
TZOFFSETFROM:+0100
TZOFFSETTO:+0200
TZNAME:CEST
DTSTART:20240331T010000
END:DAYLIGHT
BEGIN:STANDARD
TZOFFSETFROM:+0200
TZOFFSETTO:+0100
TZNAME:CET
DTSTART:20241027T010000
END:STANDARD
BEGIN:DAYLIGHT
TZOFFSETFROM:+0100
TZOFFSETTO:+0200
TZNAME:CEST
DTSTART:20250330T010000
END:DAYLIGHT
BEGIN:STANDARD
TZOFFSETFROM:+0200
TZOFFSETTO:+0100
TZNAME:CET
DTSTART:20251026T010000
END:STANDARD
END:VTIMEZONE
BEGIN:VEVENT
DTSTART;TZID=Europe/Amsterdam:20241216T100000
DTEND;TZID=Europe/Amsterdam:20241216T123000
DTSTAMP:20260425T152711
CREATED:20240402T173715Z
LAST-MODIFIED:20250410T125740Z
UID:10001042-1734343200-1734352200@zelfregie-herstel.nl
SUMMARY:Vrouwen & Verbinding - Turks (Utrecht\, Kaatstraat)
DESCRIPTION:Inhoud\nElke maandag is er een Turkssprekende vrouwengroep.\nSamen drinken we een kopje thee of koffie en praten we over verschillende onderwerpen die belangrijk voor ons zijn. We praten over dingen zoals:\n  \n\nStress\nDepressie\nTrauma\nRouw\nEenzaamheid\nHuiselijk geweld\nIdentiteit\nCultuur en cultuurverschillen\nHet zorgsysteem in Nederland\n\n  \nHet is een plek waar jij je veilig voelt. Je kunt in je eigen taal praten over je gevoelens en ervaringen. Het is een groep waar we zowel gezellig praten als serieuze onderwerpen bespreken. We geven advies over hoe je je weg kunt vinden in de samenleving. Je krijgt tips over hoe je de zorg beter kunt krijgen en wat jouw rechten zijn. Ook leer je hoe je grenzen kunt stellen. In de groep versterk je jezelf en voel jij je sterker. Je merkt dat je niet alleen bent. Samen leren we van elkaar en helpen we elkaar om in onze eigen kracht te geloven. Vanuit het Steunpunt Zelfregie & Herstel worden er ook trainingen georganiseerd\, zoals EHBO\, en taallessen Nederlands. Dit helpt je om meer te leren en je goed te voelen in Nederland. De vrouwengroep helpt je om belangrijke onderwerpen bespreekbaar te maken\, ook als dat in je cultuur niet altijd makkelijk is. Kom gerust langs! Je bent altijd welkom. \n  \n  \nDoelgroep\nVrouwen van Turkse afkomst \n  \n  \nPraktisch\nIedere maandag van 10:00 tot 12:30 komt de groep bij elkaar. Tijdens de groep\, wordt er Turks gesproken. \n  \n  \nLocatie\nDe groep komt elke week bij elkaar bij Steunpunt Zelfregie & Herstel in Utrecht \n  \n  \nAdres\nKaatstraat 18\, 3513 BK Utrecht \n  \n  \nVind je deze workshop interessant? Kom dan ook!\nAan deelname zijn geen kosten verbonden.\nAanmelden via steunpunt@zelfregie-herstel.nl (T.A.V. Britt)\nMocht je onverwachts verhinderd zijn\, horen wij dat graag 48 uur voor de start van de workshop. \n  \n  \nTrainer\nDeze workshop wordt verzorgd door Hulya\, een ervaringsdeskundige van Turkse afkomst bij Steunpunt Zelfregie & Herstel.
URL:https://zelfregie-herstel.nl/agenda/vrouwengroep-turks/2024-12-16/
LOCATION:Locatie Utrecht\, Kaatstraat 18\, Utrecht\, Utrecht\, 3513 BK\, Nederland
CATEGORIES:Groepsbijeenkomst,Lotgenotengroep
ATTACH;FMTTYPE=image/webp:https://zelfregie-herstel.nl/wp-content/uploads/DALL·E-2025-04-10-14.55.09-A-thoughtful-and-expressive-illustration-of-a-group-of-older-Turkish-women-sharing-a-serious-story-at-a-cultural-event.-One-woman-is-speaking-with-emo-e1744289838916.webp
ORGANIZER;CN="Hulya":MAILTO:steunpunt@zelfregie-herstel.nl
END:VEVENT
BEGIN:VEVENT
DTSTART;TZID=Europe/Amsterdam:20241219T100000
DTEND;TZID=Europe/Amsterdam:20241219T120000
DTSTAMP:20260425T152711
CREATED:20240402T193248Z
LAST-MODIFIED:20240402T193248Z
UID:10001147-1734602400-1734609600@zelfregie-herstel.nl
SUMMARY:Ervaringsdeskundigheid Training
DESCRIPTION:Je leert hoe jij jouw persoonlijke ervaringen met (mentale) uitdagingen\, in kan zetten voor anderen. \nIedereen met ervaringen met psycho-sociale problemen en nu stabiel functioneert \nTaal: Nederlands\nAanmelden via: m.jezequel@zelfregie-herstel.nl
URL:https://zelfregie-herstel.nl/agenda/ervaringsdeskundigheid-training/2024-12-19/
CATEGORIES:Groepsbijeenkomst,Training
ATTACH;FMTTYPE=image/jpeg:https://zelfregie-herstel.nl/wp-content/uploads/Ervaringsdeskundige_002-scaled-e1764936604423.jpg
ORGANIZER;CN="Maiwenn":MAILTO:m.jezequel@zelfregie-herstel.nl
END:VEVENT
BEGIN:VEVENT
DTSTART;TZID=Europe/Amsterdam:20241219T190000
DTEND;TZID=Europe/Amsterdam:20241219T213000
DTSTAMP:20260425T152711
CREATED:20241126T125400Z
LAST-MODIFIED:20241126T141024Z
UID:10001438-1734634800-1734643800@zelfregie-herstel.nl
SUMMARY:Levenskunstcafé voor jongeren 2024
DESCRIPTION:Inhoud\n\nWat is een goed leven? Hoe leef je goed? En wat doe je als het leven niet gaat zoals je had gehoopt? Vragen over geluk\, eenzaamheid\, verlies\, relaties\, en zingeving komen vaak in ons op. Maar antwoorden vinden is niet altijd makkelijk. In het Levenskunstcafé kun je hier elke maand op een lichte manier met anderen over praten. Soms doen we dat via een film\, een spel\, of een gesprek. Altijd staat het contact met elkaar centraal. Onderwerpen zoals verbondenheid\, spiritualiteit\, familie en relaties komen aan bod. \nHet Levenskunstcafé is een activiteit van Zin in Utrecht. \n\n\n\n  \nDoelgroep\n\nJongeren tussen de 18 en 30 jaar!\n  \n\nPraktisch\nHet levenskunst café vind plaats op donderdagavond 19 December van 19:00 tot 21:30\n  \n\nLocatie\nHet levenskunst café vind plaats bij Steunpunt Zelfregie & Herstel in Utrecht.\n  \n\nAdres\nKaatstraat 18\, 3513 BJ Utrecht.\nWij zijn het best bereikbaar per fiets\, scooter of OV. Parkeren in de buurt is mogelijk\, maar wel betaald.\n  \n\nLijkt het jou wat? Kom dan ook!\nAan deelname zijn géén kosten verbonden.\nMocht je onverwachts verhinderd zijn\, horen wij dat graag 48 uur voor de start van de activiteit.\n  \n\nTrainer\nHet levenskunst café wordt gegeven door de geestelijk verzorgers van Zin in Utrecht.
URL:https://zelfregie-herstel.nl/agenda/levenskunstcafe-jongeren/
CATEGORIES:Groepsbijeenkomst,Lotgenotengroep
ATTACH;FMTTYPE=image/jpeg:https://zelfregie-herstel.nl/wp-content/uploads/Levenskunstjongeren-e1732625509678.jpg
END:VEVENT
END:VCALENDAR