BEGIN:VCALENDAR
VERSION:2.0
PRODID:-// Steunpunt Zelfregie &amp; Herstel - ECPv6.15.20//NONSGML v1.0//EN
CALSCALE:GREGORIAN
METHOD:PUBLISH
X-WR-CALNAME: Steunpunt Zelfregie &amp; Herstel
X-ORIGINAL-URL:https://zelfregie-herstel.nl
X-WR-CALDESC:Evenementen voor  Steunpunt Zelfregie &amp; Herstel
REFRESH-INTERVAL;VALUE=DURATION:PT1H
X-Robots-Tag:noindex
X-PUBLISHED-TTL:PT1H
BEGIN:VTIMEZONE
TZID:Europe/Amsterdam
BEGIN:DAYLIGHT
TZOFFSETFROM:+0100
TZOFFSETTO:+0200
TZNAME:CEST
DTSTART:20230326T010000
END:DAYLIGHT
BEGIN:STANDARD
TZOFFSETFROM:+0200
TZOFFSETTO:+0100
TZNAME:CET
DTSTART:20231029T010000
END:STANDARD
BEGIN:DAYLIGHT
TZOFFSETFROM:+0100
TZOFFSETTO:+0200
TZNAME:CEST
DTSTART:20240331T010000
END:DAYLIGHT
BEGIN:STANDARD
TZOFFSETFROM:+0200
TZOFFSETTO:+0100
TZNAME:CET
DTSTART:20241027T010000
END:STANDARD
BEGIN:DAYLIGHT
TZOFFSETFROM:+0100
TZOFFSETTO:+0200
TZNAME:CEST
DTSTART:20250330T010000
END:DAYLIGHT
BEGIN:STANDARD
TZOFFSETFROM:+0200
TZOFFSETTO:+0100
TZNAME:CET
DTSTART:20251026T010000
END:STANDARD
END:VTIMEZONE
BEGIN:VEVENT
DTSTART;TZID=Europe/Amsterdam:20241223T100000
DTEND;TZID=Europe/Amsterdam:20241223T123000
DTSTAMP:20260425T151950
CREATED:20240402T173715Z
LAST-MODIFIED:20250410T125740Z
UID:10001043-1734948000-1734957000@zelfregie-herstel.nl
SUMMARY:Vrouwen & Verbinding - Turks (Utrecht\, Kaatstraat)
DESCRIPTION:Inhoud\nElke maandag is er een Turkssprekende vrouwengroep.\nSamen drinken we een kopje thee of koffie en praten we over verschillende onderwerpen die belangrijk voor ons zijn. We praten over dingen zoals:\n  \n\nStress\nDepressie\nTrauma\nRouw\nEenzaamheid\nHuiselijk geweld\nIdentiteit\nCultuur en cultuurverschillen\nHet zorgsysteem in Nederland\n\n  \nHet is een plek waar jij je veilig voelt. Je kunt in je eigen taal praten over je gevoelens en ervaringen. Het is een groep waar we zowel gezellig praten als serieuze onderwerpen bespreken. We geven advies over hoe je je weg kunt vinden in de samenleving. Je krijgt tips over hoe je de zorg beter kunt krijgen en wat jouw rechten zijn. Ook leer je hoe je grenzen kunt stellen. In de groep versterk je jezelf en voel jij je sterker. Je merkt dat je niet alleen bent. Samen leren we van elkaar en helpen we elkaar om in onze eigen kracht te geloven. Vanuit het Steunpunt Zelfregie & Herstel worden er ook trainingen georganiseerd\, zoals EHBO\, en taallessen Nederlands. Dit helpt je om meer te leren en je goed te voelen in Nederland. De vrouwengroep helpt je om belangrijke onderwerpen bespreekbaar te maken\, ook als dat in je cultuur niet altijd makkelijk is. Kom gerust langs! Je bent altijd welkom. \n  \n  \nDoelgroep\nVrouwen van Turkse afkomst \n  \n  \nPraktisch\nIedere maandag van 10:00 tot 12:30 komt de groep bij elkaar. Tijdens de groep\, wordt er Turks gesproken. \n  \n  \nLocatie\nDe groep komt elke week bij elkaar bij Steunpunt Zelfregie & Herstel in Utrecht \n  \n  \nAdres\nKaatstraat 18\, 3513 BK Utrecht \n  \n  \nVind je deze workshop interessant? Kom dan ook!\nAan deelname zijn geen kosten verbonden.\nAanmelden via steunpunt@zelfregie-herstel.nl (T.A.V. Britt)\nMocht je onverwachts verhinderd zijn\, horen wij dat graag 48 uur voor de start van de workshop. \n  \n  \nTrainer\nDeze workshop wordt verzorgd door Hulya\, een ervaringsdeskundige van Turkse afkomst bij Steunpunt Zelfregie & Herstel.
URL:https://zelfregie-herstel.nl/agenda/vrouwengroep-turks/2024-12-23/
LOCATION:Locatie Utrecht\, Kaatstraat 18\, Utrecht\, Utrecht\, 3513 BK\, Nederland
CATEGORIES:Groepsbijeenkomst,Lotgenotengroep
ATTACH;FMTTYPE=image/webp:https://zelfregie-herstel.nl/wp-content/uploads/DALL·E-2025-04-10-14.55.09-A-thoughtful-and-expressive-illustration-of-a-group-of-older-Turkish-women-sharing-a-serious-story-at-a-cultural-event.-One-woman-is-speaking-with-emo-e1744289838916.webp
ORGANIZER;CN="Hulya":MAILTO:steunpunt@zelfregie-herstel.nl
END:VEVENT
BEGIN:VEVENT
DTSTART;TZID=Europe/Amsterdam:20241224T103000
DTEND;TZID=Europe/Amsterdam:20241224T123000
DTSTAMP:20260425T151950
CREATED:20241126T122756Z
LAST-MODIFIED:20241127T121407Z
UID:10001437-1735036200-1735043400@zelfregie-herstel.nl
SUMMARY:Gezellige Kerstochtend
DESCRIPTION:Kom naar onze Kerstochtend op Dinsdag 24 december\nKerst is een tijd van samen zijn en verbondenheid. En om dat te vieren nodigen we je van harte uit voor een gezellige Kerstochtend op dinsdag 24 december.\nWe delen samen gedichten en verhalen en praten in een ontspannen sfeer over wat Kerst voor jou betekent. Natuurlijk zorgen we voor iets lekkers\, zoals versgebakken kerststol\, kerstkransjes\, en een kop warme thee of koffie. Voel je vrij om iemand mee te nemen of anderen over deze uitnodiging te vertellen. Iedereen is welkom! \n\n  \nGraag even aanmelden!\nOm de lekkernijen goed te kunnen voorbereiden\, horen we graag van tevoren of je komt en met hoeveel mensen. Zo kunnen we alles goed organiseren.\nStuur ons even een mailtje op steunpunt@zelfregie-herstel.nl.\nWe hopen je te zien op 24 december! \n  \n\nDoelgroep\nVoor iedereen!  \n  \n\n\nPraktisch\nJe bent van harte welkom op dinsdag 24 december van 10:30 tot 12:30 uur.  \n  \n\n\nAdres\nSteunpunt Zelfregie & Herstel in Utrecht\nKaatstraat 18\, 3513 BJ Utrecht\n \nWij zijn het best bereikbaar per fiets\, scooter of OV. Parkeren in de buurt is mogelijk\, maar wel betaald.\nAan deelname zijn geen kosten verbonden.\nMocht je onverwachts verhinderd zijn\, horen wij dat graag 48 uur voor aanvang. \n  \n\n  \nOrganisatoren\nDeze ochtend wordt verzorgd door Vincent en Doreen\, ervaringsdeskundigen bij het Steunpunt
URL:https://zelfregie-herstel.nl/agenda/gezellige-kerstochtend/
LOCATION:Locatie Utrecht: Grote ruimte\, Kaatstraat 18\, Utrecht\, 3513 BK\, Nederland
CATEGORIES:Groepsbijeenkomst
ATTACH;FMTTYPE=image/jpeg:https://zelfregie-herstel.nl/wp-content/uploads/piece-of-brioche-with-maple-syrup-and-hot-punch-in-2023-11-27-05-33-00-utc-scaled-e1732623970908.jpg
ORGANIZER;CN="Doreen":MAILTO:d.kapaan@zelfregie-herstel.nl
END:VEVENT
BEGIN:VEVENT
DTSTART;TZID=Europe/Amsterdam:20241226T100000
DTEND;TZID=Europe/Amsterdam:20241226T120000
DTSTAMP:20260425T151950
CREATED:20240402T193248Z
LAST-MODIFIED:20240402T193248Z
UID:10001148-1735207200-1735214400@zelfregie-herstel.nl
SUMMARY:Ervaringsdeskundigheid Training
DESCRIPTION:Je leert hoe jij jouw persoonlijke ervaringen met (mentale) uitdagingen\, in kan zetten voor anderen. \nIedereen met ervaringen met psycho-sociale problemen en nu stabiel functioneert \nTaal: Nederlands\nAanmelden via: m.jezequel@zelfregie-herstel.nl
URL:https://zelfregie-herstel.nl/agenda/ervaringsdeskundigheid-training/2024-12-26/
CATEGORIES:Groepsbijeenkomst,Training
ATTACH;FMTTYPE=image/jpeg:https://zelfregie-herstel.nl/wp-content/uploads/Ervaringsdeskundige_002-scaled-e1764936604423.jpg
ORGANIZER;CN="Maiwenn":MAILTO:m.jezequel@zelfregie-herstel.nl
END:VEVENT
BEGIN:VEVENT
DTSTART;TZID=Europe/Amsterdam:20241227T103000
DTEND;TZID=Europe/Amsterdam:20241227T120000
DTSTAMP:20260425T151950
CREATED:20240402T194700Z
LAST-MODIFIED:20240402T194710Z
UID:10001223-1735295400-1735300800@zelfregie-herstel.nl
SUMMARY:NOT MY CUP OF TEA
DESCRIPTION:Wat past wel bij jou\, en wat niet. Waar verbaas je je over\, wat ontdek jij over jezelf of de wereld. Ook al zijn we allemaal mens\, we zitten toch anders in elkaar. \nOntmoeting en uitwisseling met elkaar op het gebied van geluiden\, frequenties\, stemmen of iets anders. Het zien van kleuren\, beelden bewegingen of andere “bijzondere ervaringen \nVoor wie: Deze groep voor vrouwen die zich niet perse als gender vrouw typeren om elkaar te ontmoeten. Start met een quote en verschillende soorten thee. \nGroep start vanaf: 8 deelnemers \nTaal: Nederlands \nAanmelden via whatsapp: 0624510365 – Cassandra
URL:https://zelfregie-herstel.nl/agenda/not-my-cup-of-tea/2024-12-27/
CATEGORIES:Groepsbijeenkomst
ATTACH;FMTTYPE=image/jpeg:https://zelfregie-herstel.nl/wp-content/uploads/NOT-MY-CUP-OF-TEA-SMALL-e1764937099512.jpg
END:VEVENT
END:VCALENDAR