BEGIN:VCALENDAR
VERSION:2.0
PRODID:-// Steunpunt Zelfregie &amp; Herstel - ECPv6.15.20//NONSGML v1.0//EN
CALSCALE:GREGORIAN
METHOD:PUBLISH
X-WR-CALNAME: Steunpunt Zelfregie &amp; Herstel
X-ORIGINAL-URL:https://zelfregie-herstel.nl
X-WR-CALDESC:Evenementen voor  Steunpunt Zelfregie &amp; Herstel
REFRESH-INTERVAL;VALUE=DURATION:PT1H
X-Robots-Tag:noindex
X-PUBLISHED-TTL:PT1H
BEGIN:VTIMEZONE
TZID:Europe/Amsterdam
BEGIN:DAYLIGHT
TZOFFSETFROM:+0100
TZOFFSETTO:+0200
TZNAME:CEST
DTSTART:20240331T010000
END:DAYLIGHT
BEGIN:STANDARD
TZOFFSETFROM:+0200
TZOFFSETTO:+0100
TZNAME:CET
DTSTART:20241027T010000
END:STANDARD
BEGIN:DAYLIGHT
TZOFFSETFROM:+0100
TZOFFSETTO:+0200
TZNAME:CEST
DTSTART:20250330T010000
END:DAYLIGHT
BEGIN:STANDARD
TZOFFSETFROM:+0200
TZOFFSETTO:+0100
TZNAME:CET
DTSTART:20251026T010000
END:STANDARD
BEGIN:DAYLIGHT
TZOFFSETFROM:+0100
TZOFFSETTO:+0200
TZNAME:CEST
DTSTART:20260329T010000
END:DAYLIGHT
BEGIN:STANDARD
TZOFFSETFROM:+0200
TZOFFSETTO:+0100
TZNAME:CET
DTSTART:20261025T010000
END:STANDARD
END:VTIMEZONE
BEGIN:VEVENT
DTSTART;TZID=Europe/Amsterdam:20250217T093000
DTEND;TZID=Europe/Amsterdam:20250217T120000
DTSTAMP:20260425T124817
CREATED:20240402T173328Z
LAST-MODIFIED:20250728T140407Z
UID:10000954-1739784600-1739793600@zelfregie-herstel.nl
SUMMARY:Vrouwen & Verbinding - Arabisch / Berbers (Utrecht\, Pratumplaats)
DESCRIPTION:Over Arabische Vrouwengroep\nElke maandag en woensdag\, onder het genot van een kopje thee/koffie is er een Arabische Vrouwengroep.\nArabisch sprekende vrouwen komen bij elkaar om verschillende onderwerpen te bespreken die hun dagelijks\nbezighouden. Deze onderwerpen kunnen zijn: \n  \n– Stress\n– Depressie\n– Trauma\n– Rouw\n– Eenzaamheid\n– Huizelijk Geweld\n– Identiteit\n– Het veranderen van identiteit\n– Cultuur- en cultuurverschillen\n– Zorgsysteem in Nederland \n  \nHet is een veilige plek waar jij als vrouw\, in eigen taal en uitdrukkingen\, jouw gevoel en ervaringen kan verwoorden.\nWaar gezelligheid gecombineerd wordt met serieuze onderwerpen.\n \nJe krijgt advies over hoe je een eigen weg kan vinden in onze samenleving. Je krijgt tips over hoe je makkelijker de goede zorg kan krijgen.\nJe mag zelf aangeven waar je meer over wil weten\, over jouw rechten en het stellen van eigen grenzen.   \n  \n“De vrouwengroep versterkt de verbinding tussen vrouwen en ze leren om in hun eigen kracht te geloven\, dat kan door herkenning en erkenning.\nVanuit het Steunpunt Zelfregie & Herstel worden trainingen voor vrouwen zoals EHBO geregeld en taalessen Nederlands aangeboden.\nDe vrouwengroep is een eye-opener als het gaat om belangrijke begrippen die door de sociale normen in andere culturen niet bespreekbaar zijn.”  \n  \nBen jij geinteressed? Kom ook! \nDeze groep is bedoeld voor vrouwen met een migratieachtergrond.\nDe groep wordt gehouden op maandag en woensdag. \n\n  \nGoed om te weten!\n\nAan deelname zijn géén kosten verbonden\nAanmelden via: steunpunt@zelfregie-herstel.nl\nTaal: Arabisch\, Nederlands\nAdres: Pratumplaats 3\, 3454 NA Utrecht\nTel: 030 – 236 93 20\n\n 
URL:https://zelfregie-herstel.nl/agenda/vrouwengroep-zelfregie-en-herstel-arabisch-berbers-leidsche-rijn/2025-02-17/
LOCATION:Locatie Utrecht: Leidsche Rijn\, Pratumplaats 3\, Utrecht\, 3454 NA\, Nederland
CATEGORIES:Groepsbijeenkomst,Lotgenotengroep
ATTACH;FMTTYPE=image/png:https://zelfregie-herstel.nl/wp-content/uploads/VrouwenenVerbindingWH-e1764776267336.png
ORGANIZER;CN="Malika":MAILTO:steunpunt@zelfregie-herstel.nl
END:VEVENT
BEGIN:VEVENT
DTSTART;TZID=Europe/Amsterdam:20250217T100000
DTEND;TZID=Europe/Amsterdam:20250217T123000
DTSTAMP:20260425T124817
CREATED:20240402T173715Z
LAST-MODIFIED:20250410T125740Z
UID:10001051-1739786400-1739795400@zelfregie-herstel.nl
SUMMARY:Vrouwen & Verbinding - Turks (Utrecht\, Kaatstraat)
DESCRIPTION:Inhoud\nElke maandag is er een Turkssprekende vrouwengroep.\nSamen drinken we een kopje thee of koffie en praten we over verschillende onderwerpen die belangrijk voor ons zijn. We praten over dingen zoals:\n  \n\nStress\nDepressie\nTrauma\nRouw\nEenzaamheid\nHuiselijk geweld\nIdentiteit\nCultuur en cultuurverschillen\nHet zorgsysteem in Nederland\n\n  \nHet is een plek waar jij je veilig voelt. Je kunt in je eigen taal praten over je gevoelens en ervaringen. Het is een groep waar we zowel gezellig praten als serieuze onderwerpen bespreken. We geven advies over hoe je je weg kunt vinden in de samenleving. Je krijgt tips over hoe je de zorg beter kunt krijgen en wat jouw rechten zijn. Ook leer je hoe je grenzen kunt stellen. In de groep versterk je jezelf en voel jij je sterker. Je merkt dat je niet alleen bent. Samen leren we van elkaar en helpen we elkaar om in onze eigen kracht te geloven. Vanuit het Steunpunt Zelfregie & Herstel worden er ook trainingen georganiseerd\, zoals EHBO\, en taallessen Nederlands. Dit helpt je om meer te leren en je goed te voelen in Nederland. De vrouwengroep helpt je om belangrijke onderwerpen bespreekbaar te maken\, ook als dat in je cultuur niet altijd makkelijk is. Kom gerust langs! Je bent altijd welkom. \n  \n  \nDoelgroep\nVrouwen van Turkse afkomst \n  \n  \nPraktisch\nIedere maandag van 10:00 tot 12:30 komt de groep bij elkaar. Tijdens de groep\, wordt er Turks gesproken. \n  \n  \nLocatie\nDe groep komt elke week bij elkaar bij Steunpunt Zelfregie & Herstel in Utrecht \n  \n  \nAdres\nKaatstraat 18\, 3513 BK Utrecht \n  \n  \nVind je deze workshop interessant? Kom dan ook!\nAan deelname zijn geen kosten verbonden.\nAanmelden via steunpunt@zelfregie-herstel.nl (T.A.V. Britt)\nMocht je onverwachts verhinderd zijn\, horen wij dat graag 48 uur voor de start van de workshop. \n  \n  \nTrainer\nDeze workshop wordt verzorgd door Hulya\, een ervaringsdeskundige van Turkse afkomst bij Steunpunt Zelfregie & Herstel.
URL:https://zelfregie-herstel.nl/agenda/vrouwengroep-turks/2025-02-17/
LOCATION:Locatie Utrecht\, Kaatstraat 18\, Utrecht\, Utrecht\, 3513 BK\, Nederland
CATEGORIES:Groepsbijeenkomst,Lotgenotengroep
ATTACH;FMTTYPE=image/webp:https://zelfregie-herstel.nl/wp-content/uploads/DALL·E-2025-04-10-14.55.09-A-thoughtful-and-expressive-illustration-of-a-group-of-older-Turkish-women-sharing-a-serious-story-at-a-cultural-event.-One-woman-is-speaking-with-emo-e1744289838916.webp
ORGANIZER;CN="Hulya":MAILTO:steunpunt@zelfregie-herstel.nl
END:VEVENT
BEGIN:VEVENT
DTSTART;TZID=Europe/Amsterdam:20250218T133000
DTEND;TZID=Europe/Amsterdam:20250218T153000
DTSTAMP:20260425T124817
CREATED:20240731T074911Z
LAST-MODIFIED:20241218T160657Z
UID:10001346-1739885400-1739892600@zelfregie-herstel.nl
SUMMARY:Herstelverhaal in Beeld en Woord (Introductie-op de workshop)
DESCRIPTION:Samenvatting\nLet op! Dit is een eenmalige introductie op de workshop van vijf bijeenkomsten die plaats zullen vinden op de volgende dagen op onze locatie in De Bilt: \n  \n\nDinsdag 4 maart\nDinsdag 11 maart\nDinsdag 18 maart\nDinsdag 25 maart\nDinsdag 1 april\n\nTijdens de introductie zullen we uitleg geven over hoe de workshop in elkaar zit en wat wij precies gaan doen. Samen met jou zullen we jouw herstelverhaal vormgeven met de Pecha Kucha-methode. (De Pecha Kucha-methode is een manier om te presenteren. Je laat 20 afbeeldingen zien\, en bij elke afbeelding praat je 20 seconden). \n  \nJe hebt geen bijzondere ervaring nodig: het belangrijkste is dat je bereid bent om jouw eigen verhaal te onderzoeken. Tijdens de workshop helpen we je bij het kiezen van 20 beelden en bijpassende woorden. Jij zorgt dus voor je eigen verhaal\, wij helpen je om dit visueel en duidelijk te maken. Je kunt bijvoorbeeld alvast nadenken welke belangrijke momenten\, gevoelens of gebeurtenissen je straks wilt delen. Aan het einde van de workshop kun je\, als je dat wilt\, je presentatie met de groep delen en zo elkaar inspireren. \n  \nDoelgroep\nVoor iedereen! \n  \nLocatie\nDeze introductie vind plaats bij Steunpunt Zelfregie & Herstel – de Bilt. \n  \nAdres\nTalinglaan 10\, 3721 EA Bilthoven \n  \nVind je deze workshop interessant? Kom dan ook! \nAan deelname zijn geen kosten verbonden. \nMocht je onverwachts verhinderd zijn\, horen wij dat graag 48 uur voor de start van de workshop. \n  \nTrainer\nDeze workshop wordt verzorgd door Demi en Margarita\, ervaringsdeskundigen bij Steunpunt Zelfregie & Herstel.
URL:https://zelfregie-herstel.nl/agenda/herstelverhaal-in-beeld-en-woord-introductie-bilt/
LOCATION:Inlooppunt De Bilt\, Hessenweg 121\, De Bilt\, 3731 JG
CATEGORIES:Workshop
ATTACH;FMTTYPE=image/png:https://zelfregie-herstel.nl/wp-content/uploads/Itroductie-Words-and-image-1-e1764940965358.png
ORGANIZER;CN="Margarita":MAILTO:steunpunt@zelfregie-herstel.nl
END:VEVENT
BEGIN:VEVENT
DTSTART;TZID=Europe/Amsterdam:20250219T093000
DTEND;TZID=Europe/Amsterdam:20250219T120000
DTSTAMP:20260425T124817
CREATED:20240402T173328Z
LAST-MODIFIED:20250728T140407Z
UID:10000955-1739957400-1739966400@zelfregie-herstel.nl
SUMMARY:Vrouwen & Verbinding - Arabisch / Berbers (Utrecht\, Pratumplaats)
DESCRIPTION:Over Arabische Vrouwengroep\nElke maandag en woensdag\, onder het genot van een kopje thee/koffie is er een Arabische Vrouwengroep.\nArabisch sprekende vrouwen komen bij elkaar om verschillende onderwerpen te bespreken die hun dagelijks\nbezighouden. Deze onderwerpen kunnen zijn: \n  \n– Stress\n– Depressie\n– Trauma\n– Rouw\n– Eenzaamheid\n– Huizelijk Geweld\n– Identiteit\n– Het veranderen van identiteit\n– Cultuur- en cultuurverschillen\n– Zorgsysteem in Nederland \n  \nHet is een veilige plek waar jij als vrouw\, in eigen taal en uitdrukkingen\, jouw gevoel en ervaringen kan verwoorden.\nWaar gezelligheid gecombineerd wordt met serieuze onderwerpen.\n \nJe krijgt advies over hoe je een eigen weg kan vinden in onze samenleving. Je krijgt tips over hoe je makkelijker de goede zorg kan krijgen.\nJe mag zelf aangeven waar je meer over wil weten\, over jouw rechten en het stellen van eigen grenzen.   \n  \n“De vrouwengroep versterkt de verbinding tussen vrouwen en ze leren om in hun eigen kracht te geloven\, dat kan door herkenning en erkenning.\nVanuit het Steunpunt Zelfregie & Herstel worden trainingen voor vrouwen zoals EHBO geregeld en taalessen Nederlands aangeboden.\nDe vrouwengroep is een eye-opener als het gaat om belangrijke begrippen die door de sociale normen in andere culturen niet bespreekbaar zijn.”  \n  \nBen jij geinteressed? Kom ook! \nDeze groep is bedoeld voor vrouwen met een migratieachtergrond.\nDe groep wordt gehouden op maandag en woensdag. \n\n  \nGoed om te weten!\n\nAan deelname zijn géén kosten verbonden\nAanmelden via: steunpunt@zelfregie-herstel.nl\nTaal: Arabisch\, Nederlands\nAdres: Pratumplaats 3\, 3454 NA Utrecht\nTel: 030 – 236 93 20\n\n 
URL:https://zelfregie-herstel.nl/agenda/vrouwengroep-zelfregie-en-herstel-arabisch-berbers-leidsche-rijn/2025-02-19/
LOCATION:Locatie Utrecht: Leidsche Rijn\, Pratumplaats 3\, Utrecht\, 3454 NA\, Nederland
CATEGORIES:Groepsbijeenkomst,Lotgenotengroep
ATTACH;FMTTYPE=image/png:https://zelfregie-herstel.nl/wp-content/uploads/VrouwenenVerbindingWH-e1764776267336.png
ORGANIZER;CN="Malika":MAILTO:steunpunt@zelfregie-herstel.nl
END:VEVENT
BEGIN:VEVENT
DTSTART;TZID=Europe/Amsterdam:20250220T090000
DTEND;TZID=Europe/Amsterdam:20250220T110000
DTSTAMP:20260425T124817
CREATED:20240807T124435Z
LAST-MODIFIED:20251104T152607Z
UID:10001370-1740042000-1740049200@zelfregie-herstel.nl
SUMMARY:Vrouwen & Verbinding
DESCRIPTION:Inhoud\nSamen met andere vrouwen de dag starten met een ontbijtje!  \nKan jij in je drukke werk en–of gezinsleven wel even een momentje voor jezelf gebruiken? Of kom je graag in contact met andere vrouwen in Zeist? Tijdens de groep vrouwen & verbinding ontbijten en kletsen we samen over verschillende onderwerpen\, zoals gezondheid\, welzijn\, het gezinsleven en nog veel meer. Wij zorgen voor het ontbijt\, de vrouwen voor de onderwerpen.   \n  \nDoelgroep: \nVoor alle vrouwen in Zeist!   \n  \nPraktisch\nIedere vrijdag van 09:00 tot 11:00 uur.   \nOntbijt is inbegrepen  \n  \nLocatie\nDeze workshop vind plaats bij Steunpunt Zelfregie & Herstel Zeist   \n  \nAdres\nLaan van Vollenhove\, ingang portiek 8 van de L-Flat.   \nNavigeren naar: Laan van Vollenhove 1275\, Zeist (NIET aanbellen\, wij zitten links van de ingang)   \n  \nVind je deze workshop interessant? Kom dan ook! \nAan deelname zijn geen kosten verbonden.  \n  \nMocht je onverwachts verhinderd zijn\, horen wij dat graag 48 uur voor de start van de workshop  \n  \nTrainer\nDeze workshop wordt verzorgd door Asmae\, Vrijwilliger bij Steunpunt Zelfregie & Herstel. In samenwerking met Souad Belouchi van Meander Omnium
URL:https://zelfregie-herstel.nl/agenda/vrouwen-en-verbinding/2025-02-20/
LOCATION:Locatie Zeist: Laan van Vollenhove – Portiek 8\, Laan van Vollenhove\, Zeist\, 3706 ER\, Nederland
CATEGORIES:Groepsbijeenkomst,Lotgenotengroep
ATTACH;FMTTYPE=image/jpeg:https://zelfregie-herstel.nl/wp-content/uploads/Vrouwen-verbinding_02-e1730384613934.jpg
END:VEVENT
BEGIN:VEVENT
DTSTART;TZID=Europe/Amsterdam:20250220T100000
DTEND;TZID=Europe/Amsterdam:20250220T120000
DTSTAMP:20260425T124817
CREATED:20240402T193248Z
LAST-MODIFIED:20240402T193248Z
UID:10001156-1740045600-1740052800@zelfregie-herstel.nl
SUMMARY:Ervaringsdeskundigheid Training
DESCRIPTION:Je leert hoe jij jouw persoonlijke ervaringen met (mentale) uitdagingen\, in kan zetten voor anderen. \nIedereen met ervaringen met psycho-sociale problemen en nu stabiel functioneert \nTaal: Nederlands\nAanmelden via: m.jezequel@zelfregie-herstel.nl
URL:https://zelfregie-herstel.nl/agenda/ervaringsdeskundigheid-training/2025-02-20/
CATEGORIES:Groepsbijeenkomst,Training
ATTACH;FMTTYPE=image/jpeg:https://zelfregie-herstel.nl/wp-content/uploads/Ervaringsdeskundige_002-scaled-e1764936604423.jpg
ORGANIZER;CN="Maiwenn":MAILTO:m.jezequel@zelfregie-herstel.nl
END:VEVENT
BEGIN:VEVENT
DTSTART;TZID=Europe/Amsterdam:20250221T103000
DTEND;TZID=Europe/Amsterdam:20250221T120000
DTSTAMP:20260425T124817
CREATED:20240402T194700Z
LAST-MODIFIED:20240402T194710Z
UID:10001227-1740133800-1740139200@zelfregie-herstel.nl
SUMMARY:NOT MY CUP OF TEA
DESCRIPTION:Wat past wel bij jou\, en wat niet. Waar verbaas je je over\, wat ontdek jij over jezelf of de wereld. Ook al zijn we allemaal mens\, we zitten toch anders in elkaar. \nOntmoeting en uitwisseling met elkaar op het gebied van geluiden\, frequenties\, stemmen of iets anders. Het zien van kleuren\, beelden bewegingen of andere “bijzondere ervaringen \nVoor wie: Deze groep voor vrouwen die zich niet perse als gender vrouw typeren om elkaar te ontmoeten. Start met een quote en verschillende soorten thee. \nGroep start vanaf: 8 deelnemers \nTaal: Nederlands \nAanmelden via whatsapp: 0624510365 – Cassandra
URL:https://zelfregie-herstel.nl/agenda/not-my-cup-of-tea/2025-02-21/
CATEGORIES:Groepsbijeenkomst
ATTACH;FMTTYPE=image/jpeg:https://zelfregie-herstel.nl/wp-content/uploads/NOT-MY-CUP-OF-TEA-SMALL-e1764937099512.jpg
END:VEVENT
END:VCALENDAR