BEGIN:VCALENDAR
VERSION:2.0
PRODID:-// Steunpunt Zelfregie &amp; Herstel - ECPv6.15.20//NONSGML v1.0//EN
CALSCALE:GREGORIAN
METHOD:PUBLISH
X-WR-CALNAME: Steunpunt Zelfregie &amp; Herstel
X-ORIGINAL-URL:https://zelfregie-herstel.nl
X-WR-CALDESC:Evenementen voor  Steunpunt Zelfregie &amp; Herstel
REFRESH-INTERVAL;VALUE=DURATION:PT1H
X-Robots-Tag:noindex
X-PUBLISHED-TTL:PT1H
BEGIN:VTIMEZONE
TZID:Europe/Amsterdam
BEGIN:DAYLIGHT
TZOFFSETFROM:+0100
TZOFFSETTO:+0200
TZNAME:CEST
DTSTART:20240331T010000
END:DAYLIGHT
BEGIN:STANDARD
TZOFFSETFROM:+0200
TZOFFSETTO:+0100
TZNAME:CET
DTSTART:20241027T010000
END:STANDARD
BEGIN:DAYLIGHT
TZOFFSETFROM:+0100
TZOFFSETTO:+0200
TZNAME:CEST
DTSTART:20250330T010000
END:DAYLIGHT
BEGIN:STANDARD
TZOFFSETFROM:+0200
TZOFFSETTO:+0100
TZNAME:CET
DTSTART:20251026T010000
END:STANDARD
BEGIN:DAYLIGHT
TZOFFSETFROM:+0100
TZOFFSETTO:+0200
TZNAME:CEST
DTSTART:20260329T010000
END:DAYLIGHT
BEGIN:STANDARD
TZOFFSETFROM:+0200
TZOFFSETTO:+0100
TZNAME:CET
DTSTART:20261025T010000
END:STANDARD
END:VTIMEZONE
BEGIN:VEVENT
DTSTART;TZID=Europe/Amsterdam:20250624T120000
DTEND;TZID=Europe/Amsterdam:20250624T140000
DTSTAMP:20260424T154744
CREATED:20250515T122942Z
LAST-MODIFIED:20250617T131203Z
UID:10001466-1750766400-1750773600@zelfregie-herstel.nl
SUMMARY:Themalunch – Informatie re-integratie en werk
DESCRIPTION:Ben je een tijdje uit het werk geweest en wil je weer aan de slag?\nMaar…\n\n\nWeet je nog niet precies wat voor werk bij je past?\n\n\nTwijfel je waar je moet beginnen met zoeken?\n\n\nBen je benieuwd hoe anderen dit hebben aangepakt?\n\n\nKom dan op maandag 24 juni gezellig lunchen en ontdek wat er allemaal mogelijk is!\nJe krijgt praktische tips én inspirerende verhalen van een gastspreker van de Werkwinkel Utrecht en een ervaringsdeskundige die zelf de stap naar werk weer heeft gezet.\n\nDoelgroep\nDeze bijeenkomst is bedoeld voor inwoners\, collega’s en andere professionals. Iedereen is welkom! \n  \nPraktische informatie\nDatum: Dinsdag 24 juni \nTijd: 12:00 tot 14:00 uur  \nAanmelden via: steunpunt@zelfregie-herstel.nl \n  \nLocatie en adres\nKaatstraat 18\, 3513 BK Utrecht \n\nMeld je aan en kom ook!\nAan deelname zijn geen kosten verbonden. \nMocht je onverwachts verhinderd zijn\, horen wij dat graag 48 uur voor aanvang van de themalunch aan ons weten. \nDeze themalunch is een samenwerking tussen Steunpunt Zelfregie & Herstel en de Werkwinkel Utrecht.
URL:https://zelfregie-herstel.nl/agenda/themalunch-informatie-re-integratie-en-werk/
LOCATION:Locatie Utrecht: Grote ruimte\, Kaatstraat 18\, Utrecht\, 3513 BK\, Nederland
CATEGORIES:Themabijeenkomst
ATTACH;FMTTYPE=image/png:https://zelfregie-herstel.nl/wp-content/uploads/Vragen-scaled.png
END:VEVENT
END:VCALENDAR