BEGIN:VCALENDAR
VERSION:2.0
PRODID:-// Steunpunt Zelfregie &amp; Herstel - ECPv6.15.20//NONSGML v1.0//EN
CALSCALE:GREGORIAN
METHOD:PUBLISH
X-ORIGINAL-URL:https://zelfregie-herstel.nl
X-WR-CALDESC:Evenementen voor  Steunpunt Zelfregie &amp; Herstel
REFRESH-INTERVAL;VALUE=DURATION:PT1H
X-Robots-Tag:noindex
X-PUBLISHED-TTL:PT1H
BEGIN:VTIMEZONE
TZID:Europe/Amsterdam
BEGIN:DAYLIGHT
TZOFFSETFROM:+0100
TZOFFSETTO:+0200
TZNAME:CEST
DTSTART:20240331T010000
END:DAYLIGHT
BEGIN:STANDARD
TZOFFSETFROM:+0200
TZOFFSETTO:+0100
TZNAME:CET
DTSTART:20241027T010000
END:STANDARD
BEGIN:DAYLIGHT
TZOFFSETFROM:+0100
TZOFFSETTO:+0200
TZNAME:CEST
DTSTART:20250330T010000
END:DAYLIGHT
BEGIN:STANDARD
TZOFFSETFROM:+0200
TZOFFSETTO:+0100
TZNAME:CET
DTSTART:20251026T010000
END:STANDARD
BEGIN:DAYLIGHT
TZOFFSETFROM:+0100
TZOFFSETTO:+0200
TZNAME:CEST
DTSTART:20260329T010000
END:DAYLIGHT
BEGIN:STANDARD
TZOFFSETFROM:+0200
TZOFFSETTO:+0100
TZNAME:CET
DTSTART:20261025T010000
END:STANDARD
END:VTIMEZONE
BEGIN:VEVENT
DTSTART;TZID=Europe/Amsterdam:20250721T093000
DTEND;TZID=Europe/Amsterdam:20250721T120000
DTSTAMP:20260425T033541
CREATED:20240402T173328Z
LAST-MODIFIED:20250728T140407Z
UID:10000998-1753090200-1753099200@zelfregie-herstel.nl
SUMMARY:Vrouwen & Verbinding - Arabisch / Berbers (Utrecht\, Pratumplaats)
DESCRIPTION:Over Arabische Vrouwengroep\nElke maandag en woensdag\, onder het genot van een kopje thee/koffie is er een Arabische Vrouwengroep.\nArabisch sprekende vrouwen komen bij elkaar om verschillende onderwerpen te bespreken die hun dagelijks\nbezighouden. Deze onderwerpen kunnen zijn: \n  \n– Stress\n– Depressie\n– Trauma\n– Rouw\n– Eenzaamheid\n– Huizelijk Geweld\n– Identiteit\n– Het veranderen van identiteit\n– Cultuur- en cultuurverschillen\n– Zorgsysteem in Nederland \n  \nHet is een veilige plek waar jij als vrouw\, in eigen taal en uitdrukkingen\, jouw gevoel en ervaringen kan verwoorden.\nWaar gezelligheid gecombineerd wordt met serieuze onderwerpen.\n \nJe krijgt advies over hoe je een eigen weg kan vinden in onze samenleving. Je krijgt tips over hoe je makkelijker de goede zorg kan krijgen.\nJe mag zelf aangeven waar je meer over wil weten\, over jouw rechten en het stellen van eigen grenzen.   \n  \n“De vrouwengroep versterkt de verbinding tussen vrouwen en ze leren om in hun eigen kracht te geloven\, dat kan door herkenning en erkenning.\nVanuit het Steunpunt Zelfregie & Herstel worden trainingen voor vrouwen zoals EHBO geregeld en taalessen Nederlands aangeboden.\nDe vrouwengroep is een eye-opener als het gaat om belangrijke begrippen die door de sociale normen in andere culturen niet bespreekbaar zijn.”  \n  \nBen jij geinteressed? Kom ook! \nDeze groep is bedoeld voor vrouwen met een migratieachtergrond.\nDe groep wordt gehouden op maandag en woensdag. \n\n  \nGoed om te weten!\n\nAan deelname zijn géén kosten verbonden\nAanmelden via: steunpunt@zelfregie-herstel.nl\nTaal: Arabisch\, Nederlands\nAdres: Pratumplaats 3\, 3454 NA Utrecht\nTel: 030 – 236 93 20\n\n 
URL:https://zelfregie-herstel.nl/agenda/vrouwengroep-zelfregie-en-herstel-arabisch-berbers-leidsche-rijn/2025-07-21/
LOCATION:Locatie Utrecht: Leidsche Rijn\, Pratumplaats 3\, Utrecht\, 3454 NA\, Nederland
CATEGORIES:Groepsbijeenkomst,Lotgenotengroep
ATTACH;FMTTYPE=image/png:https://zelfregie-herstel.nl/wp-content/uploads/VrouwenenVerbindingWH-e1764776267336.png
ORGANIZER;CN="Malika":MAILTO:steunpunt@zelfregie-herstel.nl
END:VEVENT
BEGIN:VEVENT
DTSTART;TZID=Europe/Amsterdam:20250722T093000
DTEND;TZID=Europe/Amsterdam:20250722T123000
DTSTAMP:20260425T033541
CREATED:20250611T112729Z
LAST-MODIFIED:20250617T131308Z
UID:10001473-1753176600-1753187400@zelfregie-herstel.nl
SUMMARY:Koffie\, Kletsen & Steekje Los!
DESCRIPTION:Heb je zin in een gezellige ochtend met leuke gesprekken\, een goed kopje koffie én het spel Steekje Los?\nKom dan op dinsdag 22 juli van 9:30 tot 12:30 uur naar Koffie\, Kletsen & Steekje Los!\nWe spelen samen het spel Steekje Los – een laagdrempelige en inspirerende manier om in gesprek te gaan over mentale gezondheid\, jezelf en het leven.\nErvaring met het spel is niet nodig\, gewoon meedoen op jouw manier!\n\n\nGezellig kletsen\n Samen spelen\nOntmoeten en verbinden\n\n  \nPraktische informatie \nLocatie: Steunpunt Zelfregie & Herstel\, Kaatstraat 18\, Utrecht \nDatum: Dinsdag 22 juli \nTijd: 9:30 tot 12:30 uur \nAanmelden: steunpunt@zelfregie-herstel.nl \n  \nBinnenlopen mag ook!\nAanmelden is fijn\, maar spontaan binnenlopen kan altijd.\n  \nLijkt het jou wat? Kom dan ook!\nAan deelname zijn géén kosten verbonden. \n  \n 
URL:https://zelfregie-herstel.nl/agenda/koffie-kletsen-steekje-los/
LOCATION:Locatie Utrecht\, Kaatstraat 18\, Utrecht\, Utrecht\, 3513 BK\, Nederland
ATTACH;FMTTYPE=image/jpeg:https://zelfregie-herstel.nl/wp-content/uploads/IMG_9253-scaled-e1764772366980.jpeg
END:VEVENT
BEGIN:VEVENT
DTSTART;TZID=Europe/Amsterdam:20250722T130000
DTEND;TZID=Europe/Amsterdam:20250722T143000
DTSTAMP:20260425T033541
CREATED:20250603T140502Z
LAST-MODIFIED:20250710T120418Z
UID:10001470-1753189200-1753194600@zelfregie-herstel.nl
SUMMARY:Workshop – Van stress naar sturing
DESCRIPTION:Voel je je soms overspoeld door negatieve gedachten of stress? Heb je moeite om afstand te nemen van doemdenken\, vooral op moeilijke momenten? Je bent niet de enige en je hoeft het niet alleen te doen. In deze workshop leer je hoe je negatieve gedachten kunt herkennen én ombuigen naar helpende\, realistische overtuigingen. Door inzicht te krijgen in hoe jouw gedachten je gevoelens en gedrag beïnvloeden\, ontdek je hoe je weer regie kunt nemen over jouw welzijn.  \n  \nSamen gaan we aan de slag met: \n\nDe basis van de ABC-analyse \n\n\nHet onderscheiden van waarneming\, interpretatie en evaluatie \n\n\nPraktische oefeningen om gedachtenpatronen te doorbreken \n\n\nEen warme en veilige setting waar ruimte is voor herkenning\, uitwisseling en herstel \n\n  \nIedereen is welkom\, ongeacht waar je staat in je proces. Ervaring is niet nodig — nieuwsgierigheid en een open houding zijn genoeg.  \n  \nPraktische informatie  \nMaandag 14 juli\, Dinsdag 15 en 22 juli\n13:00 – 14:30 uur \nSteunpunt Zelfregie & Herstel – Kaatstraat 18\, Utrecht  \nAanmelden: steunpunt@zelfregie-herstel.nl  \n  \nWij zijn het best bereikbaar per fiets\, scooter of OV. Parkeren in de buurt is mogelijk\, maar wel betaald.  \n  \nLijkt het jou wat? Kom dan ook! \nAan deelname zijn géén kosten verbonden.  \nMocht je onverwachts verhinderd zijn\, horen wij dat graag 48 uur voor de start van de workshop.  \n  \nTrainer: \nDe workshop wordt verzorgd door Jamila\, trainer bij Steunpunt Zelfregie & Herstel.  \n 
URL:https://zelfregie-herstel.nl/agenda/worksho-van-stress-naar-sturing/2025-07-22/
LOCATION:Locatie Utrecht\, Kaatstraat 18\, Utrecht\, Utrecht\, 3513 BK\, Nederland
CATEGORIES:Workshop
ATTACH;FMTTYPE=image/jpeg:https://zelfregie-herstel.nl/wp-content/uploads/Stress-scaled-e1764772689954.jpg
END:VEVENT
BEGIN:VEVENT
DTSTART;TZID=Europe/Amsterdam:20250723T093000
DTEND;TZID=Europe/Amsterdam:20250723T120000
DTSTAMP:20260425T033541
CREATED:20240402T173328Z
LAST-MODIFIED:20250728T140407Z
UID:10000999-1753263000-1753272000@zelfregie-herstel.nl
SUMMARY:Vrouwen & Verbinding - Arabisch / Berbers (Utrecht\, Pratumplaats)
DESCRIPTION:Over Arabische Vrouwengroep\nElke maandag en woensdag\, onder het genot van een kopje thee/koffie is er een Arabische Vrouwengroep.\nArabisch sprekende vrouwen komen bij elkaar om verschillende onderwerpen te bespreken die hun dagelijks\nbezighouden. Deze onderwerpen kunnen zijn: \n  \n– Stress\n– Depressie\n– Trauma\n– Rouw\n– Eenzaamheid\n– Huizelijk Geweld\n– Identiteit\n– Het veranderen van identiteit\n– Cultuur- en cultuurverschillen\n– Zorgsysteem in Nederland \n  \nHet is een veilige plek waar jij als vrouw\, in eigen taal en uitdrukkingen\, jouw gevoel en ervaringen kan verwoorden.\nWaar gezelligheid gecombineerd wordt met serieuze onderwerpen.\n \nJe krijgt advies over hoe je een eigen weg kan vinden in onze samenleving. Je krijgt tips over hoe je makkelijker de goede zorg kan krijgen.\nJe mag zelf aangeven waar je meer over wil weten\, over jouw rechten en het stellen van eigen grenzen.   \n  \n“De vrouwengroep versterkt de verbinding tussen vrouwen en ze leren om in hun eigen kracht te geloven\, dat kan door herkenning en erkenning.\nVanuit het Steunpunt Zelfregie & Herstel worden trainingen voor vrouwen zoals EHBO geregeld en taalessen Nederlands aangeboden.\nDe vrouwengroep is een eye-opener als het gaat om belangrijke begrippen die door de sociale normen in andere culturen niet bespreekbaar zijn.”  \n  \nBen jij geinteressed? Kom ook! \nDeze groep is bedoeld voor vrouwen met een migratieachtergrond.\nDe groep wordt gehouden op maandag en woensdag. \n\n  \nGoed om te weten!\n\nAan deelname zijn géén kosten verbonden\nAanmelden via: steunpunt@zelfregie-herstel.nl\nTaal: Arabisch\, Nederlands\nAdres: Pratumplaats 3\, 3454 NA Utrecht\nTel: 030 – 236 93 20\n\n 
URL:https://zelfregie-herstel.nl/agenda/vrouwengroep-zelfregie-en-herstel-arabisch-berbers-leidsche-rijn/2025-07-23/
LOCATION:Locatie Utrecht: Leidsche Rijn\, Pratumplaats 3\, Utrecht\, 3454 NA\, Nederland
CATEGORIES:Groepsbijeenkomst,Lotgenotengroep
ATTACH;FMTTYPE=image/png:https://zelfregie-herstel.nl/wp-content/uploads/VrouwenenVerbindingWH-e1764776267336.png
ORGANIZER;CN="Malika":MAILTO:steunpunt@zelfregie-herstel.nl
END:VEVENT
BEGIN:VEVENT
DTSTART;TZID=Europe/Amsterdam:20250724T090000
DTEND;TZID=Europe/Amsterdam:20250724T110000
DTSTAMP:20260425T033541
CREATED:20240807T124435Z
LAST-MODIFIED:20251104T152607Z
UID:10001392-1753347600-1753354800@zelfregie-herstel.nl
SUMMARY:Vrouwen & Verbinding
DESCRIPTION:Inhoud\nSamen met andere vrouwen de dag starten met een ontbijtje!  \nKan jij in je drukke werk en–of gezinsleven wel even een momentje voor jezelf gebruiken? Of kom je graag in contact met andere vrouwen in Zeist? Tijdens de groep vrouwen & verbinding ontbijten en kletsen we samen over verschillende onderwerpen\, zoals gezondheid\, welzijn\, het gezinsleven en nog veel meer. Wij zorgen voor het ontbijt\, de vrouwen voor de onderwerpen.   \n  \nDoelgroep: \nVoor alle vrouwen in Zeist!   \n  \nPraktisch\nIedere vrijdag van 09:00 tot 11:00 uur.   \nOntbijt is inbegrepen  \n  \nLocatie\nDeze workshop vind plaats bij Steunpunt Zelfregie & Herstel Zeist   \n  \nAdres\nLaan van Vollenhove\, ingang portiek 8 van de L-Flat.   \nNavigeren naar: Laan van Vollenhove 1275\, Zeist (NIET aanbellen\, wij zitten links van de ingang)   \n  \nVind je deze workshop interessant? Kom dan ook! \nAan deelname zijn geen kosten verbonden.  \n  \nMocht je onverwachts verhinderd zijn\, horen wij dat graag 48 uur voor de start van de workshop  \n  \nTrainer\nDeze workshop wordt verzorgd door Asmae\, Vrijwilliger bij Steunpunt Zelfregie & Herstel. In samenwerking met Souad Belouchi van Meander Omnium
URL:https://zelfregie-herstel.nl/agenda/vrouwen-en-verbinding/2025-07-24/
LOCATION:Locatie Zeist: Laan van Vollenhove – Portiek 8\, Laan van Vollenhove\, Zeist\, 3706 ER\, Nederland
CATEGORIES:Groepsbijeenkomst,Lotgenotengroep
ATTACH;FMTTYPE=image/jpeg:https://zelfregie-herstel.nl/wp-content/uploads/Vrouwen-verbinding_02-e1730384613934.jpg
END:VEVENT
BEGIN:VEVENT
DTSTART;TZID=Europe/Amsterdam:20250724T093000
DTEND;TZID=Europe/Amsterdam:20250724T123000
DTSTAMP:20260425T033541
CREATED:20250619T132316Z
LAST-MODIFIED:20250619T153234Z
UID:10001478-1753349400-1753360200@zelfregie-herstel.nl
SUMMARY:Koffie\, kletsen en samen lunchen
DESCRIPTION:Op donderdag 24 juli ben je van harte welkom bij Steunpunt Zelfregie & Herstel voor een gezellige en verbindende ochtend! Vanaf 9:30 uur is er inloop met koffie en thee: een mooie gelegenheid om bij te praten\, anderen te ontmoeten en de dag rustig te beginnen tijdens het Koffie Kletsen. Om 11:00 uur starten we met het samen bereiden van een lekkere lunch\, die we daarna natuurlijk samen opeten.\nDoelgroep\nIedereen is welkom!  \n  \nPraktische informatie\nLocatie: Steunpunt Zelfregie & Herstel\, Kaatstraat 18\, Utrecht \nDonderdag 24 juli \nTijd: Inloop vanaf 9:30 uur | Lunch maken vanaf 11:00 uur \nAanmelden graag vooraf\, zodat we voldoende boodschappen kunnen doen.\nStuur een mailtje naar: steunpunt@zelfregie-herstel.nl \n  \nLijkt het jou wat? Kom dan ook!\nAan deelname zijn géén kosten verbonden.\nMocht je onverwachts verhinderd zijn\, horen wij dat graag 48 uur voor de start van de workshop. \n  \n 
URL:https://zelfregie-herstel.nl/agenda/koffie-kletsen-en-samen-lunchen/
LOCATION:Locatie Utrecht\, Kaatstraat 18\, Utrecht\, Utrecht\, 3513 BK\, Nederland
ATTACH;FMTTYPE=image/jpeg:https://zelfregie-herstel.nl/wp-content/uploads/IMG_8020-scaled-e1750339304242.jpeg
END:VEVENT
BEGIN:VEVENT
DTSTART;TZID=Europe/Amsterdam:20250724T100000
DTEND;TZID=Europe/Amsterdam:20250724T120000
DTSTAMP:20260425T033541
CREATED:20240402T193248Z
LAST-MODIFIED:20240402T193248Z
UID:10001178-1753351200-1753358400@zelfregie-herstel.nl
SUMMARY:Ervaringsdeskundigheid Training
DESCRIPTION:Je leert hoe jij jouw persoonlijke ervaringen met (mentale) uitdagingen\, in kan zetten voor anderen. \nIedereen met ervaringen met psycho-sociale problemen en nu stabiel functioneert \nTaal: Nederlands\nAanmelden via: m.jezequel@zelfregie-herstel.nl
URL:https://zelfregie-herstel.nl/agenda/ervaringsdeskundigheid-training/2025-07-24/
CATEGORIES:Groepsbijeenkomst,Training
ATTACH;FMTTYPE=image/jpeg:https://zelfregie-herstel.nl/wp-content/uploads/Ervaringsdeskundige_002-scaled-e1764936604423.jpg
ORGANIZER;CN="Maiwenn":MAILTO:m.jezequel@zelfregie-herstel.nl
END:VEVENT
BEGIN:VEVENT
DTSTART;TZID=Europe/Amsterdam:20250725T103000
DTEND;TZID=Europe/Amsterdam:20250725T120000
DTSTAMP:20260425T033541
CREATED:20240402T194700Z
LAST-MODIFIED:20240402T194710Z
UID:10001238-1753439400-1753444800@zelfregie-herstel.nl
SUMMARY:NOT MY CUP OF TEA
DESCRIPTION:Wat past wel bij jou\, en wat niet. Waar verbaas je je over\, wat ontdek jij over jezelf of de wereld. Ook al zijn we allemaal mens\, we zitten toch anders in elkaar. \nOntmoeting en uitwisseling met elkaar op het gebied van geluiden\, frequenties\, stemmen of iets anders. Het zien van kleuren\, beelden bewegingen of andere “bijzondere ervaringen \nVoor wie: Deze groep voor vrouwen die zich niet perse als gender vrouw typeren om elkaar te ontmoeten. Start met een quote en verschillende soorten thee. \nGroep start vanaf: 8 deelnemers \nTaal: Nederlands \nAanmelden via whatsapp: 0624510365 – Cassandra
URL:https://zelfregie-herstel.nl/agenda/not-my-cup-of-tea/2025-07-25/
CATEGORIES:Groepsbijeenkomst
ATTACH;FMTTYPE=image/jpeg:https://zelfregie-herstel.nl/wp-content/uploads/NOT-MY-CUP-OF-TEA-SMALL-e1764937099512.jpg
END:VEVENT
END:VCALENDAR