BEGIN:VCALENDAR
VERSION:2.0
PRODID:-// Steunpunt Zelfregie &amp; Herstel - ECPv6.15.20//NONSGML v1.0//EN
CALSCALE:GREGORIAN
METHOD:PUBLISH
X-ORIGINAL-URL:https://zelfregie-herstel.nl
X-WR-CALDESC:Evenementen voor  Steunpunt Zelfregie &amp; Herstel
REFRESH-INTERVAL;VALUE=DURATION:PT1H
X-Robots-Tag:noindex
X-PUBLISHED-TTL:PT1H
BEGIN:VTIMEZONE
TZID:Europe/Amsterdam
BEGIN:DAYLIGHT
TZOFFSETFROM:+0100
TZOFFSETTO:+0200
TZNAME:CEST
DTSTART:20240331T010000
END:DAYLIGHT
BEGIN:STANDARD
TZOFFSETFROM:+0200
TZOFFSETTO:+0100
TZNAME:CET
DTSTART:20241027T010000
END:STANDARD
BEGIN:DAYLIGHT
TZOFFSETFROM:+0100
TZOFFSETTO:+0200
TZNAME:CEST
DTSTART:20250330T010000
END:DAYLIGHT
BEGIN:STANDARD
TZOFFSETFROM:+0200
TZOFFSETTO:+0100
TZNAME:CET
DTSTART:20251026T010000
END:STANDARD
BEGIN:DAYLIGHT
TZOFFSETFROM:+0100
TZOFFSETTO:+0200
TZNAME:CEST
DTSTART:20260329T010000
END:DAYLIGHT
BEGIN:STANDARD
TZOFFSETFROM:+0200
TZOFFSETTO:+0100
TZNAME:CET
DTSTART:20261025T010000
END:STANDARD
END:VTIMEZONE
BEGIN:VEVENT
DTSTART;TZID=Europe/Amsterdam:20251112T100000
DTEND;TZID=Europe/Amsterdam:20251112T123000
DTSTAMP:20260425T053840
CREATED:20250724T101241Z
LAST-MODIFIED:20251014T124937Z
UID:10000876-1762941600-1762950600@zelfregie-herstel.nl
SUMMARY:Creatieve workshop: Herstellen in Kleur
DESCRIPTION:Zin om op een ontspannen en creatieve manier bezig te zijn met herstel? Kom naar onze inspirerende workshop waarin we aan de slag gaan met stoffen\, verf en jouw eigen verhaal. Ervaring is niet nodig – alles draait om expressie\, ontdekken en jezelf de ruimte geven. We starten met kennismaken en een korte instructie. Vervolgens gaan we zelf aan de slag\, ieder met zijn eigen werk en eigen verhaal. Als afsluiter delen we onze eindresultaten met elkaar. Samen creëren we in een veilige sfeer\, met ruimte voor jouw tempo en proces. Of je nu iets tastbaars wil maken of gewoon wilt experimenteren met kleur en textuur\, je bent van harte welkom.\nDoelgroep\nVoor iedereen die op een creatieve manier wil werken aan herstel. \n\n Data & Tijd\nWoensdagochtend 12 november van 10:00 tot 12:30 uur \n  \nLocatie en adres\nDeze creatieve workshop wordt gegeven bij Steunpunt Zelfregie & Herstel in Utrecht. \nKaatstraat 18\, 3513 BK Utrecht \nWil je meer weten of je aanmelden?  \nMail naar steunpunt@zelfregie-herstel.nl \nWe kijken ernaar uit je te ontmoeten!  \n  \nAan deelname zitten geen kosten verbonden.
URL:https://zelfregie-herstel.nl/agenda/creatieve-workshop-herstellen-in-kleur/2025-11-12/
CATEGORIES:Creatieve Activiteiten,Workshop
ATTACH;FMTTYPE=image/jpeg:https://zelfregie-herstel.nl/wp-content/uploads/friends-putting-their-hands-together-in-a-sign-of-2025-01-10-00-19-06-utc-scaled-e1764771111843.jpg
END:VEVENT
END:VCALENDAR