BEGIN:VCALENDAR
VERSION:2.0
PRODID:-// Steunpunt Zelfregie &amp; Herstel - ECPv6.15.20//NONSGML v1.0//EN
CALSCALE:GREGORIAN
METHOD:PUBLISH
X-WR-CALNAME: Steunpunt Zelfregie &amp; Herstel
X-ORIGINAL-URL:https://zelfregie-herstel.nl
X-WR-CALDESC:Evenementen voor  Steunpunt Zelfregie &amp; Herstel
REFRESH-INTERVAL;VALUE=DURATION:PT1H
X-Robots-Tag:noindex
X-PUBLISHED-TTL:PT1H
BEGIN:VTIMEZONE
TZID:Europe/Amsterdam
BEGIN:DAYLIGHT
TZOFFSETFROM:+0100
TZOFFSETTO:+0200
TZNAME:CEST
DTSTART:20250330T010000
END:DAYLIGHT
BEGIN:STANDARD
TZOFFSETFROM:+0200
TZOFFSETTO:+0100
TZNAME:CET
DTSTART:20251026T010000
END:STANDARD
BEGIN:DAYLIGHT
TZOFFSETFROM:+0100
TZOFFSETTO:+0200
TZNAME:CEST
DTSTART:20260329T010000
END:DAYLIGHT
BEGIN:STANDARD
TZOFFSETFROM:+0200
TZOFFSETTO:+0100
TZNAME:CET
DTSTART:20261025T010000
END:STANDARD
BEGIN:DAYLIGHT
TZOFFSETFROM:+0100
TZOFFSETTO:+0200
TZNAME:CEST
DTSTART:20270328T010000
END:DAYLIGHT
BEGIN:STANDARD
TZOFFSETFROM:+0200
TZOFFSETTO:+0100
TZNAME:CET
DTSTART:20271031T010000
END:STANDARD
END:VTIMEZONE
BEGIN:VEVENT
DTSTART;TZID=Europe/Amsterdam:20260113T120000
DTEND;TZID=Europe/Amsterdam:20260113T140000
DTSTAMP:20260421T213305
CREATED:20251119T090947Z
LAST-MODIFIED:20260107T125541Z
UID:10001566-1768305600-1768312800@zelfregie-herstel.nl
SUMMARY:Themalunch: Blue Monday
DESCRIPTION:Wij willen iedereen helpen om ‘Blue Monday’ zo goed mogelijk door te komen. Daarom organiseren wij een gezellige\, leerzame kleurrijke themalunch. Trek iets blauws aan\, kom langs en geniet samen van een door ons verzorgde lekkere lunch en een flinke dosis positiviteit.\n  \nDoelgroep\nDeze bijeenkomst is bedoeld voor inwoners\, collega’s en andere professionals. Iedereen is welkom!  \n  \nPraktische informatie\nDatum: Dinsdag 13 januari 2026 \nTijd: 12:00 tot 14:00 uur \nDresscode: Blauw \nAanmelden is verplicht en doe je via: steunpunt@zelfregie-herstel.nl \n Heb je een allergie of dieetwens\, laat dat ook in je aanmelding weten\, zodat wij hier rekening mee kunnen houden in het verzorgen van de lunch. \n  \nLocatie en adres\nKaatstraat 18\, 3513 BK Utrecht \n\nMeld je aan en kom ook!\nAan deelname zijn geen kosten verbonden. \nMocht je onverwachts verhinderd zijn\, horen wij dat graag 48 uur voor aanvang van de themalunch aan ons weten.
URL:https://zelfregie-herstel.nl/agenda/themalunch-blue-monday/
CATEGORIES:Themabijeenkomst
ATTACH;FMTTYPE=image/png:https://zelfregie-herstel.nl/wp-content/uploads/Tekengebied-34-e1763543617879.png
END:VEVENT
END:VCALENDAR