BEGIN:VCALENDAR
VERSION:2.0
PRODID:-// Steunpunt Zelfregie &amp; Herstel - ECPv6.15.20//NONSGML v1.0//EN
CALSCALE:GREGORIAN
METHOD:PUBLISH
X-WR-CALNAME: Steunpunt Zelfregie &amp; Herstel
X-ORIGINAL-URL:https://zelfregie-herstel.nl
X-WR-CALDESC:Evenementen voor  Steunpunt Zelfregie &amp; Herstel
REFRESH-INTERVAL;VALUE=DURATION:PT1H
X-Robots-Tag:noindex
X-PUBLISHED-TTL:PT1H
BEGIN:VTIMEZONE
TZID:Europe/Amsterdam
BEGIN:DAYLIGHT
TZOFFSETFROM:+0100
TZOFFSETTO:+0200
TZNAME:CEST
DTSTART:20250330T010000
END:DAYLIGHT
BEGIN:STANDARD
TZOFFSETFROM:+0200
TZOFFSETTO:+0100
TZNAME:CET
DTSTART:20251026T010000
END:STANDARD
BEGIN:DAYLIGHT
TZOFFSETFROM:+0100
TZOFFSETTO:+0200
TZNAME:CEST
DTSTART:20260329T010000
END:DAYLIGHT
BEGIN:STANDARD
TZOFFSETFROM:+0200
TZOFFSETTO:+0100
TZNAME:CET
DTSTART:20261025T010000
END:STANDARD
BEGIN:DAYLIGHT
TZOFFSETFROM:+0100
TZOFFSETTO:+0200
TZNAME:CEST
DTSTART:20270328T010000
END:DAYLIGHT
BEGIN:STANDARD
TZOFFSETFROM:+0200
TZOFFSETTO:+0100
TZNAME:CET
DTSTART:20271031T010000
END:STANDARD
BEGIN:DAYLIGHT
TZOFFSETFROM:+0100
TZOFFSETTO:+0200
TZNAME:CEST
DTSTART:20280326T010000
END:DAYLIGHT
BEGIN:STANDARD
TZOFFSETFROM:+0200
TZOFFSETTO:+0100
TZNAME:CET
DTSTART:20281029T010000
END:STANDARD
END:VTIMEZONE
BEGIN:VEVENT
DTSTART;VALUE=DATE:20260101
DTEND;VALUE=DATE:20270102
DTSTAMP:20260421T124531
CREATED:20251125T125059Z
LAST-MODIFIED:20260414T075618Z
UID:10001586-1767225600-1798847999@zelfregie-herstel.nl
SUMMARY:Koffie en Kletsen
DESCRIPTION:Inhoud\nLoop eens binnen bij een van onze locaties! \nWil je praten over onderwerpen zoals stress\, burn-out\, schulden of eenzaamheid? Of wil je gewoon je verhaal kwijt? Je bent bij ons van harte welkom. Kom langs voor een kopje koffie of thee\, maak een praatje en ontdek onze activiteiten. \n  \nPraktische informatie\n  \n\n\n\n\nLocaties Utrecht\nT. +31 6 10 42 34 35\n \nKaatstraat 18\n3513 BK Utrecht\nMa t/m woe: 9.30 – 12.30 uur \nLocatie Kanaleneiland\nBernadottelaan 6\,\n3527 GB\, Utrecht\nMa: 14:00-16:00 uur\nWo: 10:30-12:30 uur \n  \n\n\n\n\n\n\n\n\nLocatie Zeist\nLaan van Vollenhove\n3706 ER Zeist\, L-Flat / Portiek 8\nDi t/m do: 10.00 – 12.00 uur\nM. 06 – 13 61 67 91 \n  \n\n\n\n\n\n\n\n\nLocatie de Bilt\n \nInloopspreekuur MENS\nHessenweg 121\, 3731 JM De Bilt\nElke donderdagmiddag\n13:00 – 15:00 uur\nT. +31 6 10 42 34 35 \n\n 
URL:https://zelfregie-herstel.nl/agenda/koffie-en-kletsen/
LOCATION:Locatie Utrecht\, Kaatstraat 18\, Utrecht\, Utrecht\, 3513 BK\, Nederland
CATEGORIES:Inloopdag
ATTACH;FMTTYPE=image/jpeg:https://zelfregie-herstel.nl/wp-content/uploads/koffie_02-scaled-e1764926862136.jpg
END:VEVENT
BEGIN:VEVENT
DTSTART;TZID=Europe/Amsterdam:20260420T100000
DTEND;TZID=Europe/Amsterdam:20260420T120000
DTSTAMP:20260421T124531
CREATED:20260217T143806Z
LAST-MODIFIED:20260325T090756Z
UID:10001652-1776679200-1776686400@zelfregie-herstel.nl
SUMMARY:Training Rouw en Verlies
DESCRIPTION:Stilstaan\, voelen en weer verder kunnen.. Iedereen krijgt vroeg of laat te maken met verlies van een dierbare\, gezondheid\, werk of een betekenisvolle levensfase. Rouw is een persoonlijke reis die soms zwaar\, verwarrend of eenzaam kan voelen. Deze training helpt je om ruimte te geven aan jouw verhaal\, gevoelens te begrijpen en stap voor stap weer kracht te vinden. \n  \nIn een veilige groep\, met aandacht voor vertrouwen en verbinding\, ontdek je hoe rouw werkt en wat het voor jou betekent. Door creatieve werkvormen\, ontspanningsoefeningen en gesprekken met anderen leer je jouw verlies te verweven in je leven zonder te hoeven “loslaten” wat belangrijk is. De training bestaat uit 6 bijeenkomsten\, waarin we thema’s als bijv. je rugzak\, veerkracht en toekomst verkennen. Je krijgt handvatten om op een gezonde manier met rouw om te gaan en steun te vinden bij jezelf en anderen. Wil je op een milde\, ervaringsgerichte manier leren omgaan met verlies? \n  \nMeld je dan aan voor de training Rouw en Verlies bij Steunpunt Zelfregie en Herstel. \n  \n  \nDoelgroep\nVoor iedereen die op een ervaringsgerichte manier wil leren omgaan met verlies. \n  \nPraktische informatie\nDe training rouw en verlies zal plaatsvinden bij Steunpunt Zelfregie & Herstel in Utrecht. De training bestaat uit 4 bijeenkomsten op de maandag ochtend van 10:00 – 12:00 uur. \n\nMaandag 13 april\nMaandag 20 april\nMaandag 4 mei\nMaandag 11 mei\n\n  \nLocatie en adres\nDe training  “Rouw en Verlies” zal plaatsvinden bij Steunpunt Zelfregie & Herstel in Utrecht. \nKaatstraat 18\, 3513 BJ Utrecht \nWij zijn het best bereikbaar per fiets\, scooter of OV. Parkeren in de buurt is mogelijk\, maar wel betaald. \n  \nVind je deze workshop interessant? Kom dan ook!\nMeld je aan via: steunpunt@zelfregie-herstel.nl. Aan deelname zijn geen kosten verbonden. \nMocht je onverwachts verhinderd zijn\, horen wij dat graag 48 uur vóór de start van de workshop. \n  \nTrainer\nDeze training wordt verzorgd door Mine\, ervaringsdeskundige en trainer bij Steunpunt Zelfregie & Herstel.
URL:https://zelfregie-herstel.nl/agenda/training-rouw-en-verlies-2/2026-04-20/
LOCATION:Locatie Utrecht\, Kaatstraat 18\, Utrecht\, Utrecht\, 3513 BK\, Nederland
CATEGORIES:Training
ATTACH;FMTTYPE=image/jpeg:https://zelfregie-herstel.nl/wp-content/uploads/upset-woman-at-psychological-session-2025-03-15-15-23-32-utc-1-scaled-e1764769366481.jpg
END:VEVENT
BEGIN:VEVENT
DTSTART;TZID=Europe/Amsterdam:20260420T100000
DTEND;TZID=Europe/Amsterdam:20260420T120000
DTSTAMP:20260421T124531
CREATED:20260407T094929Z
LAST-MODIFIED:20260407T095526Z
UID:10002341-1776679200-1776686400@zelfregie-herstel.nl
SUMMARY:Vrouwen en Verbinding – Turks
DESCRIPTION:Elke maandag\, onder het genot van een kopje thee/koffie is er een Turkse Vrouwengroep.\nTurkstalige vrouwen komen bij elkaar om verschillende onderwerpen te bespreken die hun dagelijks bezighouden. Deze onderwerpen kunnen zijn: \n  \n– Stress\n– Depressie\n– Trauma\n– Rouw\n– Eenzaamheid\n– Huiselijk Geweld\n– Identiteit\n– Het veranderen van identiteit\n– Cultuur- en cultuurverschillen\n– Zorgsysteem in Nederland \n  \nHet is een veilige plek waar jij als vrouw\, in eigen taal en uitdrukkingen\, jouw gevoel en ervaringen kan verwoorden. Waar gezelligheid gecombineerd wordt met serieuze onderwerpen. Je krijgt advies over hoe je een eigen weg kan vinden in onze samenleving. Je krijgt tips over hoe je makkelijker de goede zorg kan krijgen. Je mag zelf aangeven waar je meer over wil weten\, over jouw rechten en het stellen van eigen grenzen. \n  \n“De vrouwengroep versterkt de verbinding tussen vrouwen en ze leren om in hun eigen kracht te geloven\, dat kan door herkenning en erkenning. Vanuit het Steunpunt Zelfregie & Herstel worden trainingen voor vrouwen zoals EHBO geregeld en taalessen Nederlands aangeboden.\nDe vrouwengroep is een eye-opener als het gaat om belangrijke begrippen die door de sociale normen in andere culturen niet bespreekbaar zijn.”  \n  \nDoelgroep \nDeze groep is bedoeld voor vrouwen met een Turkse achtergrond. \n  \nPraktische informatie \nDe groep komt bij elkaar op de maandag ochtend van 10:00 tot 12:00 uur. \nIn deze groep wordt Turks gesproken. \n  \nLocatie en Adres \nDeze groep wordt gefaciliteerd bij Steunpunt Zelfregie & Herstel in Utrecht. \nKaatstraat 18\, 3513 BK Utrecht. \n  \nBen jij geïnteresseerd? Kom ook! \nAan deelname zijn géén kosten verbonden \nAanmelden via: steunpunt@zelfregie-herstel.nl \n  \nTrainers: Hulya
URL:https://zelfregie-herstel.nl/agenda/vrouwen-en-verbinding-turks-2/2026-04-20/
LOCATION:Locatie Utrecht\, Kaatstraat 18\, Utrecht\, Utrecht\, 3513 BK\, Nederland
CATEGORIES:Groepsbijeenkomst,Themabijeenkomst
ATTACH;FMTTYPE=image/png:https://zelfregie-herstel.nl/wp-content/uploads/VrouwenenVerbindingWH-e1764776267336.png
ORGANIZER;CN="Hulya":MAILTO:steunpunt@zelfregie-herstel.nl
END:VEVENT
BEGIN:VEVENT
DTSTART;TZID=Europe/Amsterdam:20260420T133000
DTEND;TZID=Europe/Amsterdam:20260420T160000
DTSTAMP:20260421T124531
CREATED:20260224T134242Z
LAST-MODIFIED:20260325T092238Z
UID:10001674-1776691800-1776700800@zelfregie-herstel.nl
SUMMARY:Werken met eigen ervaring
DESCRIPTION:Inhoud \nWil je leren hoe je jouw eigen ervaringen kunt inzetten om anderen te ondersteunen in hun herstel? \nTijdens de training werken met eigen ervaring ontdek je de verschillende waarden die ervaringsdeskundigheid vormen en wat ervaringsdeskundigheid precies inhoudt. Je leert hoe je jouw eigen ervaringen met psychische ontwrichting kunt inzetten om anderen te helpen en hoe je jouw herstelverhaal en ervaringsdeskundigheid kunt vormgeven. Samen met je groepsleden deel je vervolgens je unieke herstelverhalen\, waarin jullie ongetwijfeld herkenning zullen vinden. \n  \nDoelgroep \nVoor iedereen die wil leren werken met zijn of haar eigen ervaring \nPraktisch \nDeze training bestaat uit 10 bijeenkomsten\, het is voor de training belangrijk dat je alle 10 de bijeenkomsten aanwezig kan zijn. De training vindt op de maandagmiddag plaats van 13: 30 tot 16:00 \n  \nDe 10 bijeenkomsten zijn op de volgende data: \n–         Maandag 13 april \n–         Maandag 20 april \n–         Maandag 4 mei \n–         Maandag 11 mei \n–         Maandag 18 mei \n–         Maandag 1 juni \n–         Maandag 8 juni \n–         Maandag 15 juni \n–         Maandag 22 juni \n–         Maandag 29 juni \n  \n(Maandag 27 april en Maandag 25 mei geen training wegens Koningsdag en Pinksteren) \n  \nLocatie \nDe training wordt gegeven op de locatie van Steunpunt Zelfregie & Herstel in Utrecht \nAdres \nKaatstraat 18\, 3513 BK Utrecht \n  \nVind je deze training interessant? Kom dan ook! \nMeld je aan via: steunpunt@zelfregie-herstel.nl \nAan deelname zijn geen kosten verbonden. \nMocht je onverwachts verhinderd zijn\, horen wij dat graag 48 uur voor de start van de training. \n  \nTrainer \nDeze training wordt gegeven door Doreen\, ervaringsdeskundige bij Steunpunt Zelfregie & Herstel
URL:https://zelfregie-herstel.nl/agenda/training-werken-met-eigen-ervaring/2026-04-20/
LOCATION:Locatie Utrecht\, Kaatstraat 18\, Utrecht\, Utrecht\, 3513 BK\, Nederland
CATEGORIES:Training
ATTACH;FMTTYPE=image/jpeg:https://zelfregie-herstel.nl/wp-content/uploads/wandelactiviteit_met-ervaringsdeskundige-scaled-e1764771590492.jpg
ORGANIZER;CN="Doreen":MAILTO:d.kapaan@zelfregie-herstel.nl
END:VEVENT
BEGIN:VEVENT
DTSTART;TZID=Europe/Amsterdam:20260422T120000
DTEND;TZID=Europe/Amsterdam:20260422T160000
DTSTAMP:20260421T124531
CREATED:20240806T122023Z
LAST-MODIFIED:20260401T101719Z
UID:10002073-1776859200-1776873600@zelfregie-herstel.nl
SUMMARY:Gouden Mannen
DESCRIPTION:Inhoud\nBij Gouden Mannen organiseren leuke activiteiten voor mannen van 40+ die goed voor zichzelf willen zorgen en positief naar de toekomst willen kijken. We leren met en van elkaar over verschillende culturen\, communicatie en digitale vaardigheden. \nHet programma van Gouden Mannen duurt 60 weken en geeft deelnemers genoeg tijd om elkaar te leren kennen\, nieuwe vaardigheden te verkrijgen en te groeien als persoon. Het programma bestaat uit 3 verschillende fases: \n\nFase 1: Verbinding met jezelf\nFase 2: Verbinding met je omgeving\nFase 3: Verbinding met de wereld\n\n\nIedere woensdag starten we om 12.00 uur met een gezamenlijke lunch om daarna in drie verschillende groepen aan de slag te gaan. \n  \nDoelgroep\nAlle mannen van 40+ die opzoek zijn naar meer contact\, sociale en digitale vaardigheden willen ontwikkelen. \n  \n  \nVind je deze training interessant? Kom dan ook! \nAan deelname zijn geen kosten verbonden.  \n\n  \nLocatie\nDeze training bieden we aan bij het Steunpunt Zelfregie en Herstel in Utrecht.  \n\n  \nPraktische informatie\n\nIedere woensdagmiddag \nTijd: 12:00 – 16:00 uur\, inclusief lekkere lunch\nAdres: Kaatstraat 18\, 3513BK te Utrecht  \n\n  \n2 september 2026 begint een nieuwe groep Gouden Mannen. Interesse? Meld je daarvoor aan bij Hasan Kaplan. \n  \n\nProgramma duurt 60 weken\nAan deelname zijn géén kosten verbonden\nTussendoor instromen is mogelijk\nAanmelding via de mail: steunpunt@zelfregie-herstel.nl t.a.v. coördinator Hasan Kaplan \nLiever telefonisch contact? Tel. 06-48 11 47 23\n\nMocht je onverwachts toch verhinderd zijn\, horen wij dat graag 48 uur voor de start van de training. 
URL:https://zelfregie-herstel.nl/agenda/gouden-mannen/2026-04-22/
LOCATION:Locatie Utrecht\, Kaatstraat 18\, Utrecht\, Utrecht\, 3513 BK\, Nederland
CATEGORIES:Groepsbijeenkomst
ATTACH;FMTTYPE=image/jpeg:https://zelfregie-herstel.nl/wp-content/uploads/Gouden-Mannen-e1764941892504.jpg
ORGANIZER;CN="Hasan":MAILTO:h.kaplan@zelfregie-herstel.nl
END:VEVENT
BEGIN:VEVENT
DTSTART;TZID=Europe/Amsterdam:20260422T190000
DTEND;TZID=Europe/Amsterdam:20260422T210000
DTSTAMP:20260421T124531
CREATED:20260113T135201Z
LAST-MODIFIED:20260224T080127Z
UID:10001621-1776884400-1776891600@zelfregie-herstel.nl
SUMMARY:Groep adoptie en herkenning
DESCRIPTION:Inhoud  \nDeze groep biedt een veilige en open ruimte voor internationaal geadopteerden om ervaringen en gevoelens rondom adoptie met elkaar te delen. Tijdens de bijeenkomsten is er aandacht voor thema’s die vaak een rol spelen in het leven van geadopteerden\, zoals identiteit\, rouw en verlies\, cultuur\, afkomst en racisme.  \nDe groep is opgezet als een peer support groep. Dat betekent dat we elkaar ontmoeten als gelijkgestemden: iedereen deelt vanuit eigen ervaring en er is ruimte voor luisteren\, herkenning en verschillende perspectieven. Het is geen therapiegroep en er wordt geen professionele behandeling geboden.  \nWe moedigen deelnemers aan om goed bij zichzelf te blijven en te voelen of deelname op dit moment bij hen past. Omdat gesprekken soms emotioneel kunnen zijn\, is het fijn als je voldoende draagkracht ervaart om deel te nemen\, voor jezelf én voor de groep.  \nDe bijeenkomsten worden gefaciliteerd door Jorgie Hendriks\, master student psychologie en zelf internationaal geadopteerd uit de Filipijnen. Vanuit zowel persoonlijke ervaring als academische achtergrond begeleidt zij het groepsproces met zorg en aandacht.  \n  \nDoelgroep  \nVoor alle internationaal geadopteerden uit Nederland boven 18 jaar.  \n  \nLocatie  \nDe fysieke bijeenkomsten van deze training vinden plaats bij Steunpunt Zelfregie & Herstel op onze locatie: Kaatstraat 18\, 3513 BK Utrecht  \n  \nPraktisch  \nDe bijeenkomst zal plaatsvinden op de volgende data:  \nWoensdag 25 februari 2026\, 19.00 tot 21.00 uur.  \nWoensdag 11 maart 2026\, 19.00 tot 21.00 uur.  \nWoensdag 25 maart 2026\, 19.00 tot 21.00 uur.  \nWoensdag 8 april 2026\, 19.00 tot 21.00 uur.  \nWoensdag 22 april 2026\, 19.00 tot 21.00 uur.  \nWoensdag 6 mei 2026\, 19.00 tot 21.00 uur.  \nWoensdag 20 mei 2026\, 19.00 tot 21.00 uur.  \nWoensdag 3 juni 2026\, 19.00 tot 21.00 uur.  \n  \nWe houden de groep bewust klein (maximaal 10 deelnemers)\, zodat er voldoende ruimte is voor ieders verhaal. Bij meer aanmeldingen werken we met een wachtlijst.  \n  \nAan deelname zijn geen kosten verbonden  \n  \nHet is fijn als je bij alle bijeenkomsten aanwezig bent\, maar mocht je onverwachts verhinderd zijn\, horen wij dat graag 48 uur voor de start van de groep  \n  \n  \nAanmelden  \nVoor vragen en aanmeldingen graag contact opnemen met:  \nadoptieenherkenning@gmail.com 
URL:https://zelfregie-herstel.nl/agenda/groep-adoptie-en-herkenning/2026-04-22/
LOCATION:Locatie Utrecht\, Kaatstraat 18\, Utrecht\, Utrecht\, 3513 BK\, Nederland
CATEGORIES:Groepsbijeenkomst,Lotgenotengroep,Themabijeenkomst
ATTACH;FMTTYPE=image/jpeg:https://zelfregie-herstel.nl/wp-content/uploads/adoptie-herkenning-scaled.jpg
END:VEVENT
BEGIN:VEVENT
DTSTART;TZID=Europe/Amsterdam:20260423T133000
DTEND;TZID=Europe/Amsterdam:20260423T160000
DTSTAMP:20260421T124531
CREATED:20260217T151429Z
LAST-MODIFIED:20260303T130300Z
UID:10001660-1776951000-1776960000@zelfregie-herstel.nl
SUMMARY:Training Positieve Blik
DESCRIPTION:Inhoud \nTijdens deze bijeenkomsten train je jouw mentale focus om nieuwe woorden te vinden om naar de dagelijkse realiteit te kijken. In plaats van de focus op problemen\, oefenen we met het herkennen van lichtpunten en hulpbronnen die vaak onopgemerkt blijven. We verkennen praktische technieken om bewust ruimte te maken voor momenten van voldoening en innerlijke rust. Ook leer je wat er allemaal mogelijk is aan ondersteuning zonder verwijzing en/of wachtlijsten. \nDeze training is geen pleidooi voor alleen maar optimisme. Het is een eenvoudige manier om je jouw mentale weerbaarheid te versterken. Door anders naar uitdagingen te kijken\, leer je beter om te gaan met stress en meer aandacht te hebben voor wat goed gaat. Een Positieve Blik doet je goed! \n  \nDoelgroep \nVoor iedereen die behoefte heeft aan wat positiviteit. \n  \nPraktische informatie  \nDeze training bestaat uit 5 bijeenkomsten van elk 2\,5 uur van 13:30 – 16:00. \nDaarnaast zijn er ook opdrachten die je thuis kan doen. \nDe training is op de volgende data: \n\nDonderdag 2 april\nDonderdag 9 april\nDonderdag 16 april\nDonderdag 23 april\nDonderdag 30 april\n\n  \nLocatie en adres \nDeze training vind plaats bij Steunpunt Zelfregie & Herstel in Utrecht\, Kaatstraat 18 3513 BK Utrecht \n  \nAanmelden: \nOm je aan te melden kan je een mail sturen naar steunpunt@zelfregie-herstel.nl \nHeb je vragen over de training of wil je graag overleggen of de training bij je past?  Stuur dan een mailtje naar a.jacobs@zelfregie-herstel.nl \n  \nVind je deze Training interessant? Kom dan ook! \nAan deelname zijn geen kosten verbonden! \nMocht je onverwachts verhinderd zijn\, horen wij dat graag 48 uur vóór de start van de workshop. \n  \nDe training wordt verzorgd door Anne Lotte Jacobs\, Trainer-Psycholoog en Ervaringsdeskundige.
URL:https://zelfregie-herstel.nl/agenda/training-positieve-blik-3/2026-04-23/
LOCATION:Locatie Utrecht\, Kaatstraat 18\, Utrecht\, Utrecht\, 3513 BK\, Nederland
CATEGORIES:Cursussen,Training
ATTACH;FMTTYPE=image/jpeg:https://zelfregie-herstel.nl/wp-content/uploads/instabericht-45-Facebook-bericht-e1764768679780.jpg
END:VEVENT
BEGIN:VEVENT
DTSTART;TZID=Europe/Amsterdam:20260423T140000
DTEND;TZID=Europe/Amsterdam:20260423T160000
DTSTAMP:20260421T124531
CREATED:20260217T132142Z
LAST-MODIFIED:20260414T065649Z
UID:10001631-1776952800-1776960000@zelfregie-herstel.nl
SUMMARY:Schrijven naar Herstel: een schrijfatelier over kracht\, kwetsbaarheid en verbinding
DESCRIPTION:Let op: Deze activiteit zit vol \nSchrijven naar herstel \n  \nSchrijven kan helpen bij herstel. Het gaat niet om een mooi verhaal\, maar om ruimte maken voor wat je voelt en denkt. Door te schrijven neem je de tijd. Je luistert beter naar jezelf en geeft woorden aan ervaringen die soms moeilijk te zeggen zijn. Schrijven kan helpen om overzicht te krijgen\, betekenis te vinden en vriendelijker naar jezelf te kijken. \n  \nIn dit schrijfatelier doen we verschillende oefeningen. We gebruiken schrijven\, meditatie\, visualisatie en aandacht voor het lichaam. We schrijven niet alleen met ons hoofd\, maar ook vanuit gevoel\, zintuigen en lichamelijke signalen. Door even stil te staan\, rustig te ademen en te voelen\, ontstaat een andere manier van schrijven: eerlijk\, zacht en soms verrassend. \n  \nEen belangrijke inspiratie is het gedicht De Herberg van Rumi. In dit gedicht zijn alle emoties welkom\, zoals blijdschap\, verdriet\, boosheid en angst. Ze worden gezien als gasten die even langskomen. Schrijven vanuit de herberg betekent dat alles er mag zijn. Je hoeft niets op te lossen of weg te duwen. Door te accepteren wat er is\, kan er beweging en herstel ontstaan. \n  \nDit atelier is een veilige plek om te oefenen met openheid\, nieuwsgierigheid en zelfcompassie. Je hoeft geen ervaring met schrijven te hebben. Het gaat niet om goed of fout\, maar om aanwezig zijn. Schrijven als een manier om goed voor jezelf te zorgen. \n  \nPraktische informatie \nDeze training bevat 4 bijeenkomsten van ieder 2 uur. \nKan je een of meerdere keren niet? Geen probleem je kan ook losse bijeenkomsten volgen\, maar meld je wel even aan 😊 \nDe bijeenkomsten zijn op donderdag van 14:00 – 16:00 \n\nDonderdag 16 april\nDonderdag 23 april\nDonderdag 30 april\nDonderdag 7 mei\n\n  \nLocatie en adres \nHet schrijfatelier vind plaats bij Steunpunt Zelfregie en Herstel locatie Utrecht \nKaatstraat 18\, 3513BK Utrecht \nWij zijn het best bereikbaar per fiets\, scooter of OV. Parkeren in de buurt is mogelijk\, maar wel betaald.  \n  \nVind je deze workshop interessant? Kom dan ook! \nAan deelname zijn geen kosten verbonden. \nMeld je aan door een mail te sturen naar steunpunt@zelfregie-herstel.nl \nMocht je onverwachts verhinderd zijn\, horen wij dat graag 48 uur vóór de start van de workshop.
URL:https://zelfregie-herstel.nl/agenda/schrijven-naar-herstel-2/2026-04-23/
LOCATION:Locatie Utrecht\, Kaatstraat 18\, Utrecht\, Utrecht\, 3513 BK\, Nederland
CATEGORIES:Creatieve Activiteiten,Cursussen,Training
ATTACH;FMTTYPE=image/png:https://zelfregie-herstel.nl/wp-content/uploads/Schrijfatelier-e1764775845131.png
END:VEVENT
END:VCALENDAR